{"text_format":"1","workbook":"xlsx","n_sheets":15,"sheets":["Participantes","1ª Partida","2ª Partida","3ª Partida","4ª Partida","5ª Partida","Clasificación","Suizo 32","Suizo 16","Suizo 8","Directa 32","Directa 16","Directa 8","Clasificación Final","Hojas Enfrentamientos"],"not_rendered":{"charts":0,"images":43,"macros":1,"external_links":0,"defined_names":56,"comments":0,"pivot_tables":0},"unopened":[],"bounds":{"document_bytes":16777216,"sheet_cells":100000,"rows_first":2000,"rows_last":500,"rows_between":2000,"halvings":0,"cell_chars":16384,"cell_head_chars":4096},"cells_cut":0,"cells_raw":0,"read":"whole","date_system":"1900"}

{"sheet":"Participantes","index":0,"n_rows":69,"n_cols":17,"rows_kept":69,"cut":false,"hidden":false,"merged":[[8,6,8,7],[8,8,8,9],[8,10,8,11],[5,6,6,7],[4,6,4,8],[0,0,0,3],[3,0,3,3],[2,0,2,2],[1,0,1,3],[0,6,0,9],[1,6,2,8],[1,9,2,9],[3,6,3,8]]}
["NOMBRE CAMPEONATO",null,null,null,null,null,"Parámetros",null,null,null,null,null,32,3,null,null,13]
["MODALIDAD",null,null,null,null,null,"Nº de Participantes",null,null,{"$f":"COUNTA($B$6:$B$69)","v":0},null,null,16,4,null,null,12]
[null,null,null,null,null,null,null,null,null,null,null,null,8,5,null,null,11]
["Lista de Equipos Participantes",null,null,null,null,null,"Nº de Clasificados",null,null,32,null,null,null,null,null,null,10]
["N°","Equipo","Club","Número \nSorteo","Aléatoire",null,"Nº Partidas",null,null,5,null,null,null,null,null,null,9]
[1,null,null,null,null,null,"Eliminatorias",null,null,null,null,null,null,null,null,null,8]
[2,null,null,null,null,null,null,null,null,null,null,null,1,null,null,null,7]
[3,null,null,null,null,null,null,null,null,null,null,null,null,null,null,null,6]
[4,null,null,null,null,null,"3ª Partidas",null,"4ª partida",null,"5ª Partida",null,null,null,null,null,5]
[5,null,null,null,null,null,"Equipos","Puntos","Equipos","Puntos","Equipos","Puntos",null,null,null,null,4]
[6,null,null,null,null,null,{"$f":"ROUNDUP(N11/2,0)","v":0},3,{"$f":"ROUNDUP($G$11/2,0)","v":0},4,{"$f":"ROUNDUP($I$11/2,0)","v":0},5,{"$f":"ROUNDUP(J2/2,0)","v":0},{"$f":"ROUNDUP(M11/2,0)","v":0},null,null,3]
[7,null,null,null,null,null,{"$f":"ROUNDDOWN(N11/2,0)+ROUNDUP(N12/2,0)","v":0},2,{"$f":"ROUNDDOWN(G11/2,0)+ROUNDUP(G12/2,0)","v":0},3,{"$f":"ROUNDDOWN($I$11/2,0)+ROUNDUP($I$12/2,0)","v":0},4,{"$f":"ROUNDDOWN(J2/2,0)","v":0},{"$f":"ROUNDDOWN(M11/2,0)+ROUNDUP(M12/2,0)","v":0},null,null,2]
[8,null,null,null,null,null,{"$f":"ROUNDDOWN(N12/2,0)+ROUNDUP(N13/2,0)","v":0},1,{"$f":"ROUNDDOWN($G$12/2,0)+ROUNDUP($G$13/2,0)","v":0},2,{"$f":"ROUNDDOWN($I$12/2,0)+ROUNDUP($I$13/2,0)","v":0},3,null,{"$f":"ROUNDDOWN(M12/2,0)","v":0},null,null,1]
[9,null,null,null,null,null,{"$f":"ROUNDDOWN(N13/2,0)","v":0},0,{"$f":"ROUNDDOWN($G$13/2,0)+ROUNDUP($G$14/2,0)","v":0},1,{"$f":"ROUNDDOWN($I$13/2,0)+ROUNDUP($I$14/2,0)","v":0},2,null,null,null,null,0]
[10,null,null,null,null,null,null,null,{"$f":"ROUNDDOWN($G$14/2,0)","v":0},0,{"$f":"ROUNDDOWN($I$14/2,0)+ROUNDUP($I$15/2,0)","v":0},1]
[11,null,null,null,null,null,null,null,null,null,{"$f":"ROUNDDOWN($I$15/2,0)","v":0},0]
[12,null,null,null,null,null,{"$f":"SUM(G11:G12)","v":0},"3 y 2",{"$f":"SUM(I11:I12)","v":0},"4 y 3",{"$f":"SUM(K11:K12)","v":0},"5 y 4"]
[13]
[14]
[15]
[16]
[17]
[18]
[19]
[20]
[21]
[22]
[23]
[24]
[25]
[26]
[27]
[28]
[29]
[30]
[31]
[32]
[33]
[34]
[35]
[36]
[37]
[38]
[39]
[40]
[41]
[42]
[43]
[44]
[45]
[46]
[47]
[48]
[49]
[50]
[51]
[52]
[53]
[54]
[55]
[56]
[57]
[58]
[59]
[60]
[61]
[62]
[63]
[64]

{"sheet":"1ª Partida","index":1,"n_rows":34,"n_cols":10,"rows_kept":34,"cut":false,"hidden":false,"merged":[[29,7,29,9],[1,3,1,4],[13,7,13,9],[0,0,0,4],[18,7,18,9],[24,7,24,9]]}
["1ª Partida",null,null,null,null,null,null,null,null,{"$f":"Clasificación!AR2","v":"Sorteo correcto"}]
["Pista",{"$f":"Participantes!B5&\" 1\"","v":"Equipo 1"},{"$f":"Participantes!B5&\" 2\"","v":"Equipo 2"},"Resultado",null,null,null,1,{"$f":"COUNTA(C3:C34)-COUNTIF(C3:C34,\"descansa\")","v":0}]
[1,null,null,null,null,{"$f":"IF(B3=\"\",0,IF(OR(D3>13,E3>13,D3<0,E3<0,OR(D3=\"\",E3=\"\"),AND(D3=13,E3=13)),-1,0))","v":0}]
[2,null,null,null,null,{"$f":"IF(B4=\"\",0,IF(OR(D4>13,E4>13,D4<0,E4<0,OR(D4=\"\",E4=\"\"),AND(D4=13,E4=13)),-1,0))","v":0}]
[3,null,null,null,null,0]
[4,null,null,null,null,0]
[5,null,null,null,null,0]
[6,null,null,null,null,0]
[7,null,null,null,null,0]
[8,null,null,null,null,0]
[9,null,null,null,null,0]
[10,null,null,null,null,0]
[11,null,null,null,null,0]
[12,null,null,null,null,{"$f":"IF(B14=\"\",0,IF(OR(D14>13,E14>13,D14<0,E14<0,OR(D14=\"\",E14=\"\"),AND(D14=13,E14=13)),-1,0))","v":0}]
[13,null,null,null,null,0]
[14,null,null,null,null,0]
[15,null,null,null,null,0]
[16,null,null,null,null,0]
[17,null,null,null,null,{"$f":"IF(B19=\"\",0,IF(OR(D19>13,E19>13,D19<0,E19<0,OR(D19=\"\",E19=\"\"),AND(D19=13,E19=13)),-1,0))","v":0}]
[18,null,null,null,null,0]
[19,null,null,null,null,0]
[20,null,null,null,null,0]
[21,null,null,null,null,0]
[22,null,null,null,null,0]
[23,null,null,null,null,0]
[24,null,null,null,null,0]
[25,null,null,null,null,0]
[26,null,null,null,null,0]
[27,null,null,null,null,0]
[28,null,null,null,null,{"$f":"IF(B30=\"\",0,IF(OR(D30>13,E30>13,D30<0,E30<0,OR(D30=\"\",E30=\"\"),AND(D30=13,E30=13)),-1,0))","v":0}]
[29,null,null,null,null,0]
[30,null,null,null,null,0]
[31,null,null,null,null,0]
[32,null,null,null,null,0]

{"sheet":"2ª Partida","index":2,"n_rows":34,"n_cols":14,"rows_kept":34,"cut":false,"hidden":false,"merged":[[1,3,1,4],[0,0,0,4]]}
["2ª Partida",null,null,null,null,null,null,null,null,{"$f":"Clasificación!AR2","v":"Sorteo correcto"}]
["Pista",{"$f":"Participantes!B5&\" 1\"","v":"Equipo 1"},{"$f":"Participantes!B5&\" 2\"","v":"Equipo 2"},"Resultado",null,null,null,1,{"$f":"COUNTA(C3:C34)-COUNTIF(C3:C34,\"descansa\")","v":0}]
[1,null,null,null,null,{"$f":"IF(B3=\"\",0,IF(OR(D3>13,E3>13,D3<0,E3<0,OR(D3=\"\",E3=\"\"),AND(D3=13,E3=13)),-1,0))","v":0},null,null,null,null,null,{"$f":"COUNTIF($M$3:$N$18,$B3&$A3)+COUNTIF($M$3:$N$18,$C3&$A3)","v":0},{"$f":"IF('1ª Partida'!$B3=\"\",\"\",'1ª Partida'!$B3&'1ª Partida'!$A3)","v":""},{"$f":"IF(OR('1ª Partida'!$C3=\"\",'1ª Partida'!$C3=\"Descansa\"),\"\",'1ª Partida'!$C3&'1ª Partida'!$A3)","v":""}]
[2,null,null,null,null,0,null,null,null,null,null,0,{"$f":"IF('1ª Partida'!$B4=\"\",\"\",'1ª Partida'!$B4&'1ª Partida'!$A4)","v":""},{"$f":"IF(OR('1ª Partida'!$C4=\"\",'1ª Partida'!$C4=\"Descansa\"),\"\",'1ª Partida'!$C4&'1ª Partida'!$A4)","v":""}]
[3,null,null,null,null,0,null,null,null,null,null,0,{"$f":"IF('1ª Partida'!$B5=\"\",\"\",'1ª Partida'!$B5&'1ª Partida'!$A5)","v":""},{"$f":"IF(OR('1ª Partida'!$C5=\"\",'1ª Partida'!$C5=\"Descansa\"),\"\",'1ª Partida'!$C5&'1ª Partida'!$A5)","v":""}]
[4,null,null,null,null,0,null,null,null,null,null,0,{"$f":"IF('1ª Partida'!$B6=\"\",\"\",'1ª Partida'!$B6&'1ª Partida'!$A6)","v":""},{"$f":"IF(OR('1ª Partida'!$C6=\"\",'1ª Partida'!$C6=\"Descansa\"),\"\",'1ª Partida'!$C6&'1ª Partida'!$A6)","v":""}]
[6,null,null,null,null,0,null,null,null,null,null,0,{"$f":"IF('1ª Partida'!$B7=\"\",\"\",'1ª Partida'!$B7&'1ª Partida'!$A7)","v":""},{"$f":"IF(OR('1ª Partida'!$C7=\"\",'1ª Partida'!$C7=\"Descansa\"),\"\",'1ª Partida'!$C7&'1ª Partida'!$A7)","v":""}]
[5,null,null,null,null,0,null,null,null,null,null,0,{"$f":"IF('1ª Partida'!$B8=\"\",\"\",'1ª Partida'!$B8&'1ª Partida'!$A8)","v":""},{"$f":"IF(OR('1ª Partida'!$C8=\"\",'1ª Partida'!$C8=\"Descansa\"),\"\",'1ª Partida'!$C8&'1ª Partida'!$A8)","v":""}]
[7,null,null,null,null,0,null,null,null,null,null,0,{"$f":"IF('1ª Partida'!$B9=\"\",\"\",'1ª Partida'!$B9&'1ª Partida'!$A9)","v":""},{"$f":"IF(OR('1ª Partida'!$C9=\"\",'1ª Partida'!$C9=\"Descansa\"),\"\",'1ª Partida'!$C9&'1ª Partida'!$A9)","v":""}]
[8,null,null,null,null,0,null,null,null,null,null,0,{"$f":"IF('1ª Partida'!$B10=\"\",\"\",'1ª Partida'!$B10&'1ª Partida'!$A10)","v":""},{"$f":"IF(OR('1ª Partida'!$C10=\"\",'1ª Partida'!$C10=\"Descansa\"),\"\",'1ª Partida'!$C10&'1ª Partida'!$A10)","v":""}]
[9,null,null,null,null,0,null,null,null,null,null,0,{"$f":"IF('1ª Partida'!$B11=\"\",\"\",'1ª Partida'!$B11&'1ª Partida'!$A11)","v":""},{"$f":"IF(OR('1ª Partida'!$C11=\"\",'1ª Partida'!$C11=\"Descansa\"),\"\",'1ª Partida'!$C11&'1ª Partida'!$A11)","v":""}]
[10,null,null,null,null,0,null,null,null,null,null,0,{"$f":"IF('1ª Partida'!$B12=\"\",\"\",'1ª Partida'!$B12&'1ª Partida'!$A12)","v":""},{"$f":"IF(OR('1ª Partida'!$C12=\"\",'1ª Partida'!$C12=\"Descansa\"),\"\",'1ª Partida'!$C12&'1ª Partida'!$A12)","v":""}]
[11,null,null,null,null,0,null,null,null,null,null,0,{"$f":"IF('1ª Partida'!$B13=\"\",\"\",'1ª Partida'!$B13&'1ª Partida'!$A13)","v":""},{"$f":"IF(OR('1ª Partida'!$C13=\"\",'1ª Partida'!$C13=\"Descansa\"),\"\",'1ª Partida'!$C13&'1ª Partida'!$A13)","v":""}]
[12,null,null,null,null,0,null,null,null,null,null,0,{"$f":"IF('1ª Partida'!$B14=\"\",\"\",'1ª Partida'!$B14&'1ª Partida'!$A14)","v":""},{"$f":"IF(OR('1ª Partida'!$C14=\"\",'1ª Partida'!$C14=\"Descansa\"),\"\",'1ª Partida'!$C14&'1ª Partida'!$A14)","v":""}]
[13,null,null,null,null,0,null,null,null,null,null,0,{"$f":"IF('1ª Partida'!$B15=\"\",\"\",'1ª Partida'!$B15&'1ª Partida'!$A15)","v":""},{"$f":"IF(OR('1ª Partida'!$C15=\"\",'1ª Partida'!$C15=\"Descansa\"),\"\",'1ª Partida'!$C15&'1ª Partida'!$A15)","v":""}]
[14,null,null,null,null,0,null,null,null,null,null,0,{"$f":"IF('1ª Partida'!$B16=\"\",\"\",'1ª Partida'!$B16&'1ª Partida'!$A16)","v":""},{"$f":"IF(OR('1ª Partida'!$C16=\"\",'1ª Partida'!$C16=\"Descansa\"),\"\",'1ª Partida'!$C16&'1ª Partida'!$A16)","v":""}]
[15,null,null,null,null,0,null,null,null,null,null,0,{"$f":"IF('1ª Partida'!$B17=\"\",\"\",'1ª Partida'!$B17&'1ª Partida'!$A17)","v":""},{"$f":"IF(OR('1ª Partida'!$C17=\"\",'1ª Partida'!$C17=\"Descansa\"),\"\",'1ª Partida'!$C17&'1ª Partida'!$A17)","v":""}]
[16,null,null,null,null,0,null,null,null,null,null,0,{"$f":"IF('1ª Partida'!$B18=\"\",\"\",'1ª Partida'!$B18&'1ª Partida'!$A18)","v":""},{"$f":"IF(OR('1ª Partida'!$C18=\"\",'1ª Partida'!$C18=\"Descansa\"),\"\",'1ª Partida'!$C18&'1ª Partida'!$A18)","v":""}]
[17,null,null,null,null,{"$f":"IF(B19=\"\",0,IF(OR(D19>13,E19>13,D19<0,E19<0,OR(D19=\"\",E19=\"\"),AND(D19=13,E19=13)),-1,0))","v":0},null,null,null,null,null,0,{"$f":"IF('1ª Partida'!$B19=\"\",\"\",'1ª Partida'!$B19&'1ª Partida'!$A19)","v":""},{"$f":"IF(OR('1ª Partida'!$C19=\"\",'1ª Partida'!$C19=\"Descansa\"),\"\",'1ª Partida'!$C19&'1ª Partida'!$A19)","v":""}]
[18,null,null,null,null,0,null,null,null,null,null,0,{"$f":"IF('1ª Partida'!$B20=\"\",\"\",'1ª Partida'!$B20&'1ª Partida'!$A20)","v":""},{"$f":"IF(OR('1ª Partida'!$C20=\"\",'1ª Partida'!$C20=\"Descansa\"),\"\",'1ª Partida'!$C20&'1ª Partida'!$A20)","v":""}]
[19,null,null,null,null,0,null,null,null,null,null,0,{"$f":"IF('1ª Partida'!$B21=\"\",\"\",'1ª Partida'!$B21&'1ª Partida'!$A21)","v":""},{"$f":"IF(OR('1ª Partida'!$C21=\"\",'1ª Partida'!$C21=\"Descansa\"),\"\",'1ª Partida'!$C21&'1ª Partida'!$A21)","v":""}]
[20,null,null,null,null,0,null,null,null,null,null,0,{"$f":"IF('1ª Partida'!$B22=\"\",\"\",'1ª Partida'!$B22&'1ª Partida'!$A22)","v":""},{"$f":"IF(OR('1ª Partida'!$C22=\"\",'1ª Partida'!$C22=\"Descansa\"),\"\",'1ª Partida'!$C22&'1ª Partida'!$A22)","v":""}]
[21,null,null,null,null,0,null,null,null,null,null,0,{"$f":"IF('1ª Partida'!$B23=\"\",\"\",'1ª Partida'!$B23&'1ª Partida'!$A23)","v":""},{"$f":"IF(OR('1ª Partida'!$C23=\"\",'1ª Partida'!$C23=\"Descansa\"),\"\",'1ª Partida'!$C23&'1ª Partida'!$A23)","v":""}]
[22,null,null,null,null,0,null,null,null,null,null,0,{"$f":"IF('1ª Partida'!$B24=\"\",\"\",'1ª Partida'!$B24&'1ª Partida'!$A24)","v":""},{"$f":"IF(OR('1ª Partida'!$C24=\"\",'1ª Partida'!$C24=\"Descansa\"),\"\",'1ª Partida'!$C24&'1ª Partida'!$A24)","v":""}]
[23,null,null,null,null,0,null,null,null,null,null,0,{"$f":"IF('1ª Partida'!$B25=\"\",\"\",'1ª Partida'!$B25&'1ª Partida'!$A25)","v":""},{"$f":"IF(OR('1ª Partida'!$C25=\"\",'1ª Partida'!$C25=\"Descansa\"),\"\",'1ª Partida'!$C25&'1ª Partida'!$A25)","v":""}]
[24,null,null,null,null,0,null,null,null,null,null,0,{"$f":"IF('1ª Partida'!$B26=\"\",\"\",'1ª Partida'!$B26&'1ª Partida'!$A26)","v":""},{"$f":"IF(OR('1ª Partida'!$C26=\"\",'1ª Partida'!$C26=\"Descansa\"),\"\",'1ª Partida'!$C26&'1ª Partida'!$A26)","v":""}]
[25,null,null,null,null,0,null,null,null,null,null,0,{"$f":"IF('1ª Partida'!$B27=\"\",\"\",'1ª Partida'!$B27&'1ª Partida'!$A27)","v":""},{"$f":"IF(OR('1ª Partida'!$C27=\"\",'1ª Partida'!$C27=\"Descansa\"),\"\",'1ª Partida'!$C27&'1ª Partida'!$A27)","v":""}]
[26,null,null,null,null,0,null,null,null,null,null,0,{"$f":"IF('1ª Partida'!$B28=\"\",\"\",'1ª Partida'!$B28&'1ª Partida'!$A28)","v":""},{"$f":"IF(OR('1ª Partida'!$C28=\"\",'1ª Partida'!$C28=\"Descansa\"),\"\",'1ª Partida'!$C28&'1ª Partida'!$A28)","v":""}]
[27,null,null,null,null,0,null,null,null,null,null,0,{"$f":"IF('1ª Partida'!$B29=\"\",\"\",'1ª Partida'!$B29&'1ª Partida'!$A29)","v":""},{"$f":"IF(OR('1ª Partida'!$C29=\"\",'1ª Partida'!$C29=\"Descansa\"),\"\",'1ª Partida'!$C29&'1ª Partida'!$A29)","v":""}]
[28,null,null,null,null,0,null,null,null,null,null,0,{"$f":"IF('1ª Partida'!$B30=\"\",\"\",'1ª Partida'!$B30&'1ª Partida'!$A30)","v":""},{"$f":"IF(OR('1ª Partida'!$C30=\"\",'1ª Partida'!$C30=\"Descansa\"),\"\",'1ª Partida'!$C30&'1ª Partida'!$A30)","v":""}]
[29,null,null,null,null,0,null,null,null,null,null,0,{"$f":"IF('1ª Partida'!$B31=\"\",\"\",'1ª Partida'!$B31&'1ª Partida'!$A31)","v":""},{"$f":"IF(OR('1ª Partida'!$C31=\"\",'1ª Partida'!$C31=\"Descansa\"),\"\",'1ª Partida'!$C31&'1ª Partida'!$A31)","v":""}]
[30,null,null,null,null,0,null,null,null,null,null,0,{"$f":"IF('1ª Partida'!$B32=\"\",\"\",'1ª Partida'!$B32&'1ª Partida'!$A32)","v":""},{"$f":"IF(OR('1ª Partida'!$C32=\"\",'1ª Partida'!$C32=\"Descansa\"),\"\",'1ª Partida'!$C32&'1ª Partida'!$A32)","v":""}]
[31,null,null,null,null,0,null,null,null,null,null,0,{"$f":"IF('1ª Partida'!$B33=\"\",\"\",'1ª Partida'!$B33&'1ª Partida'!$A33)","v":""},{"$f":"IF(OR('1ª Partida'!$C33=\"\",'1ª Partida'!$C33=\"Descansa\"),\"\",'1ª Partida'!$C33&'1ª Partida'!$A33)","v":""}]
[32,null,null,null,null,0,null,null,null,null,null,0,{"$f":"IF('1ª Partida'!$B34=\"\",\"\",'1ª Partida'!$B34&'1ª Partida'!$A34)","v":""},{"$f":"IF(OR('1ª Partida'!$C34=\"\",'1ª Partida'!$C34=\"Descansa\"),\"\",'1ª Partida'!$C34&'1ª Partida'!$A34)","v":""}]

{"sheet":"3ª Partida","index":3,"n_rows":34,"n_cols":17,"rows_kept":34,"cut":false,"hidden":false,"merged":[[1,3,1,4],[0,0,0,4]]}
["3ª Partida",null,null,null,null,null,null,null,null,{"$f":"Clasificación!AR2","v":"Sorteo correcto"}]
["Pista",{"$f":"Participantes!B5&\" 1\"","v":"Equipo 1"},{"$f":"Participantes!B5&\" 2\"","v":"Equipo 2"},"Resultado",null,null,null,1,{"$f":"COUNTA(C3:C34)-COUNTIF(C3:C34,\"descansa\")","v":0}]
[1,null,null,null,null,{"$f":"IF(B3=\"\",0,IF(OR(D3>13,E3>13,D3<0,E3<0,OR(D3=\"\",E3=\"\"),AND(D3=13,E3=13)),-1,0))","v":0},null,null,null,null,null,{"$f":"COUNTIF($M$3:$N$18,B3&A3)+COUNTIF($M$3:$N$18,C3&A3)","v":0},{"$f":"IF('2ª Partida'!$B3=\"\",\"\",'2ª Partida'!$B3&'2ª Partida'!$A3)","v":""},{"$f":"IF(OR('2ª Partida'!$C3=\"\",'2ª Partida'!$C3=\"Descansa\"),\"\",'2ª Partida'!$C3&'2ª Partida'!$A3)","v":""},{"$f":"COUNTIF($P$3:$Q$18,$B3&$A3)+COUNTIF($P$3:$Q$18,$C3&$A3)","v":0},{"$f":"IF('1ª Partida'!$B3=\"\",\"\",'1ª Partida'!$B3&'1ª Partida'!$A3)","v":""},{"$f":"IF(OR('1ª Partida'!$C3=\"\",'1ª Partida'!$C3=\"Descansa\"),\"\",'1ª Partida'!$C3&'1ª Partida'!$A3)","v":""}]
[2,null,null,null,null,0,null,null,null,null,null,0,{"$f":"IF('2ª Partida'!$B4=\"\",\"\",'2ª Partida'!$B4&'2ª Partida'!$A4)","v":""},{"$f":"IF(OR('2ª Partida'!$C4=\"\",'2ª Partida'!$C4=\"Descansa\"),\"\",'2ª Partida'!$C4&'2ª Partida'!$A4)","v":""},0,{"$f":"IF('1ª Partida'!$B4=\"\",\"\",'1ª Partida'!$B4&'1ª Partida'!$A4)","v":""},{"$f":"IF(OR('1ª Partida'!$C4=\"\",'1ª Partida'!$C4=\"Descansa\"),\"\",'1ª Partida'!$C4&'1ª Partida'!$A4)","v":""}]
[3,null,null,null,null,0,null,null,null,null,null,0,{"$f":"IF('2ª Partida'!$B5=\"\",\"\",'2ª Partida'!$B5&'2ª Partida'!$A5)","v":""},{"$f":"IF(OR('2ª Partida'!$C5=\"\",'2ª Partida'!$C5=\"Descansa\"),\"\",'2ª Partida'!$C5&'2ª Partida'!$A5)","v":""},0,{"$f":"IF('1ª Partida'!$B5=\"\",\"\",'1ª Partida'!$B5&'1ª Partida'!$A5)","v":""},{"$f":"IF(OR('1ª Partida'!$C5=\"\",'1ª Partida'!$C5=\"Descansa\"),\"\",'1ª Partida'!$C5&'1ª Partida'!$A5)","v":""}]
[4,null,null,null,null,0,null,null,null,null,null,0,{"$f":"IF('2ª Partida'!$B6=\"\",\"\",'2ª Partida'!$B6&'2ª Partida'!$A6)","v":""},{"$f":"IF(OR('2ª Partida'!$C6=\"\",'2ª Partida'!$C6=\"Descansa\"),\"\",'2ª Partida'!$C6&'2ª Partida'!$A6)","v":""},0,{"$f":"IF('1ª Partida'!$B6=\"\",\"\",'1ª Partida'!$B6&'1ª Partida'!$A6)","v":""},{"$f":"IF(OR('1ª Partida'!$C6=\"\",'1ª Partida'!$C6=\"Descansa\"),\"\",'1ª Partida'!$C6&'1ª Partida'!$A6)","v":""}]
[5,null,null,null,null,0,null,null,null,null,null,0,{"$f":"IF('2ª Partida'!$B7=\"\",\"\",'2ª Partida'!$B7&'2ª Partida'!$A7)","v":""},{"$f":"IF(OR('2ª Partida'!$C7=\"\",'2ª Partida'!$C7=\"Descansa\"),\"\",'2ª Partida'!$C7&'2ª Partida'!$A7)","v":""},0,{"$f":"IF('1ª Partida'!$B7=\"\",\"\",'1ª Partida'!$B7&'1ª Partida'!$A7)","v":""},{"$f":"IF(OR('1ª Partida'!$C7=\"\",'1ª Partida'!$C7=\"Descansa\"),\"\",'1ª Partida'!$C7&'1ª Partida'!$A7)","v":""}]
[6,null,null,null,null,0,null,null,null,null,null,0,{"$f":"IF('2ª Partida'!$B8=\"\",\"\",'2ª Partida'!$B8&'2ª Partida'!$A8)","v":""},{"$f":"IF(OR('2ª Partida'!$C8=\"\",'2ª Partida'!$C8=\"Descansa\"),\"\",'2ª Partida'!$C8&'2ª Partida'!$A8)","v":""},0,{"$f":"IF('1ª Partida'!$B8=\"\",\"\",'1ª Partida'!$B8&'1ª Partida'!$A8)","v":""},{"$f":"IF(OR('1ª Partida'!$C8=\"\",'1ª Partida'!$C8=\"Descansa\"),\"\",'1ª Partida'!$C8&'1ª Partida'!$A8)","v":""}]
[7,null,null,null,null,0,null,null,null,null,null,0,{"$f":"IF('2ª Partida'!$B9=\"\",\"\",'2ª Partida'!$B9&'2ª Partida'!$A9)","v":""},{"$f":"IF(OR('2ª Partida'!$C9=\"\",'2ª Partida'!$C9=\"Descansa\"),\"\",'2ª Partida'!$C9&'2ª Partida'!$A9)","v":""},0,{"$f":"IF('1ª Partida'!$B9=\"\",\"\",'1ª Partida'!$B9&'1ª Partida'!$A9)","v":""},{"$f":"IF(OR('1ª Partida'!$C9=\"\",'1ª Partida'!$C9=\"Descansa\"),\"\",'1ª Partida'!$C9&'1ª Partida'!$A9)","v":""}]
[8,null,null,null,null,0,null,null,null,null,null,0,{"$f":"IF('2ª Partida'!$B10=\"\",\"\",'2ª Partida'!$B10&'2ª Partida'!$A10)","v":""},{"$f":"IF(OR('2ª Partida'!$C10=\"\",'2ª Partida'!$C10=\"Descansa\"),\"\",'2ª Partida'!$C10&'2ª Partida'!$A10)","v":""},0,{"$f":"IF('1ª Partida'!$B10=\"\",\"\",'1ª Partida'!$B10&'1ª Partida'!$A10)","v":""},{"$f":"IF(OR('1ª Partida'!$C10=\"\",'1ª Partida'!$C10=\"Descansa\"),\"\",'1ª Partida'!$C10&'1ª Partida'!$A10)","v":""}]
[9,null,null,null,null,0,null,null,null,null,null,0,{"$f":"IF('2ª Partida'!$B11=\"\",\"\",'2ª Partida'!$B11&'2ª Partida'!$A11)","v":""},{"$f":"IF(OR('2ª Partida'!$C11=\"\",'2ª Partida'!$C11=\"Descansa\"),\"\",'2ª Partida'!$C11&'2ª Partida'!$A11)","v":""},0,{"$f":"IF('1ª Partida'!$B11=\"\",\"\",'1ª Partida'!$B11&'1ª Partida'!$A11)","v":""},{"$f":"IF(OR('1ª Partida'!$C11=\"\",'1ª Partida'!$C11=\"Descansa\"),\"\",'1ª Partida'!$C11&'1ª Partida'!$A11)","v":""}]
[10,null,null,null,null,0,null,null,null,null,null,0,{"$f":"IF('2ª Partida'!$B12=\"\",\"\",'2ª Partida'!$B12&'2ª Partida'!$A12)","v":""},{"$f":"IF(OR('2ª Partida'!$C12=\"\",'2ª Partida'!$C12=\"Descansa\"),\"\",'2ª Partida'!$C12&'2ª Partida'!$A12)","v":""},0,{"$f":"IF('1ª Partida'!$B12=\"\",\"\",'1ª Partida'!$B12&'1ª Partida'!$A12)","v":""},{"$f":"IF(OR('1ª Partida'!$C12=\"\",'1ª Partida'!$C12=\"Descansa\"),\"\",'1ª Partida'!$C12&'1ª Partida'!$A12)","v":""}]
[11,null,null,null,null,0,null,null,null,null,null,0,{"$f":"IF('2ª Partida'!$B13=\"\",\"\",'2ª Partida'!$B13&'2ª Partida'!$A13)","v":""},{"$f":"IF(OR('2ª Partida'!$C13=\"\",'2ª Partida'!$C13=\"Descansa\"),\"\",'2ª Partida'!$C13&'2ª Partida'!$A13)","v":""},0,{"$f":"IF('1ª Partida'!$B13=\"\",\"\",'1ª Partida'!$B13&'1ª Partida'!$A13)","v":""},{"$f":"IF(OR('1ª Partida'!$C13=\"\",'1ª Partida'!$C13=\"Descansa\"),\"\",'1ª Partida'!$C13&'1ª Partida'!$A13)","v":""}]
[12,null,null,null,null,0,null,null,null,null,null,0,{"$f":"IF('2ª Partida'!$B14=\"\",\"\",'2ª Partida'!$B14&'2ª Partida'!$A14)","v":""},{"$f":"IF(OR('2ª Partida'!$C14=\"\",'2ª Partida'!$C14=\"Descansa\"),\"\",'2ª Partida'!$C14&'2ª Partida'!$A14)","v":""},0,{"$f":"IF('1ª Partida'!$B14=\"\",\"\",'1ª Partida'!$B14&'1ª Partida'!$A14)","v":""},{"$f":"IF(OR('1ª Partida'!$C14=\"\",'1ª Partida'!$C14=\"Descansa\"),\"\",'1ª Partida'!$C14&'1ª Partida'!$A14)","v":""}]
[13,null,null,null,null,0,null,null,null,null,null,0,{"$f":"IF('2ª Partida'!$B15=\"\",\"\",'2ª Partida'!$B15&'2ª Partida'!$A15)","v":""},{"$f":"IF(OR('2ª Partida'!$C15=\"\",'2ª Partida'!$C15=\"Descansa\"),\"\",'2ª Partida'!$C15&'2ª Partida'!$A15)","v":""},0,{"$f":"IF('1ª Partida'!$B15=\"\",\"\",'1ª Partida'!$B15&'1ª Partida'!$A15)","v":""},{"$f":"IF(OR('1ª Partida'!$C15=\"\",'1ª Partida'!$C15=\"Descansa\"),\"\",'1ª Partida'!$C15&'1ª Partida'!$A15)","v":""}]
[14,null,null,null,null,0,null,null,null,null,null,0,{"$f":"IF('2ª Partida'!$B16=\"\",\"\",'2ª Partida'!$B16&'2ª Partida'!$A16)","v":""},{"$f":"IF(OR('2ª Partida'!$C16=\"\",'2ª Partida'!$C16=\"Descansa\"),\"\",'2ª Partida'!$C16&'2ª Partida'!$A16)","v":""},0,{"$f":"IF('1ª Partida'!$B16=\"\",\"\",'1ª Partida'!$B16&'1ª Partida'!$A16)","v":""},{"$f":"IF(OR('1ª Partida'!$C16=\"\",'1ª Partida'!$C16=\"Descansa\"),\"\",'1ª Partida'!$C16&'1ª Partida'!$A16)","v":""}]
[15,null,null,null,null,0,null,null,null,null,null,0,{"$f":"IF('2ª Partida'!$B17=\"\",\"\",'2ª Partida'!$B17&'2ª Partida'!$A17)","v":""},{"$f":"IF(OR('2ª Partida'!$C17=\"\",'2ª Partida'!$C17=\"Descansa\"),\"\",'2ª Partida'!$C17&'2ª Partida'!$A17)","v":""},0,{"$f":"IF('1ª Partida'!$B17=\"\",\"\",'1ª Partida'!$B17&'1ª Partida'!$A17)","v":""},{"$f":"IF(OR('1ª Partida'!$C17=\"\",'1ª Partida'!$C17=\"Descansa\"),\"\",'1ª Partida'!$C17&'1ª Partida'!$A17)","v":""}]
[16,null,null,null,null,0,null,null,null,null,null,0,{"$f":"IF('2ª Partida'!$B18=\"\",\"\",'2ª Partida'!$B18&'2ª Partida'!$A18)","v":""},{"$f":"IF(OR('2ª Partida'!$C18=\"\",'2ª Partida'!$C18=\"Descansa\"),\"\",'2ª Partida'!$C18&'2ª Partida'!$A18)","v":""},0,{"$f":"IF('1ª Partida'!$B18=\"\",\"\",'1ª Partida'!$B18&'1ª Partida'!$A18)","v":""},{"$f":"IF(OR('1ª Partida'!$C18=\"\",'1ª Partida'!$C18=\"Descansa\"),\"\",'1ª Partida'!$C18&'1ª Partida'!$A18)","v":""}]
[17,null,null,null,null,{"$f":"IF(B19=\"\",0,IF(OR(D19>13,E19>13,D19<0,E19<0,OR(D19=\"\",E19=\"\"),AND(D19=13,E19=13)),-1,0))","v":0},null,null,null,null,null,{"$f":"COUNTIF($M$3:$N$18,B19&A19)+COUNTIF($M$3:$N$18,C19&A19)","v":0},{"$f":"IF('2ª Partida'!$B19=\"\",\"\",'2ª Partida'!$B19&'2ª Partida'!$A19)","v":""},{"$f":"IF(OR('2ª Partida'!$C19=\"\",'2ª Partida'!$C19=\"Descansa\"),\"\",'2ª Partida'!$C19&'2ª Partida'!$A19)","v":""},0,{"$f":"IF('1ª Partida'!$B19=\"\",\"\",'1ª Partida'!$B19&'1ª Partida'!$A19)","v":""},{"$f":"IF(OR('1ª Partida'!$C19=\"\",'1ª Partida'!$C19=\"Descansa\"),\"\",'1ª Partida'!$C19&'1ª Partida'!$A19)","v":""}]
[18,null,null,null,null,0,null,null,null,null,null,0,{"$f":"IF('2ª Partida'!$B20=\"\",\"\",'2ª Partida'!$B20&'2ª Partida'!$A20)","v":""},{"$f":"IF(OR('2ª Partida'!$C20=\"\",'2ª Partida'!$C20=\"Descansa\"),\"\",'2ª Partida'!$C20&'2ª Partida'!$A20)","v":""},0,{"$f":"IF('1ª Partida'!$B20=\"\",\"\",'1ª Partida'!$B20&'1ª Partida'!$A20)","v":""},{"$f":"IF(OR('1ª Partida'!$C20=\"\",'1ª Partida'!$C20=\"Descansa\"),\"\",'1ª Partida'!$C20&'1ª Partida'!$A20)","v":""}]
[19,null,null,null,null,0,null,null,null,null,null,0,{"$f":"IF('2ª Partida'!$B21=\"\",\"\",'2ª Partida'!$B21&'2ª Partida'!$A21)","v":""},{"$f":"IF(OR('2ª Partida'!$C21=\"\",'2ª Partida'!$C21=\"Descansa\"),\"\",'2ª Partida'!$C21&'2ª Partida'!$A21)","v":""},0,{"$f":"IF('1ª Partida'!$B21=\"\",\"\",'1ª Partida'!$B21&'1ª Partida'!$A21)","v":""},{"$f":"IF(OR('1ª Partida'!$C21=\"\",'1ª Partida'!$C21=\"Descansa\"),\"\",'1ª Partida'!$C21&'1ª Partida'!$A21)","v":""}]
[20,null,null,null,null,0,null,null,null,null,null,0,{"$f":"IF('2ª Partida'!$B22=\"\",\"\",'2ª Partida'!$B22&'2ª Partida'!$A22)","v":""},{"$f":"IF(OR('2ª Partida'!$C22=\"\",'2ª Partida'!$C22=\"Descansa\"),\"\",'2ª Partida'!$C22&'2ª Partida'!$A22)","v":""},0,{"$f":"IF('1ª Partida'!$B22=\"\",\"\",'1ª Partida'!$B22&'1ª Partida'!$A22)","v":""},{"$f":"IF(OR('1ª Partida'!$C22=\"\",'1ª Partida'!$C22=\"Descansa\"),\"\",'1ª Partida'!$C22&'1ª Partida'!$A22)","v":""}]
[21,null,null,null,null,0,null,null,null,null,null,0,{"$f":"IF('2ª Partida'!$B23=\"\",\"\",'2ª Partida'!$B23&'2ª Partida'!$A23)","v":""},{"$f":"IF(OR('2ª Partida'!$C23=\"\",'2ª Partida'!$C23=\"Descansa\"),\"\",'2ª Partida'!$C23&'2ª Partida'!$A23)","v":""},0,{"$f":"IF('1ª Partida'!$B23=\"\",\"\",'1ª Partida'!$B23&'1ª Partida'!$A23)","v":""},{"$f":"IF(OR('1ª Partida'!$C23=\"\",'1ª Partida'!$C23=\"Descansa\"),\"\",'1ª Partida'!$C23&'1ª Partida'!$A23)","v":""}]
[22,null,null,null,null,0,null,null,null,null,null,0,{"$f":"IF('2ª Partida'!$B24=\"\",\"\",'2ª Partida'!$B24&'2ª Partida'!$A24)","v":""},{"$f":"IF(OR('2ª Partida'!$C24=\"\",'2ª Partida'!$C24=\"Descansa\"),\"\",'2ª Partida'!$C24&'2ª Partida'!$A24)","v":""},0,{"$f":"IF('1ª Partida'!$B24=\"\",\"\",'1ª Partida'!$B24&'1ª Partida'!$A24)","v":""},{"$f":"IF(OR('1ª Partida'!$C24=\"\",'1ª Partida'!$C24=\"Descansa\"),\"\",'1ª Partida'!$C24&'1ª Partida'!$A24)","v":""}]
[23,null,null,null,null,0,null,null,null,null,null,0,{"$f":"IF('2ª Partida'!$B25=\"\",\"\",'2ª Partida'!$B25&'2ª Partida'!$A25)","v":""},{"$f":"IF(OR('2ª Partida'!$C25=\"\",'2ª Partida'!$C25=\"Descansa\"),\"\",'2ª Partida'!$C25&'2ª Partida'!$A25)","v":""},0,{"$f":"IF('1ª Partida'!$B25=\"\",\"\",'1ª Partida'!$B25&'1ª Partida'!$A25)","v":""},{"$f":"IF(OR('1ª Partida'!$C25=\"\",'1ª Partida'!$C25=\"Descansa\"),\"\",'1ª Partida'!$C25&'1ª Partida'!$A25)","v":""}]
[24,null,null,null,null,0,null,null,null,null,null,0,{"$f":"IF('2ª Partida'!$B26=\"\",\"\",'2ª Partida'!$B26&'2ª Partida'!$A26)","v":""},{"$f":"IF(OR('2ª Partida'!$C26=\"\",'2ª Partida'!$C26=\"Descansa\"),\"\",'2ª Partida'!$C26&'2ª Partida'!$A26)","v":""},0,{"$f":"IF('1ª Partida'!$B26=\"\",\"\",'1ª Partida'!$B26&'1ª Partida'!$A26)","v":""},{"$f":"IF(OR('1ª Partida'!$C26=\"\",'1ª Partida'!$C26=\"Descansa\"),\"\",'1ª Partida'!$C26&'1ª Partida'!$A26)","v":""}]
[25,null,null,null,null,0,null,null,null,null,null,0,{"$f":"IF('2ª Partida'!$B27=\"\",\"\",'2ª Partida'!$B27&'2ª Partida'!$A27)","v":""},{"$f":"IF(OR('2ª Partida'!$C27=\"\",'2ª Partida'!$C27=\"Descansa\"),\"\",'2ª Partida'!$C27&'2ª Partida'!$A27)","v":""},0,{"$f":"IF('1ª Partida'!$B27=\"\",\"\",'1ª Partida'!$B27&'1ª Partida'!$A27)","v":""},{"$f":"IF(OR('1ª Partida'!$C27=\"\",'1ª Partida'!$C27=\"Descansa\"),\"\",'1ª Partida'!$C27&'1ª Partida'!$A27)","v":""}]
[26,null,null,null,null,0,null,null,null,null,null,0,{"$f":"IF('2ª Partida'!$B28=\"\",\"\",'2ª Partida'!$B28&'2ª Partida'!$A28)","v":""},{"$f":"IF(OR('2ª Partida'!$C28=\"\",'2ª Partida'!$C28=\"Descansa\"),\"\",'2ª Partida'!$C28&'2ª Partida'!$A28)","v":""},0,{"$f":"IF('1ª Partida'!$B28=\"\",\"\",'1ª Partida'!$B28&'1ª Partida'!$A28)","v":""},{"$f":"IF(OR('1ª Partida'!$C28=\"\",'1ª Partida'!$C28=\"Descansa\"),\"\",'1ª Partida'!$C28&'1ª Partida'!$A28)","v":""}]
[27,null,null,null,null,0,null,null,null,null,null,0,{"$f":"IF('2ª Partida'!$B29=\"\",\"\",'2ª Partida'!$B29&'2ª Partida'!$A29)","v":""},{"$f":"IF(OR('2ª Partida'!$C29=\"\",'2ª Partida'!$C29=\"Descansa\"),\"\",'2ª Partida'!$C29&'2ª Partida'!$A29)","v":""},0,{"$f":"IF('1ª Partida'!$B29=\"\",\"\",'1ª Partida'!$B29&'1ª Partida'!$A29)","v":""},{"$f":"IF(OR('1ª Partida'!$C29=\"\",'1ª Partida'!$C29=\"Descansa\"),\"\",'1ª Partida'!$C29&'1ª Partida'!$A29)","v":""}]
[28,null,null,null,null,0,null,null,null,null,null,0,{"$f":"IF('2ª Partida'!$B30=\"\",\"\",'2ª Partida'!$B30&'2ª Partida'!$A30)","v":""},{"$f":"IF(OR('2ª Partida'!$C30=\"\",'2ª Partida'!$C30=\"Descansa\"),\"\",'2ª Partida'!$C30&'2ª Partida'!$A30)","v":""},0,{"$f":"IF('1ª Partida'!$B30=\"\",\"\",'1ª Partida'!$B30&'1ª Partida'!$A30)","v":""},{"$f":"IF(OR('1ª Partida'!$C30=\"\",'1ª Partida'!$C30=\"Descansa\"),\"\",'1ª Partida'!$C30&'1ª Partida'!$A30)","v":""}]
[29,null,null,null,null,0,null,null,null,null,null,0,{"$f":"IF('2ª Partida'!$B31=\"\",\"\",'2ª Partida'!$B31&'2ª Partida'!$A31)","v":""},{"$f":"IF(OR('2ª Partida'!$C31=\"\",'2ª Partida'!$C31=\"Descansa\"),\"\",'2ª Partida'!$C31&'2ª Partida'!$A31)","v":""},0,{"$f":"IF('1ª Partida'!$B31=\"\",\"\",'1ª Partida'!$B31&'1ª Partida'!$A31)","v":""},{"$f":"IF(OR('1ª Partida'!$C31=\"\",'1ª Partida'!$C31=\"Descansa\"),\"\",'1ª Partida'!$C31&'1ª Partida'!$A31)","v":""}]
[30,null,null,null,null,0,null,null,null,null,null,0,{"$f":"IF('2ª Partida'!$B32=\"\",\"\",'2ª Partida'!$B32&'2ª Partida'!$A32)","v":""},{"$f":"IF(OR('2ª Partida'!$C32=\"\",'2ª Partida'!$C32=\"Descansa\"),\"\",'2ª Partida'!$C32&'2ª Partida'!$A32)","v":""},0,{"$f":"IF('1ª Partida'!$B32=\"\",\"\",'1ª Partida'!$B32&'1ª Partida'!$A32)","v":""},{"$f":"IF(OR('1ª Partida'!$C32=\"\",'1ª Partida'!$C32=\"Descansa\"),\"\",'1ª Partida'!$C32&'1ª Partida'!$A32)","v":""}]
[31,null,null,null,null,0,null,null,null,null,null,0,{"$f":"IF('2ª Partida'!$B33=\"\",\"\",'2ª Partida'!$B33&'2ª Partida'!$A33)","v":""},{"$f":"IF(OR('2ª Partida'!$C33=\"\",'2ª Partida'!$C33=\"Descansa\"),\"\",'2ª Partida'!$C33&'2ª Partida'!$A33)","v":""},0,{"$f":"IF('1ª Partida'!$B33=\"\",\"\",'1ª Partida'!$B33&'1ª Partida'!$A33)","v":""},{"$f":"IF(OR('1ª Partida'!$C33=\"\",'1ª Partida'!$C33=\"Descansa\"),\"\",'1ª Partida'!$C33&'1ª Partida'!$A33)","v":""}]
[32,null,null,null,null,0,null,null,null,null,null,0,{"$f":"IF('2ª Partida'!$B34=\"\",\"\",'2ª Partida'!$B34&'2ª Partida'!$A34)","v":""},{"$f":"IF(OR('2ª Partida'!$C34=\"\",'2ª Partida'!$C34=\"Descansa\"),\"\",'2ª Partida'!$C34&'2ª Partida'!$A34)","v":""},0,{"$f":"IF('1ª Partida'!$B34=\"\",\"\",'1ª Partida'!$B34&'1ª Partida'!$A34)","v":""},{"$f":"IF(OR('1ª Partida'!$C34=\"\",'1ª Partida'!$C34=\"Descansa\"),\"\",'1ª Partida'!$C34&'1ª Partida'!$A34)","v":""}]

{"sheet":"4ª Partida","index":4,"n_rows":34,"n_cols":19,"rows_kept":34,"cut":false,"hidden":false,"merged":[[1,3,1,4],[0,0,0,4]]}
["4ª Partida",null,null,null,null,null,null,null,null,{"$f":"Clasificación!AR2","v":"Sorteo correcto"}]
["Pista",{"$f":"Participantes!B5&\" 1\"","v":"Equipo 1"},{"$f":"Participantes!B5&\" 2\"","v":"Equipo 2"},"Resultado",null,null,null,1,{"$f":"COUNTA(C3:C34)-COUNTIF(C3:C34,\"descansa\")","v":0}]
[1,null,null,null,null,{"$f":"IF(B3=\"\",0,IF(OR(D3>13,E3>13,D3<0,E3<0,OR(D3=\"\",E3=\"\"),AND(D3=13,E3=13)),-1,0))","v":0},null,null,null,null,null,{"$f":"COUNTIF($M$3:$N$18,B3&A3)+COUNTIF($M$3:$N$18,C3&A3)","v":0},{"$f":"IF('3ª Partida'!$B3=\"\",\"\",'3ª Partida'!$B3&'3ª Partida'!$A3)","v":""},{"$f":"IF(OR('3ª Partida'!$C3=\"\",'3ª Partida'!$C3=\"Descansa\"),\"\",'3ª Partida'!$C3&'3ª Partida'!$A3)","v":""},{"$f":"COUNTIF($P$3:$S$18,$B3&$A3)+COUNTIF($P$3:$S$18,$C3&$A3)","v":0},{"$f":"IF('1ª Partida'!$B3=\"\",\"\",'1ª Partida'!$B3&'1ª Partida'!$A3)","v":""},{"$f":"IF(OR('1ª Partida'!$C3=\"\",'1ª Partida'!$C3=\"Descansa\"),\"\",'1ª Partida'!$C3&'1ª Partida'!$A3)","v":""},{"$f":"IF('2ª Partida'!$B3=\"\",\"\",'2ª Partida'!$B3&'2ª Partida'!$A3)","v":""},{"$f":"IF(OR('2ª Partida'!$C3=\"\",'2ª Partida'!$C3=\"Descansa\"),\"\",'2ª Partida'!$C3&'2ª Partida'!$A3)","v":""}]
[2,null,null,null,null,0,null,null,null,null,null,0,{"$f":"IF('3ª Partida'!$B4=\"\",\"\",'3ª Partida'!$B4&'3ª Partida'!$A4)","v":""},{"$f":"IF(OR('3ª Partida'!$C4=\"\",'3ª Partida'!$C4=\"Descansa\"),\"\",'3ª Partida'!$C4&'3ª Partida'!$A4)","v":""},0,{"$f":"IF('1ª Partida'!$B4=\"\",\"\",'1ª Partida'!$B4&'1ª Partida'!$A4)","v":""},{"$f":"IF(OR('1ª Partida'!$C4=\"\",'1ª Partida'!$C4=\"Descansa\"),\"\",'1ª Partida'!$C4&'1ª Partida'!$A4)","v":""},{"$f":"IF('2ª Partida'!$B4=\"\",\"\",'2ª Partida'!$B4&'2ª Partida'!$A4)","v":""},{"$f":"IF(OR('2ª Partida'!$C4=\"\",'2ª Partida'!$C4=\"Descansa\"),\"\",'2ª Partida'!$C4&'2ª Partida'!$A4)","v":""}]
[3,null,null,null,null,0,null,null,null,null,null,0,{"$f":"IF('3ª Partida'!$B5=\"\",\"\",'3ª Partida'!$B5&'3ª Partida'!$A5)","v":""},{"$f":"IF(OR('3ª Partida'!$C5=\"\",'3ª Partida'!$C5=\"Descansa\"),\"\",'3ª Partida'!$C5&'3ª Partida'!$A5)","v":""},0,{"$f":"IF('1ª Partida'!$B5=\"\",\"\",'1ª Partida'!$B5&'1ª Partida'!$A5)","v":""},{"$f":"IF(OR('1ª Partida'!$C5=\"\",'1ª Partida'!$C5=\"Descansa\"),\"\",'1ª Partida'!$C5&'1ª Partida'!$A5)","v":""},{"$f":"IF('2ª Partida'!$B5=\"\",\"\",'2ª Partida'!$B5&'2ª Partida'!$A5)","v":""},{"$f":"IF(OR('2ª Partida'!$C5=\"\",'2ª Partida'!$C5=\"Descansa\"),\"\",'2ª Partida'!$C5&'2ª Partida'!$A5)","v":""}]
[4,null,null,null,null,0,null,null,null,null,null,0,{"$f":"IF('3ª Partida'!$B6=\"\",\"\",'3ª Partida'!$B6&'3ª Partida'!$A6)","v":""},{"$f":"IF(OR('3ª Partida'!$C6=\"\",'3ª Partida'!$C6=\"Descansa\"),\"\",'3ª Partida'!$C6&'3ª Partida'!$A6)","v":""},0,{"$f":"IF('1ª Partida'!$B6=\"\",\"\",'1ª Partida'!$B6&'1ª Partida'!$A6)","v":""},{"$f":"IF(OR('1ª Partida'!$C6=\"\",'1ª Partida'!$C6=\"Descansa\"),\"\",'1ª Partida'!$C6&'1ª Partida'!$A6)","v":""},{"$f":"IF('2ª Partida'!$B6=\"\",\"\",'2ª Partida'!$B6&'2ª Partida'!$A6)","v":""},{"$f":"IF(OR('2ª Partida'!$C6=\"\",'2ª Partida'!$C6=\"Descansa\"),\"\",'2ª Partida'!$C6&'2ª Partida'!$A6)","v":""}]
[5,null,null,null,null,0,null,null,null,null,null,0,{"$f":"IF('3ª Partida'!$B7=\"\",\"\",'3ª Partida'!$B7&'3ª Partida'!$A7)","v":""},{"$f":"IF(OR('3ª Partida'!$C7=\"\",'3ª Partida'!$C7=\"Descansa\"),\"\",'3ª Partida'!$C7&'3ª Partida'!$A7)","v":""},0,{"$f":"IF('1ª Partida'!$B7=\"\",\"\",'1ª Partida'!$B7&'1ª Partida'!$A7)","v":""},{"$f":"IF(OR('1ª Partida'!$C7=\"\",'1ª Partida'!$C7=\"Descansa\"),\"\",'1ª Partida'!$C7&'1ª Partida'!$A7)","v":""},{"$f":"IF('2ª Partida'!$B7=\"\",\"\",'2ª Partida'!$B7&'2ª Partida'!$A7)","v":""},{"$f":"IF(OR('2ª Partida'!$C7=\"\",'2ª Partida'!$C7=\"Descansa\"),\"\",'2ª Partida'!$C7&'2ª Partida'!$A7)","v":""}]
[6,null,null,null,null,0,null,null,null,null,null,0,{"$f":"IF('3ª Partida'!$B8=\"\",\"\",'3ª Partida'!$B8&'3ª Partida'!$A8)","v":""},{"$f":"IF(OR('3ª Partida'!$C8=\"\",'3ª Partida'!$C8=\"Descansa\"),\"\",'3ª Partida'!$C8&'3ª Partida'!$A8)","v":""},0,{"$f":"IF('1ª Partida'!$B8=\"\",\"\",'1ª Partida'!$B8&'1ª Partida'!$A8)","v":""},{"$f":"IF(OR('1ª Partida'!$C8=\"\",'1ª Partida'!$C8=\"Descansa\"),\"\",'1ª Partida'!$C8&'1ª Partida'!$A8)","v":""},{"$f":"IF('2ª Partida'!$B8=\"\",\"\",'2ª Partida'!$B8&'2ª Partida'!$A8)","v":""},{"$f":"IF(OR('2ª Partida'!$C8=\"\",'2ª Partida'!$C8=\"Descansa\"),\"\",'2ª Partida'!$C8&'2ª Partida'!$A8)","v":""}]
[7,null,null,null,null,0,null,null,null,null,null,0,{"$f":"IF('3ª Partida'!$B9=\"\",\"\",'3ª Partida'!$B9&'3ª Partida'!$A9)","v":""},{"$f":"IF(OR('3ª Partida'!$C9=\"\",'3ª Partida'!$C9=\"Descansa\"),\"\",'3ª Partida'!$C9&'3ª Partida'!$A9)","v":""},0,{"$f":"IF('1ª Partida'!$B9=\"\",\"\",'1ª Partida'!$B9&'1ª Partida'!$A9)","v":""},{"$f":"IF(OR('1ª Partida'!$C9=\"\",'1ª Partida'!$C9=\"Descansa\"),\"\",'1ª Partida'!$C9&'1ª Partida'!$A9)","v":""},{"$f":"IF('2ª Partida'!$B9=\"\",\"\",'2ª Partida'!$B9&'2ª Partida'!$A9)","v":""},{"$f":"IF(OR('2ª Partida'!$C9=\"\",'2ª Partida'!$C9=\"Descansa\"),\"\",'2ª Partida'!$C9&'2ª Partida'!$A9)","v":""}]
[8,null,null,null,null,0,null,null,null,null,null,0,{"$f":"IF('3ª Partida'!$B10=\"\",\"\",'3ª Partida'!$B10&'3ª Partida'!$A10)","v":""},{"$f":"IF(OR('3ª Partida'!$C10=\"\",'3ª Partida'!$C10=\"Descansa\"),\"\",'3ª Partida'!$C10&'3ª Partida'!$A10)","v":""},0,{"$f":"IF('1ª Partida'!$B10=\"\",\"\",'1ª Partida'!$B10&'1ª Partida'!$A10)","v":""},{"$f":"IF(OR('1ª Partida'!$C10=\"\",'1ª Partida'!$C10=\"Descansa\"),\"\",'1ª Partida'!$C10&'1ª Partida'!$A10)","v":""},{"$f":"IF('2ª Partida'!$B10=\"\",\"\",'2ª Partida'!$B10&'2ª Partida'!$A10)","v":""},{"$f":"IF(OR('2ª Partida'!$C10=\"\",'2ª Partida'!$C10=\"Descansa\"),\"\",'2ª Partida'!$C10&'2ª Partida'!$A10)","v":""}]
[9,null,null,null,null,0,null,null,null,null,null,0,{"$f":"IF('3ª Partida'!$B11=\"\",\"\",'3ª Partida'!$B11&'3ª Partida'!$A11)","v":""},{"$f":"IF(OR('3ª Partida'!$C11=\"\",'3ª Partida'!$C11=\"Descansa\"),\"\",'3ª Partida'!$C11&'3ª Partida'!$A11)","v":""},0,{"$f":"IF('1ª Partida'!$B11=\"\",\"\",'1ª Partida'!$B11&'1ª Partida'!$A11)","v":""},{"$f":"IF(OR('1ª Partida'!$C11=\"\",'1ª Partida'!$C11=\"Descansa\"),\"\",'1ª Partida'!$C11&'1ª Partida'!$A11)","v":""},{"$f":"IF('2ª Partida'!$B11=\"\",\"\",'2ª Partida'!$B11&'2ª Partida'!$A11)","v":""},{"$f":"IF(OR('2ª Partida'!$C11=\"\",'2ª Partida'!$C11=\"Descansa\"),\"\",'2ª Partida'!$C11&'2ª Partida'!$A11)","v":""}]
[10,null,null,null,null,0,null,null,null,null,null,0,{"$f":"IF('3ª Partida'!$B12=\"\",\"\",'3ª Partida'!$B12&'3ª Partida'!$A12)","v":""},{"$f":"IF(OR('3ª Partida'!$C12=\"\",'3ª Partida'!$C12=\"Descansa\"),\"\",'3ª Partida'!$C12&'3ª Partida'!$A12)","v":""},0,{"$f":"IF('1ª Partida'!$B12=\"\",\"\",'1ª Partida'!$B12&'1ª Partida'!$A12)","v":""},{"$f":"IF(OR('1ª Partida'!$C12=\"\",'1ª Partida'!$C12=\"Descansa\"),\"\",'1ª Partida'!$C12&'1ª Partida'!$A12)","v":""},{"$f":"IF('2ª Partida'!$B12=\"\",\"\",'2ª Partida'!$B12&'2ª Partida'!$A12)","v":""},{"$f":"IF(OR('2ª Partida'!$C12=\"\",'2ª Partida'!$C12=\"Descansa\"),\"\",'2ª Partida'!$C12&'2ª Partida'!$A12)","v":""}]
[11,null,null,null,null,0,null,null,null,null,null,0,{"$f":"IF('3ª Partida'!$B13=\"\",\"\",'3ª Partida'!$B13&'3ª Partida'!$A13)","v":""},{"$f":"IF(OR('3ª Partida'!$C13=\"\",'3ª Partida'!$C13=\"Descansa\"),\"\",'3ª Partida'!$C13&'3ª Partida'!$A13)","v":""},0,{"$f":"IF('1ª Partida'!$B13=\"\",\"\",'1ª Partida'!$B13&'1ª Partida'!$A13)","v":""},{"$f":"IF(OR('1ª Partida'!$C13=\"\",'1ª Partida'!$C13=\"Descansa\"),\"\",'1ª Partida'!$C13&'1ª Partida'!$A13)","v":""},{"$f":"IF('2ª Partida'!$B13=\"\",\"\",'2ª Partida'!$B13&'2ª Partida'!$A13)","v":""},{"$f":"IF(OR('2ª Partida'!$C13=\"\",'2ª Partida'!$C13=\"Descansa\"),\"\",'2ª Partida'!$C13&'2ª Partida'!$A13)","v":""}]
[12,null,null,null,null,0,null,null,null,null,null,0,{"$f":"IF('3ª Partida'!$B14=\"\",\"\",'3ª Partida'!$B14&'3ª Partida'!$A14)","v":""},{"$f":"IF(OR('3ª Partida'!$C14=\"\",'3ª Partida'!$C14=\"Descansa\"),\"\",'3ª Partida'!$C14&'3ª Partida'!$A14)","v":""},0,{"$f":"IF('1ª Partida'!$B14=\"\",\"\",'1ª Partida'!$B14&'1ª Partida'!$A14)","v":""},{"$f":"IF(OR('1ª Partida'!$C14=\"\",'1ª Partida'!$C14=\"Descansa\"),\"\",'1ª Partida'!$C14&'1ª Partida'!$A14)","v":""},{"$f":"IF('2ª Partida'!$B14=\"\",\"\",'2ª Partida'!$B14&'2ª Partida'!$A14)","v":""},{"$f":"IF(OR('2ª Partida'!$C14=\"\",'2ª Partida'!$C14=\"Descansa\"),\"\",'2ª Partida'!$C14&'2ª Partida'!$A14)","v":""}]
[13,null,null,null,null,0,null,null,null,null,null,0,{"$f":"IF('3ª Partida'!$B15=\"\",\"\",'3ª Partida'!$B15&'3ª Partida'!$A15)","v":""},{"$f":"IF(OR('3ª Partida'!$C15=\"\",'3ª Partida'!$C15=\"Descansa\"),\"\",'3ª Partida'!$C15&'3ª Partida'!$A15)","v":""},0,{"$f":"IF('1ª Partida'!$B15=\"\",\"\",'1ª Partida'!$B15&'1ª Partida'!$A15)","v":""},{"$f":"IF(OR('1ª Partida'!$C15=\"\",'1ª Partida'!$C15=\"Descansa\"),\"\",'1ª Partida'!$C15&'1ª Partida'!$A15)","v":""},{"$f":"IF('2ª Partida'!$B15=\"\",\"\",'2ª Partida'!$B15&'2ª Partida'!$A15)","v":""},{"$f":"IF(OR('2ª Partida'!$C15=\"\",'2ª Partida'!$C15=\"Descansa\"),\"\",'2ª Partida'!$C15&'2ª Partida'!$A15)","v":""}]
[14,null,null,null,null,0,null,null,null,null,null,0,{"$f":"IF('3ª Partida'!$B16=\"\",\"\",'3ª Partida'!$B16&'3ª Partida'!$A16)","v":""},{"$f":"IF(OR('3ª Partida'!$C16=\"\",'3ª Partida'!$C16=\"Descansa\"),\"\",'3ª Partida'!$C16&'3ª Partida'!$A16)","v":""},0,{"$f":"IF('1ª Partida'!$B16=\"\",\"\",'1ª Partida'!$B16&'1ª Partida'!$A16)","v":""},{"$f":"IF(OR('1ª Partida'!$C16=\"\",'1ª Partida'!$C16=\"Descansa\"),\"\",'1ª Partida'!$C16&'1ª Partida'!$A16)","v":""},{"$f":"IF('2ª Partida'!$B16=\"\",\"\",'2ª Partida'!$B16&'2ª Partida'!$A16)","v":""},{"$f":"IF(OR('2ª Partida'!$C16=\"\",'2ª Partida'!$C16=\"Descansa\"),\"\",'2ª Partida'!$C16&'2ª Partida'!$A16)","v":""}]
[15,null,null,null,null,0,null,null,null,null,null,0,{"$f":"IF('3ª Partida'!$B17=\"\",\"\",'3ª Partida'!$B17&'3ª Partida'!$A17)","v":""},{"$f":"IF(OR('3ª Partida'!$C17=\"\",'3ª Partida'!$C17=\"Descansa\"),\"\",'3ª Partida'!$C17&'3ª Partida'!$A17)","v":""},0,{"$f":"IF('1ª Partida'!$B17=\"\",\"\",'1ª Partida'!$B17&'1ª Partida'!$A17)","v":""},{"$f":"IF(OR('1ª Partida'!$C17=\"\",'1ª Partida'!$C17=\"Descansa\"),\"\",'1ª Partida'!$C17&'1ª Partida'!$A17)","v":""},{"$f":"IF('2ª Partida'!$B17=\"\",\"\",'2ª Partida'!$B17&'2ª Partida'!$A17)","v":""},{"$f":"IF(OR('2ª Partida'!$C17=\"\",'2ª Partida'!$C17=\"Descansa\"),\"\",'2ª Partida'!$C17&'2ª Partida'!$A17)","v":""}]
[16,null,null,null,null,0,null,null,null,null,null,0,{"$f":"IF('3ª Partida'!$B18=\"\",\"\",'3ª Partida'!$B18&'3ª Partida'!$A18)","v":""},{"$f":"IF(OR('3ª Partida'!$C18=\"\",'3ª Partida'!$C18=\"Descansa\"),\"\",'3ª Partida'!$C18&'3ª Partida'!$A18)","v":""},0,{"$f":"IF('1ª Partida'!$B18=\"\",\"\",'1ª Partida'!$B18&'1ª Partida'!$A18)","v":""},{"$f":"IF(OR('1ª Partida'!$C18=\"\",'1ª Partida'!$C18=\"Descansa\"),\"\",'1ª Partida'!$C18&'1ª Partida'!$A18)","v":""},{"$f":"IF('2ª Partida'!$B18=\"\",\"\",'2ª Partida'!$B18&'2ª Partida'!$A18)","v":""},{"$f":"IF(OR('2ª Partida'!$C18=\"\",'2ª Partida'!$C18=\"Descansa\"),\"\",'2ª Partida'!$C18&'2ª Partida'!$A18)","v":""}]
[17,null,null,null,null,{"$f":"IF(B19=\"\",0,IF(OR(D19>13,E19>13,D19<0,E19<0,OR(D19=\"\",E19=\"\"),AND(D19=13,E19=13)),-1,0))","v":0},null,null,null,null,null,{"$f":"COUNTIF($M$3:$N$18,B19&A19)+COUNTIF($M$3:$N$18,C19&A19)","v":0},{"$f":"IF('3ª Partida'!$B19=\"\",\"\",'3ª Partida'!$B19&'3ª Partida'!$A19)","v":""},{"$f":"IF(OR('3ª Partida'!$C19=\"\",'3ª Partida'!$C19=\"Descansa\"),\"\",'3ª Partida'!$C19&'3ª Partida'!$A19)","v":""},0,{"$f":"IF('1ª Partida'!$B19=\"\",\"\",'1ª Partida'!$B19&'1ª Partida'!$A19)","v":""},{"$f":"IF(OR('1ª Partida'!$C19=\"\",'1ª Partida'!$C19=\"Descansa\"),\"\",'1ª Partida'!$C19&'1ª Partida'!$A19)","v":""},{"$f":"IF('2ª Partida'!$B19=\"\",\"\",'2ª Partida'!$B19&'2ª Partida'!$A19)","v":""},{"$f":"IF(OR('2ª Partida'!$C19=\"\",'2ª Partida'!$C19=\"Descansa\"),\"\",'2ª Partida'!$C19&'2ª Partida'!$A19)","v":""}]
[18,null,null,null,null,0,null,null,null,null,null,0,{"$f":"IF('3ª Partida'!$B20=\"\",\"\",'3ª Partida'!$B20&'3ª Partida'!$A20)","v":""},{"$f":"IF(OR('3ª Partida'!$C20=\"\",'3ª Partida'!$C20=\"Descansa\"),\"\",'3ª Partida'!$C20&'3ª Partida'!$A20)","v":""},0,{"$f":"IF('1ª Partida'!$B20=\"\",\"\",'1ª Partida'!$B20&'1ª Partida'!$A20)","v":""},{"$f":"IF(OR('1ª Partida'!$C20=\"\",'1ª Partida'!$C20=\"Descansa\"),\"\",'1ª Partida'!$C20&'1ª Partida'!$A20)","v":""},{"$f":"IF('2ª Partida'!$B20=\"\",\"\",'2ª Partida'!$B20&'2ª Partida'!$A20)","v":""},{"$f":"IF(OR('2ª Partida'!$C20=\"\",'2ª Partida'!$C20=\"Descansa\"),\"\",'2ª Partida'!$C20&'2ª Partida'!$A20)","v":""}]
[19,null,null,null,null,0,null,null,null,null,null,0,{"$f":"IF('3ª Partida'!$B21=\"\",\"\",'3ª Partida'!$B21&'3ª Partida'!$A21)","v":""},{"$f":"IF(OR('3ª Partida'!$C21=\"\",'3ª Partida'!$C21=\"Descansa\"),\"\",'3ª Partida'!$C21&'3ª Partida'!$A21)","v":""},0,{"$f":"IF('1ª Partida'!$B21=\"\",\"\",'1ª Partida'!$B21&'1ª Partida'!$A21)","v":""},{"$f":"IF(OR('1ª Partida'!$C21=\"\",'1ª Partida'!$C21=\"Descansa\"),\"\",'1ª Partida'!$C21&'1ª Partida'!$A21)","v":""},{"$f":"IF('2ª Partida'!$B21=\"\",\"\",'2ª Partida'!$B21&'2ª Partida'!$A21)","v":""},{"$f":"IF(OR('2ª Partida'!$C21=\"\",'2ª Partida'!$C21=\"Descansa\"),\"\",'2ª Partida'!$C21&'2ª Partida'!$A21)","v":""}]
[20,null,null,null,null,0,null,null,null,null,null,0,{"$f":"IF('3ª Partida'!$B22=\"\",\"\",'3ª Partida'!$B22&'3ª Partida'!$A22)","v":""},{"$f":"IF(OR('3ª Partida'!$C22=\"\",'3ª Partida'!$C22=\"Descansa\"),\"\",'3ª Partida'!$C22&'3ª Partida'!$A22)","v":""},0,{"$f":"IF('1ª Partida'!$B22=\"\",\"\",'1ª Partida'!$B22&'1ª Partida'!$A22)","v":""},{"$f":"IF(OR('1ª Partida'!$C22=\"\",'1ª Partida'!$C22=\"Descansa\"),\"\",'1ª Partida'!$C22&'1ª Partida'!$A22)","v":""},{"$f":"IF('2ª Partida'!$B22=\"\",\"\",'2ª Partida'!$B22&'2ª Partida'!$A22)","v":""},{"$f":"IF(OR('2ª Partida'!$C22=\"\",'2ª Partida'!$C22=\"Descansa\"),\"\",'2ª Partida'!$C22&'2ª Partida'!$A22)","v":""}]
[21,null,null,null,null,0,null,null,null,null,null,0,{"$f":"IF('3ª Partida'!$B23=\"\",\"\",'3ª Partida'!$B23&'3ª Partida'!$A23)","v":""},{"$f":"IF(OR('3ª Partida'!$C23=\"\",'3ª Partida'!$C23=\"Descansa\"),\"\",'3ª Partida'!$C23&'3ª Partida'!$A23)","v":""},0,{"$f":"IF('1ª Partida'!$B23=\"\",\"\",'1ª Partida'!$B23&'1ª Partida'!$A23)","v":""},{"$f":"IF(OR('1ª Partida'!$C23=\"\",'1ª Partida'!$C23=\"Descansa\"),\"\",'1ª Partida'!$C23&'1ª Partida'!$A23)","v":""},{"$f":"IF('2ª Partida'!$B23=\"\",\"\",'2ª Partida'!$B23&'2ª Partida'!$A23)","v":""},{"$f":"IF(OR('2ª Partida'!$C23=\"\",'2ª Partida'!$C23=\"Descansa\"),\"\",'2ª Partida'!$C23&'2ª Partida'!$A23)","v":""}]
[22,null,null,null,null,0,null,null,null,null,null,0,{"$f":"IF('3ª Partida'!$B24=\"\",\"\",'3ª Partida'!$B24&'3ª Partida'!$A24)","v":""},{"$f":"IF(OR('3ª Partida'!$C24=\"\",'3ª Partida'!$C24=\"Descansa\"),\"\",'3ª Partida'!$C24&'3ª Partida'!$A24)","v":""},0,{"$f":"IF('1ª Partida'!$B24=\"\",\"\",'1ª Partida'!$B24&'1ª Partida'!$A24)","v":""},{"$f":"IF(OR('1ª Partida'!$C24=\"\",'1ª Partida'!$C24=\"Descansa\"),\"\",'1ª Partida'!$C24&'1ª Partida'!$A24)","v":""},{"$f":"IF('2ª Partida'!$B24=\"\",\"\",'2ª Partida'!$B24&'2ª Partida'!$A24)","v":""},{"$f":"IF(OR('2ª Partida'!$C24=\"\",'2ª Partida'!$C24=\"Descansa\"),\"\",'2ª Partida'!$C24&'2ª Partida'!$A24)","v":""}]
[23,null,null,null,null,0,null,null,null,null,null,0,{"$f":"IF('3ª Partida'!$B25=\"\",\"\",'3ª Partida'!$B25&'3ª Partida'!$A25)","v":""},{"$f":"IF(OR('3ª Partida'!$C25=\"\",'3ª Partida'!$C25=\"Descansa\"),\"\",'3ª Partida'!$C25&'3ª Partida'!$A25)","v":""},0,{"$f":"IF('1ª Partida'!$B25=\"\",\"\",'1ª Partida'!$B25&'1ª Partida'!$A25)","v":""},{"$f":"IF(OR('1ª Partida'!$C25=\"\",'1ª Partida'!$C25=\"Descansa\"),\"\",'1ª Partida'!$C25&'1ª Partida'!$A25)","v":""},{"$f":"IF('2ª Partida'!$B25=\"\",\"\",'2ª Partida'!$B25&'2ª Partida'!$A25)","v":""},{"$f":"IF(OR('2ª Partida'!$C25=\"\",'2ª Partida'!$C25=\"Descansa\"),\"\",'2ª Partida'!$C25&'2ª Partida'!$A25)","v":""}]
[24,null,null,null,null,0,null,null,null,null,null,0,{"$f":"IF('3ª Partida'!$B26=\"\",\"\",'3ª Partida'!$B26&'3ª Partida'!$A26)","v":""},{"$f":"IF(OR('3ª Partida'!$C26=\"\",'3ª Partida'!$C26=\"Descansa\"),\"\",'3ª Partida'!$C26&'3ª Partida'!$A26)","v":""},0,{"$f":"IF('1ª Partida'!$B26=\"\",\"\",'1ª Partida'!$B26&'1ª Partida'!$A26)","v":""},{"$f":"IF(OR('1ª Partida'!$C26=\"\",'1ª Partida'!$C26=\"Descansa\"),\"\",'1ª Partida'!$C26&'1ª Partida'!$A26)","v":""},{"$f":"IF('2ª Partida'!$B26=\"\",\"\",'2ª Partida'!$B26&'2ª Partida'!$A26)","v":""},{"$f":"IF(OR('2ª Partida'!$C26=\"\",'2ª Partida'!$C26=\"Descansa\"),\"\",'2ª Partida'!$C26&'2ª Partida'!$A26)","v":""}]
[25,null,null,null,null,0,null,null,null,null,null,0,{"$f":"IF('3ª Partida'!$B27=\"\",\"\",'3ª Partida'!$B27&'3ª Partida'!$A27)","v":""},{"$f":"IF(OR('3ª Partida'!$C27=\"\",'3ª Partida'!$C27=\"Descansa\"),\"\",'3ª Partida'!$C27&'3ª Partida'!$A27)","v":""},0,{"$f":"IF('1ª Partida'!$B27=\"\",\"\",'1ª Partida'!$B27&'1ª Partida'!$A27)","v":""},{"$f":"IF(OR('1ª Partida'!$C27=\"\",'1ª Partida'!$C27=\"Descansa\"),\"\",'1ª Partida'!$C27&'1ª Partida'!$A27)","v":""},{"$f":"IF('2ª Partida'!$B27=\"\",\"\",'2ª Partida'!$B27&'2ª Partida'!$A27)","v":""},{"$f":"IF(OR('2ª Partida'!$C27=\"\",'2ª Partida'!$C27=\"Descansa\"),\"\",'2ª Partida'!$C27&'2ª Partida'!$A27)","v":""}]
[26,null,null,null,null,0,null,null,null,null,null,0,{"$f":"IF('3ª Partida'!$B28=\"\",\"\",'3ª Partida'!$B28&'3ª Partida'!$A28)","v":""},{"$f":"IF(OR('3ª Partida'!$C28=\"\",'3ª Partida'!$C28=\"Descansa\"),\"\",'3ª Partida'!$C28&'3ª Partida'!$A28)","v":""},0,{"$f":"IF('1ª Partida'!$B28=\"\",\"\",'1ª Partida'!$B28&'1ª Partida'!$A28)","v":""},{"$f":"IF(OR('1ª Partida'!$C28=\"\",'1ª Partida'!$C28=\"Descansa\"),\"\",'1ª Partida'!$C28&'1ª Partida'!$A28)","v":""},{"$f":"IF('2ª Partida'!$B28=\"\",\"\",'2ª Partida'!$B28&'2ª Partida'!$A28)","v":""},{"$f":"IF(OR('2ª Partida'!$C28=\"\",'2ª Partida'!$C28=\"Descansa\"),\"\",'2ª Partida'!$C28&'2ª Partida'!$A28)","v":""}]
[27,null,null,null,null,0,null,null,null,null,null,0,{"$f":"IF('3ª Partida'!$B29=\"\",\"\",'3ª Partida'!$B29&'3ª Partida'!$A29)","v":""},{"$f":"IF(OR('3ª Partida'!$C29=\"\",'3ª Partida'!$C29=\"Descansa\"),\"\",'3ª Partida'!$C29&'3ª Partida'!$A29)","v":""},0,{"$f":"IF('1ª Partida'!$B29=\"\",\"\",'1ª Partida'!$B29&'1ª Partida'!$A29)","v":""},{"$f":"IF(OR('1ª Partida'!$C29=\"\",'1ª Partida'!$C29=\"Descansa\"),\"\",'1ª Partida'!$C29&'1ª Partida'!$A29)","v":""},{"$f":"IF('2ª Partida'!$B29=\"\",\"\",'2ª Partida'!$B29&'2ª Partida'!$A29)","v":""},{"$f":"IF(OR('2ª Partida'!$C29=\"\",'2ª Partida'!$C29=\"Descansa\"),\"\",'2ª Partida'!$C29&'2ª Partida'!$A29)","v":""}]
[28,null,null,null,null,0,null,null,null,null,null,0,{"$f":"IF('3ª Partida'!$B30=\"\",\"\",'3ª Partida'!$B30&'3ª Partida'!$A30)","v":""},{"$f":"IF(OR('3ª Partida'!$C30=\"\",'3ª Partida'!$C30=\"Descansa\"),\"\",'3ª Partida'!$C30&'3ª Partida'!$A30)","v":""},0,{"$f":"IF('1ª Partida'!$B30=\"\",\"\",'1ª Partida'!$B30&'1ª Partida'!$A30)","v":""},{"$f":"IF(OR('1ª Partida'!$C30=\"\",'1ª Partida'!$C30=\"Descansa\"),\"\",'1ª Partida'!$C30&'1ª Partida'!$A30)","v":""},{"$f":"IF('2ª Partida'!$B30=\"\",\"\",'2ª Partida'!$B30&'2ª Partida'!$A30)","v":""},{"$f":"IF(OR('2ª Partida'!$C30=\"\",'2ª Partida'!$C30=\"Descansa\"),\"\",'2ª Partida'!$C30&'2ª Partida'!$A30)","v":""}]
[29,null,null,null,null,0,null,null,null,null,null,0,{"$f":"IF('3ª Partida'!$B31=\"\",\"\",'3ª Partida'!$B31&'3ª Partida'!$A31)","v":""},{"$f":"IF(OR('3ª Partida'!$C31=\"\",'3ª Partida'!$C31=\"Descansa\"),\"\",'3ª Partida'!$C31&'3ª Partida'!$A31)","v":""},0,{"$f":"IF('1ª Partida'!$B31=\"\",\"\",'1ª Partida'!$B31&'1ª Partida'!$A31)","v":""},{"$f":"IF(OR('1ª Partida'!$C31=\"\",'1ª Partida'!$C31=\"Descansa\"),\"\",'1ª Partida'!$C31&'1ª Partida'!$A31)","v":""},{"$f":"IF('2ª Partida'!$B31=\"\",\"\",'2ª Partida'!$B31&'2ª Partida'!$A31)","v":""},{"$f":"IF(OR('2ª Partida'!$C31=\"\",'2ª Partida'!$C31=\"Descansa\"),\"\",'2ª Partida'!$C31&'2ª Partida'!$A31)","v":""}]
[30,null,null,null,null,0,null,null,null,null,null,0,{"$f":"IF('3ª Partida'!$B32=\"\",\"\",'3ª Partida'!$B32&'3ª Partida'!$A32)","v":""},{"$f":"IF(OR('3ª Partida'!$C32=\"\",'3ª Partida'!$C32=\"Descansa\"),\"\",'3ª Partida'!$C32&'3ª Partida'!$A32)","v":""},0,{"$f":"IF('1ª Partida'!$B32=\"\",\"\",'1ª Partida'!$B32&'1ª Partida'!$A32)","v":""},{"$f":"IF(OR('1ª Partida'!$C32=\"\",'1ª Partida'!$C32=\"Descansa\"),\"\",'1ª Partida'!$C32&'1ª Partida'!$A32)","v":""},{"$f":"IF('2ª Partida'!$B32=\"\",\"\",'2ª Partida'!$B32&'2ª Partida'!$A32)","v":""},{"$f":"IF(OR('2ª Partida'!$C32=\"\",'2ª Partida'!$C32=\"Descansa\"),\"\",'2ª Partida'!$C32&'2ª Partida'!$A32)","v":""}]
[31,null,null,null,null,0,null,null,null,null,null,0,{"$f":"IF('3ª Partida'!$B33=\"\",\"\",'3ª Partida'!$B33&'3ª Partida'!$A33)","v":""},{"$f":"IF(OR('3ª Partida'!$C33=\"\",'3ª Partida'!$C33=\"Descansa\"),\"\",'3ª Partida'!$C33&'3ª Partida'!$A33)","v":""},0,{"$f":"IF('1ª Partida'!$B33=\"\",\"\",'1ª Partida'!$B33&'1ª Partida'!$A33)","v":""},{"$f":"IF(OR('1ª Partida'!$C33=\"\",'1ª Partida'!$C33=\"Descansa\"),\"\",'1ª Partida'!$C33&'1ª Partida'!$A33)","v":""},{"$f":"IF('2ª Partida'!$B33=\"\",\"\",'2ª Partida'!$B33&'2ª Partida'!$A33)","v":""},{"$f":"IF(OR('2ª Partida'!$C33=\"\",'2ª Partida'!$C33=\"Descansa\"),\"\",'2ª Partida'!$C33&'2ª Partida'!$A33)","v":""}]
[32,null,null,null,null,0,null,null,null,null,null,0,{"$f":"IF('3ª Partida'!$B34=\"\",\"\",'3ª Partida'!$B34&'3ª Partida'!$A34)","v":""},{"$f":"IF(OR('3ª Partida'!$C34=\"\",'3ª Partida'!$C34=\"Descansa\"),\"\",'3ª Partida'!$C34&'3ª Partida'!$A34)","v":""},0,{"$f":"IF('1ª Partida'!$B34=\"\",\"\",'1ª Partida'!$B34&'1ª Partida'!$A34)","v":""},{"$f":"IF(OR('1ª Partida'!$C34=\"\",'1ª Partida'!$C34=\"Descansa\"),\"\",'1ª Partida'!$C34&'1ª Partida'!$A34)","v":""},{"$f":"IF('2ª Partida'!$B34=\"\",\"\",'2ª Partida'!$B34&'2ª Partida'!$A34)","v":""},{"$f":"IF(OR('2ª Partida'!$C34=\"\",'2ª Partida'!$C34=\"Descansa\"),\"\",'2ª Partida'!$C34&'2ª Partida'!$A34)","v":""}]

{"sheet":"5ª Partida","index":5,"n_rows":34,"n_cols":21,"rows_kept":34,"cut":false,"hidden":false,"merged":[[1,3,1,4],[13,7,13,10],[0,0,0,4],[29,7,29,10]]}
["5ª Partida",null,null,null,null,null,null,null,null,{"$f":"Clasificación!AR2","v":"Sorteo correcto"}]
["Pista",{"$f":"Participantes!B5&\" 1\"","v":"Equipo 1"},{"$f":"Participantes!B5&\" 2\"","v":"Equipo 2"},"Resultado",null,null,null,1,{"$f":"COUNTA(C3:C34)-COUNTIF(C3:C34,\"descansa\")","v":0}]
[1,null,null,null,null,{"$f":"IF(B3=\"\",0,IF(OR(D3>13,E3>13,D3<0,E3<0,OR(D3=\"\",E3=\"\"),AND(D3=13,E3=13)),-1,0))","v":0},null,null,null,null,null,{"$f":"COUNTIF($M$3:$N$18,B3&A3)+COUNTIF($M$3:$N$18,C3&A3)","v":0},{"$f":"IF('4ª Partida'!$B3=\"\",\"\",'4ª Partida'!$B3&'4ª Partida'!$A3)","v":""},{"$f":"IF(OR('4ª Partida'!$C3=\"\",'4ª Partida'!$C3=\"Descansa\"),\"\",'4ª Partida'!$C3&'4ª Partida'!$A3)","v":""},{"$f":"COUNTIF($P$3:$U$18,$B3&$A3)+COUNTIF($P$3:$U$18,$C3&$A3)","v":0},{"$f":"IF('1ª Partida'!$B3=\"\",\"\",'1ª Partida'!$B3&'1ª Partida'!$A3)","v":""},{"$f":"IF(OR('1ª Partida'!$C3=\"\",'1ª Partida'!$C3=\"Descansa\"),\"\",'1ª Partida'!$C3&'1ª Partida'!$A3)","v":""},{"$f":"IF('2ª Partida'!$B3=\"\",\"\",'2ª Partida'!$B3&'2ª Partida'!$A3)","v":""},{"$f":"IF(OR('2ª Partida'!$C3=\"\",'2ª Partida'!$C3=\"Descansa\"),\"\",'2ª Partida'!$C3&'2ª Partida'!$A3)","v":""},{"$f":"IF('3ª Partida'!$B3=\"\",\"\",'3ª Partida'!$B3&'3ª Partida'!$A3)","v":""},{"$f":"IF(OR('3ª Partida'!$C3=\"\",'3ª Partida'!$C3=\"Descansa\"),\"\",'3ª Partida'!$C3&'3ª Partida'!$A3)","v":""}]
[2,null,null,null,null,0,null,null,null,null,null,0,{"$f":"IF('4ª Partida'!$B4=\"\",\"\",'4ª Partida'!$B4&'4ª Partida'!$A4)","v":""},{"$f":"IF(OR('4ª Partida'!$C4=\"\",'4ª Partida'!$C4=\"Descansa\"),\"\",'4ª Partida'!$C4&'4ª Partida'!$A4)","v":""},0,{"$f":"IF('1ª Partida'!$B4=\"\",\"\",'1ª Partida'!$B4&'1ª Partida'!$A4)","v":""},{"$f":"IF(OR('1ª Partida'!$C4=\"\",'1ª Partida'!$C4=\"Descansa\"),\"\",'1ª Partida'!$C4&'1ª Partida'!$A4)","v":""},{"$f":"IF('2ª Partida'!$B4=\"\",\"\",'2ª Partida'!$B4&'2ª Partida'!$A4)","v":""},{"$f":"IF(OR('2ª Partida'!$C4=\"\",'2ª Partida'!$C4=\"Descansa\"),\"\",'2ª Partida'!$C4&'2ª Partida'!$A4)","v":""},{"$f":"IF('3ª Partida'!$B4=\"\",\"\",'3ª Partida'!$B4&'3ª Partida'!$A4)","v":""},{"$f":"IF(OR('3ª Partida'!$C4=\"\",'3ª Partida'!$C4=\"Descansa\"),\"\",'3ª Partida'!$C4&'3ª Partida'!$A4)","v":""}]
[3,null,null,null,null,0,null,null,null,null,null,0,{"$f":"IF('4ª Partida'!$B5=\"\",\"\",'4ª Partida'!$B5&'4ª Partida'!$A5)","v":""},{"$f":"IF(OR('4ª Partida'!$C5=\"\",'4ª Partida'!$C5=\"Descansa\"),\"\",'4ª Partida'!$C5&'4ª Partida'!$A5)","v":""},0,{"$f":"IF('1ª Partida'!$B5=\"\",\"\",'1ª Partida'!$B5&'1ª Partida'!$A5)","v":""},{"$f":"IF(OR('1ª Partida'!$C5=\"\",'1ª Partida'!$C5=\"Descansa\"),\"\",'1ª Partida'!$C5&'1ª Partida'!$A5)","v":""},{"$f":"IF('2ª Partida'!$B5=\"\",\"\",'2ª Partida'!$B5&'2ª Partida'!$A5)","v":""},{"$f":"IF(OR('2ª Partida'!$C5=\"\",'2ª Partida'!$C5=\"Descansa\"),\"\",'2ª Partida'!$C5&'2ª Partida'!$A5)","v":""},{"$f":"IF('3ª Partida'!$B5=\"\",\"\",'3ª Partida'!$B5&'3ª Partida'!$A5)","v":""},{"$f":"IF(OR('3ª Partida'!$C5=\"\",'3ª Partida'!$C5=\"Descansa\"),\"\",'3ª Partida'!$C5&'3ª Partida'!$A5)","v":""}]
[4,null,null,null,null,0,null,null,null,null,null,0,{"$f":"IF('4ª Partida'!$B6=\"\",\"\",'4ª Partida'!$B6&'4ª Partida'!$A6)","v":""},{"$f":"IF(OR('4ª Partida'!$C6=\"\",'4ª Partida'!$C6=\"Descansa\"),\"\",'4ª Partida'!$C6&'4ª Partida'!$A6)","v":""},0,{"$f":"IF('1ª Partida'!$B6=\"\",\"\",'1ª Partida'!$B6&'1ª Partida'!$A6)","v":""},{"$f":"IF(OR('1ª Partida'!$C6=\"\",'1ª Partida'!$C6=\"Descansa\"),\"\",'1ª Partida'!$C6&'1ª Partida'!$A6)","v":""},{"$f":"IF('2ª Partida'!$B6=\"\",\"\",'2ª Partida'!$B6&'2ª Partida'!$A6)","v":""},{"$f":"IF(OR('2ª Partida'!$C6=\"\",'2ª Partida'!$C6=\"Descansa\"),\"\",'2ª Partida'!$C6&'2ª Partida'!$A6)","v":""},{"$f":"IF('3ª Partida'!$B6=\"\",\"\",'3ª Partida'!$B6&'3ª Partida'!$A6)","v":""},{"$f":"IF(OR('3ª Partida'!$C6=\"\",'3ª Partida'!$C6=\"Descansa\"),\"\",'3ª Partida'!$C6&'3ª Partida'!$A6)","v":""}]
[5,null,null,null,null,0,null,null,null,null,null,0,{"$f":"IF('4ª Partida'!$B7=\"\",\"\",'4ª Partida'!$B7&'4ª Partida'!$A7)","v":""},{"$f":"IF(OR('4ª Partida'!$C7=\"\",'4ª Partida'!$C7=\"Descansa\"),\"\",'4ª Partida'!$C7&'4ª Partida'!$A7)","v":""},0,{"$f":"IF('1ª Partida'!$B7=\"\",\"\",'1ª Partida'!$B7&'1ª Partida'!$A7)","v":""},{"$f":"IF(OR('1ª Partida'!$C7=\"\",'1ª Partida'!$C7=\"Descansa\"),\"\",'1ª Partida'!$C7&'1ª Partida'!$A7)","v":""},{"$f":"IF('2ª Partida'!$B7=\"\",\"\",'2ª Partida'!$B7&'2ª Partida'!$A7)","v":""},{"$f":"IF(OR('2ª Partida'!$C7=\"\",'2ª Partida'!$C7=\"Descansa\"),\"\",'2ª Partida'!$C7&'2ª Partida'!$A7)","v":""},{"$f":"IF('3ª Partida'!$B7=\"\",\"\",'3ª Partida'!$B7&'3ª Partida'!$A7)","v":""},{"$f":"IF(OR('3ª Partida'!$C7=\"\",'3ª Partida'!$C7=\"Descansa\"),\"\",'3ª Partida'!$C7&'3ª Partida'!$A7)","v":""}]
[6,null,null,null,null,0,null,null,null,null,null,0,{"$f":"IF('4ª Partida'!$B8=\"\",\"\",'4ª Partida'!$B8&'4ª Partida'!$A8)","v":""},{"$f":"IF(OR('4ª Partida'!$C8=\"\",'4ª Partida'!$C8=\"Descansa\"),\"\",'4ª Partida'!$C8&'4ª Partida'!$A8)","v":""},0,{"$f":"IF('1ª Partida'!$B8=\"\",\"\",'1ª Partida'!$B8&'1ª Partida'!$A8)","v":""},{"$f":"IF(OR('1ª Partida'!$C8=\"\",'1ª Partida'!$C8=\"Descansa\"),\"\",'1ª Partida'!$C8&'1ª Partida'!$A8)","v":""},{"$f":"IF('2ª Partida'!$B8=\"\",\"\",'2ª Partida'!$B8&'2ª Partida'!$A8)","v":""},{"$f":"IF(OR('2ª Partida'!$C8=\"\",'2ª Partida'!$C8=\"Descansa\"),\"\",'2ª Partida'!$C8&'2ª Partida'!$A8)","v":""},{"$f":"IF('3ª Partida'!$B8=\"\",\"\",'3ª Partida'!$B8&'3ª Partida'!$A8)","v":""},{"$f":"IF(OR('3ª Partida'!$C8=\"\",'3ª Partida'!$C8=\"Descansa\"),\"\",'3ª Partida'!$C8&'3ª Partida'!$A8)","v":""}]
[7,null,null,null,null,0,null,null,null,null,null,0,{"$f":"IF('4ª Partida'!$B9=\"\",\"\",'4ª Partida'!$B9&'4ª Partida'!$A9)","v":""},{"$f":"IF(OR('4ª Partida'!$C9=\"\",'4ª Partida'!$C9=\"Descansa\"),\"\",'4ª Partida'!$C9&'4ª Partida'!$A9)","v":""},0,{"$f":"IF('1ª Partida'!$B9=\"\",\"\",'1ª Partida'!$B9&'1ª Partida'!$A9)","v":""},{"$f":"IF(OR('1ª Partida'!$C9=\"\",'1ª Partida'!$C9=\"Descansa\"),\"\",'1ª Partida'!$C9&'1ª Partida'!$A9)","v":""},{"$f":"IF('2ª Partida'!$B9=\"\",\"\",'2ª Partida'!$B9&'2ª Partida'!$A9)","v":""},{"$f":"IF(OR('2ª Partida'!$C9=\"\",'2ª Partida'!$C9=\"Descansa\"),\"\",'2ª Partida'!$C9&'2ª Partida'!$A9)","v":""},{"$f":"IF('3ª Partida'!$B9=\"\",\"\",'3ª Partida'!$B9&'3ª Partida'!$A9)","v":""},{"$f":"IF(OR('3ª Partida'!$C9=\"\",'3ª Partida'!$C9=\"Descansa\"),\"\",'3ª Partida'!$C9&'3ª Partida'!$A9)","v":""}]
[8,null,null,null,null,0,null,null,null,null,null,0,{"$f":"IF('4ª Partida'!$B10=\"\",\"\",'4ª Partida'!$B10&'4ª Partida'!$A10)","v":""},{"$f":"IF(OR('4ª Partida'!$C10=\"\",'4ª Partida'!$C10=\"Descansa\"),\"\",'4ª Partida'!$C10&'4ª Partida'!$A10)","v":""},0,{"$f":"IF('1ª Partida'!$B10=\"\",\"\",'1ª Partida'!$B10&'1ª Partida'!$A10)","v":""},{"$f":"IF(OR('1ª Partida'!$C10=\"\",'1ª Partida'!$C10=\"Descansa\"),\"\",'1ª Partida'!$C10&'1ª Partida'!$A10)","v":""},{"$f":"IF('2ª Partida'!$B10=\"\",\"\",'2ª Partida'!$B10&'2ª Partida'!$A10)","v":""},{"$f":"IF(OR('2ª Partida'!$C10=\"\",'2ª Partida'!$C10=\"Descansa\"),\"\",'2ª Partida'!$C10&'2ª Partida'!$A10)","v":""},{"$f":"IF('3ª Partida'!$B10=\"\",\"\",'3ª Partida'!$B10&'3ª Partida'!$A10)","v":""},{"$f":"IF(OR('3ª Partida'!$C10=\"\",'3ª Partida'!$C10=\"Descansa\"),\"\",'3ª Partida'!$C10&'3ª Partida'!$A10)","v":""}]
[9,null,null,null,null,0,null,null,null,null,null,0,{"$f":"IF('4ª Partida'!$B11=\"\",\"\",'4ª Partida'!$B11&'4ª Partida'!$A11)","v":""},{"$f":"IF(OR('4ª Partida'!$C11=\"\",'4ª Partida'!$C11=\"Descansa\"),\"\",'4ª Partida'!$C11&'4ª Partida'!$A11)","v":""},0,{"$f":"IF('1ª Partida'!$B11=\"\",\"\",'1ª Partida'!$B11&'1ª Partida'!$A11)","v":""},{"$f":"IF(OR('1ª Partida'!$C11=\"\",'1ª Partida'!$C11=\"Descansa\"),\"\",'1ª Partida'!$C11&'1ª Partida'!$A11)","v":""},{"$f":"IF('2ª Partida'!$B11=\"\",\"\",'2ª Partida'!$B11&'2ª Partida'!$A11)","v":""},{"$f":"IF(OR('2ª Partida'!$C11=\"\",'2ª Partida'!$C11=\"Descansa\"),\"\",'2ª Partida'!$C11&'2ª Partida'!$A11)","v":""},{"$f":"IF('3ª Partida'!$B11=\"\",\"\",'3ª Partida'!$B11&'3ª Partida'!$A11)","v":""},{"$f":"IF(OR('3ª Partida'!$C11=\"\",'3ª Partida'!$C11=\"Descansa\"),\"\",'3ª Partida'!$C11&'3ª Partida'!$A11)","v":""}]
[10,null,null,null,null,0,null,null,null,null,null,0,{"$f":"IF('4ª Partida'!$B12=\"\",\"\",'4ª Partida'!$B12&'4ª Partida'!$A12)","v":""},{"$f":"IF(OR('4ª Partida'!$C12=\"\",'4ª Partida'!$C12=\"Descansa\"),\"\",'4ª Partida'!$C12&'4ª Partida'!$A12)","v":""},0,{"$f":"IF('1ª Partida'!$B12=\"\",\"\",'1ª Partida'!$B12&'1ª Partida'!$A12)","v":""},{"$f":"IF(OR('1ª Partida'!$C12=\"\",'1ª Partida'!$C12=\"Descansa\"),\"\",'1ª Partida'!$C12&'1ª Partida'!$A12)","v":""},{"$f":"IF('2ª Partida'!$B12=\"\",\"\",'2ª Partida'!$B12&'2ª Partida'!$A12)","v":""},{"$f":"IF(OR('2ª Partida'!$C12=\"\",'2ª Partida'!$C12=\"Descansa\"),\"\",'2ª Partida'!$C12&'2ª Partida'!$A12)","v":""},{"$f":"IF('3ª Partida'!$B12=\"\",\"\",'3ª Partida'!$B12&'3ª Partida'!$A12)","v":""},{"$f":"IF(OR('3ª Partida'!$C12=\"\",'3ª Partida'!$C12=\"Descansa\"),\"\",'3ª Partida'!$C12&'3ª Partida'!$A12)","v":""}]
[11,null,null,null,null,0,null,null,null,null,null,0,{"$f":"IF('4ª Partida'!$B13=\"\",\"\",'4ª Partida'!$B13&'4ª Partida'!$A13)","v":""},{"$f":"IF(OR('4ª Partida'!$C13=\"\",'4ª Partida'!$C13=\"Descansa\"),\"\",'4ª Partida'!$C13&'4ª Partida'!$A13)","v":""},0,{"$f":"IF('1ª Partida'!$B13=\"\",\"\",'1ª Partida'!$B13&'1ª Partida'!$A13)","v":""},{"$f":"IF(OR('1ª Partida'!$C13=\"\",'1ª Partida'!$C13=\"Descansa\"),\"\",'1ª Partida'!$C13&'1ª Partida'!$A13)","v":""},{"$f":"IF('2ª Partida'!$B13=\"\",\"\",'2ª Partida'!$B13&'2ª Partida'!$A13)","v":""},{"$f":"IF(OR('2ª Partida'!$C13=\"\",'2ª Partida'!$C13=\"Descansa\"),\"\",'2ª Partida'!$C13&'2ª Partida'!$A13)","v":""},{"$f":"IF('3ª Partida'!$B13=\"\",\"\",'3ª Partida'!$B13&'3ª Partida'!$A13)","v":""},{"$f":"IF(OR('3ª Partida'!$C13=\"\",'3ª Partida'!$C13=\"Descansa\"),\"\",'3ª Partida'!$C13&'3ª Partida'!$A13)","v":""}]
[12,null,null,null,null,0,null,null,null,null,null,0,{"$f":"IF('4ª Partida'!$B14=\"\",\"\",'4ª Partida'!$B14&'4ª Partida'!$A14)","v":""},{"$f":"IF(OR('4ª Partida'!$C14=\"\",'4ª Partida'!$C14=\"Descansa\"),\"\",'4ª Partida'!$C14&'4ª Partida'!$A14)","v":""},0,{"$f":"IF('1ª Partida'!$B14=\"\",\"\",'1ª Partida'!$B14&'1ª Partida'!$A14)","v":""},{"$f":"IF(OR('1ª Partida'!$C14=\"\",'1ª Partida'!$C14=\"Descansa\"),\"\",'1ª Partida'!$C14&'1ª Partida'!$A14)","v":""},{"$f":"IF('2ª Partida'!$B14=\"\",\"\",'2ª Partida'!$B14&'2ª Partida'!$A14)","v":""},{"$f":"IF(OR('2ª Partida'!$C14=\"\",'2ª Partida'!$C14=\"Descansa\"),\"\",'2ª Partida'!$C14&'2ª Partida'!$A14)","v":""},{"$f":"IF('3ª Partida'!$B14=\"\",\"\",'3ª Partida'!$B14&'3ª Partida'!$A14)","v":""},{"$f":"IF(OR('3ª Partida'!$C14=\"\",'3ª Partida'!$C14=\"Descansa\"),\"\",'3ª Partida'!$C14&'3ª Partida'!$A14)","v":""}]
[13,null,null,null,null,0,null,null,null,null,null,0,{"$f":"IF('4ª Partida'!$B15=\"\",\"\",'4ª Partida'!$B15&'4ª Partida'!$A15)","v":""},{"$f":"IF(OR('4ª Partida'!$C15=\"\",'4ª Partida'!$C15=\"Descansa\"),\"\",'4ª Partida'!$C15&'4ª Partida'!$A15)","v":""},0,{"$f":"IF('1ª Partida'!$B15=\"\",\"\",'1ª Partida'!$B15&'1ª Partida'!$A15)","v":""},{"$f":"IF(OR('1ª Partida'!$C15=\"\",'1ª Partida'!$C15=\"Descansa\"),\"\",'1ª Partida'!$C15&'1ª Partida'!$A15)","v":""},{"$f":"IF('2ª Partida'!$B15=\"\",\"\",'2ª Partida'!$B15&'2ª Partida'!$A15)","v":""},{"$f":"IF(OR('2ª Partida'!$C15=\"\",'2ª Partida'!$C15=\"Descansa\"),\"\",'2ª Partida'!$C15&'2ª Partida'!$A15)","v":""},{"$f":"IF('3ª Partida'!$B15=\"\",\"\",'3ª Partida'!$B15&'3ª Partida'!$A15)","v":""},{"$f":"IF(OR('3ª Partida'!$C15=\"\",'3ª Partida'!$C15=\"Descansa\"),\"\",'3ª Partida'!$C15&'3ª Partida'!$A15)","v":""}]
[14,null,null,null,null,0,null,null,null,null,null,0,{"$f":"IF('4ª Partida'!$B16=\"\",\"\",'4ª Partida'!$B16&'4ª Partida'!$A16)","v":""},{"$f":"IF(OR('4ª Partida'!$C16=\"\",'4ª Partida'!$C16=\"Descansa\"),\"\",'4ª Partida'!$C16&'4ª Partida'!$A16)","v":""},0,{"$f":"IF('1ª Partida'!$B16=\"\",\"\",'1ª Partida'!$B16&'1ª Partida'!$A16)","v":""},{"$f":"IF(OR('1ª Partida'!$C16=\"\",'1ª Partida'!$C16=\"Descansa\"),\"\",'1ª Partida'!$C16&'1ª Partida'!$A16)","v":""},{"$f":"IF('2ª Partida'!$B16=\"\",\"\",'2ª Partida'!$B16&'2ª Partida'!$A16)","v":""},{"$f":"IF(OR('2ª Partida'!$C16=\"\",'2ª Partida'!$C16=\"Descansa\"),\"\",'2ª Partida'!$C16&'2ª Partida'!$A16)","v":""},{"$f":"IF('3ª Partida'!$B16=\"\",\"\",'3ª Partida'!$B16&'3ª Partida'!$A16)","v":""},{"$f":"IF(OR('3ª Partida'!$C16=\"\",'3ª Partida'!$C16=\"Descansa\"),\"\",'3ª Partida'!$C16&'3ª Partida'!$A16)","v":""}]
[15,null,null,null,null,0,null,null,null,null,null,0,{"$f":"IF('4ª Partida'!$B17=\"\",\"\",'4ª Partida'!$B17&'4ª Partida'!$A17)","v":""},{"$f":"IF(OR('4ª Partida'!$C17=\"\",'4ª Partida'!$C17=\"Descansa\"),\"\",'4ª Partida'!$C17&'4ª Partida'!$A17)","v":""},0,{"$f":"IF('1ª Partida'!$B17=\"\",\"\",'1ª Partida'!$B17&'1ª Partida'!$A17)","v":""},{"$f":"IF(OR('1ª Partida'!$C17=\"\",'1ª Partida'!$C17=\"Descansa\"),\"\",'1ª Partida'!$C17&'1ª Partida'!$A17)","v":""},{"$f":"IF('2ª Partida'!$B17=\"\",\"\",'2ª Partida'!$B17&'2ª Partida'!$A17)","v":""},{"$f":"IF(OR('2ª Partida'!$C17=\"\",'2ª Partida'!$C17=\"Descansa\"),\"\",'2ª Partida'!$C17&'2ª Partida'!$A17)","v":""},{"$f":"IF('3ª Partida'!$B17=\"\",\"\",'3ª Partida'!$B17&'3ª Partida'!$A17)","v":""},{"$f":"IF(OR('3ª Partida'!$C17=\"\",'3ª Partida'!$C17=\"Descansa\"),\"\",'3ª Partida'!$C17&'3ª Partida'!$A17)","v":""}]
[16,null,null,null,null,0,null,null,null,null,null,0,{"$f":"IF('4ª Partida'!$B18=\"\",\"\",'4ª Partida'!$B18&'4ª Partida'!$A18)","v":""},{"$f":"IF(OR('4ª Partida'!$C18=\"\",'4ª Partida'!$C18=\"Descansa\"),\"\",'4ª Partida'!$C18&'4ª Partida'!$A18)","v":""},0,{"$f":"IF('1ª Partida'!$B18=\"\",\"\",'1ª Partida'!$B18&'1ª Partida'!$A18)","v":""},{"$f":"IF(OR('1ª Partida'!$C18=\"\",'1ª Partida'!$C18=\"Descansa\"),\"\",'1ª Partida'!$C18&'1ª Partida'!$A18)","v":""},{"$f":"IF('2ª Partida'!$B18=\"\",\"\",'2ª Partida'!$B18&'2ª Partida'!$A18)","v":""},{"$f":"IF(OR('2ª Partida'!$C18=\"\",'2ª Partida'!$C18=\"Descansa\"),\"\",'2ª Partida'!$C18&'2ª Partida'!$A18)","v":""},{"$f":"IF('3ª Partida'!$B18=\"\",\"\",'3ª Partida'!$B18&'3ª Partida'!$A18)","v":""},{"$f":"IF(OR('3ª Partida'!$C18=\"\",'3ª Partida'!$C18=\"Descansa\"),\"\",'3ª Partida'!$C18&'3ª Partida'!$A18)","v":""}]
[17,null,null,null,null,{"$f":"IF(B19=\"\",0,IF(OR(D19>13,E19>13,D19<0,E19<0,OR(D19=\"\",E19=\"\"),AND(D19=13,E19=13)),-1,0))","v":0},null,null,null,null,null,{"$f":"COUNTIF($M$3:$N$18,B19&A19)+COUNTIF($M$3:$N$18,C19&A19)","v":0},{"$f":"IF('4ª Partida'!$B19=\"\",\"\",'4ª Partida'!$B19&'4ª Partida'!$A19)","v":""},{"$f":"IF(OR('4ª Partida'!$C19=\"\",'4ª Partida'!$C19=\"Descansa\"),\"\",'4ª Partida'!$C19&'4ª Partida'!$A19)","v":""},0,{"$f":"IF('1ª Partida'!$B19=\"\",\"\",'1ª Partida'!$B19&'1ª Partida'!$A19)","v":""},{"$f":"IF(OR('1ª Partida'!$C19=\"\",'1ª Partida'!$C19=\"Descansa\"),\"\",'1ª Partida'!$C19&'1ª Partida'!$A19)","v":""},{"$f":"IF('2ª Partida'!$B19=\"\",\"\",'2ª Partida'!$B19&'2ª Partida'!$A19)","v":""},{"$f":"IF(OR('2ª Partida'!$C19=\"\",'2ª Partida'!$C19=\"Descansa\"),\"\",'2ª Partida'!$C19&'2ª Partida'!$A19)","v":""},{"$f":"IF('3ª Partida'!$B19=\"\",\"\",'3ª Partida'!$B19&'3ª Partida'!$A19)","v":""},{"$f":"IF(OR('3ª Partida'!$C19=\"\",'3ª Partida'!$C19=\"Descansa\"),\"\",'3ª Partida'!$C19&'3ª Partida'!$A19)","v":""}]
[18,null,null,null,null,0,null,null,null,null,null,0,{"$f":"IF('4ª Partida'!$B20=\"\",\"\",'4ª Partida'!$B20&'4ª Partida'!$A20)","v":""},{"$f":"IF(OR('4ª Partida'!$C20=\"\",'4ª Partida'!$C20=\"Descansa\"),\"\",'4ª Partida'!$C20&'4ª Partida'!$A20)","v":""},0,{"$f":"IF('1ª Partida'!$B20=\"\",\"\",'1ª Partida'!$B20&'1ª Partida'!$A20)","v":""},{"$f":"IF(OR('1ª Partida'!$C20=\"\",'1ª Partida'!$C20=\"Descansa\"),\"\",'1ª Partida'!$C20&'1ª Partida'!$A20)","v":""},{"$f":"IF('2ª Partida'!$B20=\"\",\"\",'2ª Partida'!$B20&'2ª Partida'!$A20)","v":""},{"$f":"IF(OR('2ª Partida'!$C20=\"\",'2ª Partida'!$C20=\"Descansa\"),\"\",'2ª Partida'!$C20&'2ª Partida'!$A20)","v":""},{"$f":"IF('3ª Partida'!$B20=\"\",\"\",'3ª Partida'!$B20&'3ª Partida'!$A20)","v":""},{"$f":"IF(OR('3ª Partida'!$C20=\"\",'3ª Partida'!$C20=\"Descansa\"),\"\",'3ª Partida'!$C20&'3ª Partida'!$A20)","v":""}]
[19,null,null,null,null,0,null,null,null,null,null,0,{"$f":"IF('4ª Partida'!$B21=\"\",\"\",'4ª Partida'!$B21&'4ª Partida'!$A21)","v":""},{"$f":"IF(OR('4ª Partida'!$C21=\"\",'4ª Partida'!$C21=\"Descansa\"),\"\",'4ª Partida'!$C21&'4ª Partida'!$A21)","v":""},0,{"$f":"IF('1ª Partida'!$B21=\"\",\"\",'1ª Partida'!$B21&'1ª Partida'!$A21)","v":""},{"$f":"IF(OR('1ª Partida'!$C21=\"\",'1ª Partida'!$C21=\"Descansa\"),\"\",'1ª Partida'!$C21&'1ª Partida'!$A21)","v":""},{"$f":"IF('2ª Partida'!$B21=\"\",\"\",'2ª Partida'!$B21&'2ª Partida'!$A21)","v":""},{"$f":"IF(OR('2ª Partida'!$C21=\"\",'2ª Partida'!$C21=\"Descansa\"),\"\",'2ª Partida'!$C21&'2ª Partida'!$A21)","v":""},{"$f":"IF('3ª Partida'!$B21=\"\",\"\",'3ª Partida'!$B21&'3ª Partida'!$A21)","v":""},{"$f":"IF(OR('3ª Partida'!$C21=\"\",'3ª Partida'!$C21=\"Descansa\"),\"\",'3ª Partida'!$C21&'3ª Partida'!$A21)","v":""}]
[20,null,null,null,null,0,null,null,null,null,null,0,{"$f":"IF('4ª Partida'!$B22=\"\",\"\",'4ª Partida'!$B22&'4ª Partida'!$A22)","v":""},{"$f":"IF(OR('4ª Partida'!$C22=\"\",'4ª Partida'!$C22=\"Descansa\"),\"\",'4ª Partida'!$C22&'4ª Partida'!$A22)","v":""},0,{"$f":"IF('1ª Partida'!$B22=\"\",\"\",'1ª Partida'!$B22&'1ª Partida'!$A22)","v":""},{"$f":"IF(OR('1ª Partida'!$C22=\"\",'1ª Partida'!$C22=\"Descansa\"),\"\",'1ª Partida'!$C22&'1ª Partida'!$A22)","v":""},{"$f":"IF('2ª Partida'!$B22=\"\",\"\",'2ª Partida'!$B22&'2ª Partida'!$A22)","v":""},{"$f":"IF(OR('2ª Partida'!$C22=\"\",'2ª Partida'!$C22=\"Descansa\"),\"\",'2ª Partida'!$C22&'2ª Partida'!$A22)","v":""},{"$f":"IF('3ª Partida'!$B22=\"\",\"\",'3ª Partida'!$B22&'3ª Partida'!$A22)","v":""},{"$f":"IF(OR('3ª Partida'!$C22=\"\",'3ª Partida'!$C22=\"Descansa\"),\"\",'3ª Partida'!$C22&'3ª Partida'!$A22)","v":""}]
[21,null,null,null,null,0,null,null,null,null,null,0,{"$f":"IF('4ª Partida'!$B23=\"\",\"\",'4ª Partida'!$B23&'4ª Partida'!$A23)","v":""},{"$f":"IF(OR('4ª Partida'!$C23=\"\",'4ª Partida'!$C23=\"Descansa\"),\"\",'4ª Partida'!$C23&'4ª Partida'!$A23)","v":""},0,{"$f":"IF('1ª Partida'!$B23=\"\",\"\",'1ª Partida'!$B23&'1ª Partida'!$A23)","v":""},{"$f":"IF(OR('1ª Partida'!$C23=\"\",'1ª Partida'!$C23=\"Descansa\"),\"\",'1ª Partida'!$C23&'1ª Partida'!$A23)","v":""},{"$f":"IF('2ª Partida'!$B23=\"\",\"\",'2ª Partida'!$B23&'2ª Partida'!$A23)","v":""},{"$f":"IF(OR('2ª Partida'!$C23=\"\",'2ª Partida'!$C23=\"Descansa\"),\"\",'2ª Partida'!$C23&'2ª Partida'!$A23)","v":""},{"$f":"IF('3ª Partida'!$B23=\"\",\"\",'3ª Partida'!$B23&'3ª Partida'!$A23)","v":""},{"$f":"IF(OR('3ª Partida'!$C23=\"\",'3ª Partida'!$C23=\"Descansa\"),\"\",'3ª Partida'!$C23&'3ª Partida'!$A23)","v":""}]
[22,null,null,null,null,0,null,null,null,null,null,0,{"$f":"IF('4ª Partida'!$B24=\"\",\"\",'4ª Partida'!$B24&'4ª Partida'!$A24)","v":""},{"$f":"IF(OR('4ª Partida'!$C24=\"\",'4ª Partida'!$C24=\"Descansa\"),\"\",'4ª Partida'!$C24&'4ª Partida'!$A24)","v":""},0,{"$f":"IF('1ª Partida'!$B24=\"\",\"\",'1ª Partida'!$B24&'1ª Partida'!$A24)","v":""},{"$f":"IF(OR('1ª Partida'!$C24=\"\",'1ª Partida'!$C24=\"Descansa\"),\"\",'1ª Partida'!$C24&'1ª Partida'!$A24)","v":""},{"$f":"IF('2ª Partida'!$B24=\"\",\"\",'2ª Partida'!$B24&'2ª Partida'!$A24)","v":""},{"$f":"IF(OR('2ª Partida'!$C24=\"\",'2ª Partida'!$C24=\"Descansa\"),\"\",'2ª Partida'!$C24&'2ª Partida'!$A24)","v":""},{"$f":"IF('3ª Partida'!$B24=\"\",\"\",'3ª Partida'!$B24&'3ª Partida'!$A24)","v":""},{"$f":"IF(OR('3ª Partida'!$C24=\"\",'3ª Partida'!$C24=\"Descansa\"),\"\",'3ª Partida'!$C24&'3ª Partida'!$A24)","v":""}]
[23,null,null,null,null,0,null,null,null,null,null,0,{"$f":"IF('4ª Partida'!$B25=\"\",\"\",'4ª Partida'!$B25&'4ª Partida'!$A25)","v":""},{"$f":"IF(OR('4ª Partida'!$C25=\"\",'4ª Partida'!$C25=\"Descansa\"),\"\",'4ª Partida'!$C25&'4ª Partida'!$A25)","v":""},0,{"$f":"IF('1ª Partida'!$B25=\"\",\"\",'1ª Partida'!$B25&'1ª Partida'!$A25)","v":""},{"$f":"IF(OR('1ª Partida'!$C25=\"\",'1ª Partida'!$C25=\"Descansa\"),\"\",'1ª Partida'!$C25&'1ª Partida'!$A25)","v":""},{"$f":"IF('2ª Partida'!$B25=\"\",\"\",'2ª Partida'!$B25&'2ª Partida'!$A25)","v":""},{"$f":"IF(OR('2ª Partida'!$C25=\"\",'2ª Partida'!$C25=\"Descansa\"),\"\",'2ª Partida'!$C25&'2ª Partida'!$A25)","v":""},{"$f":"IF('3ª Partida'!$B25=\"\",\"\",'3ª Partida'!$B25&'3ª Partida'!$A25)","v":""},{"$f":"IF(OR('3ª Partida'!$C25=\"\",'3ª Partida'!$C25=\"Descansa\"),\"\",'3ª Partida'!$C25&'3ª Partida'!$A25)","v":""}]
[24,null,null,null,null,0,null,null,null,null,null,0,{"$f":"IF('4ª Partida'!$B26=\"\",\"\",'4ª Partida'!$B26&'4ª Partida'!$A26)","v":""},{"$f":"IF(OR('4ª Partida'!$C26=\"\",'4ª Partida'!$C26=\"Descansa\"),\"\",'4ª Partida'!$C26&'4ª Partida'!$A26)","v":""},0,{"$f":"IF('1ª Partida'!$B26=\"\",\"\",'1ª Partida'!$B26&'1ª Partida'!$A26)","v":""},{"$f":"IF(OR('1ª Partida'!$C26=\"\",'1ª Partida'!$C26=\"Descansa\"),\"\",'1ª Partida'!$C26&'1ª Partida'!$A26)","v":""},{"$f":"IF('2ª Partida'!$B26=\"\",\"\",'2ª Partida'!$B26&'2ª Partida'!$A26)","v":""},{"$f":"IF(OR('2ª Partida'!$C26=\"\",'2ª Partida'!$C26=\"Descansa\"),\"\",'2ª Partida'!$C26&'2ª Partida'!$A26)","v":""},{"$f":"IF('3ª Partida'!$B26=\"\",\"\",'3ª Partida'!$B26&'3ª Partida'!$A26)","v":""},{"$f":"IF(OR('3ª Partida'!$C26=\"\",'3ª Partida'!$C26=\"Descansa\"),\"\",'3ª Partida'!$C26&'3ª Partida'!$A26)","v":""}]
[25,null,null,null,null,0,null,null,null,null,null,0,{"$f":"IF('4ª Partida'!$B27=\"\",\"\",'4ª Partida'!$B27&'4ª Partida'!$A27)","v":""},{"$f":"IF(OR('4ª Partida'!$C27=\"\",'4ª Partida'!$C27=\"Descansa\"),\"\",'4ª Partida'!$C27&'4ª Partida'!$A27)","v":""},0,{"$f":"IF('1ª Partida'!$B27=\"\",\"\",'1ª Partida'!$B27&'1ª Partida'!$A27)","v":""},{"$f":"IF(OR('1ª Partida'!$C27=\"\",'1ª Partida'!$C27=\"Descansa\"),\"\",'1ª Partida'!$C27&'1ª Partida'!$A27)","v":""},{"$f":"IF('2ª Partida'!$B27=\"\",\"\",'2ª Partida'!$B27&'2ª Partida'!$A27)","v":""},{"$f":"IF(OR('2ª Partida'!$C27=\"\",'2ª Partida'!$C27=\"Descansa\"),\"\",'2ª Partida'!$C27&'2ª Partida'!$A27)","v":""},{"$f":"IF('3ª Partida'!$B27=\"\",\"\",'3ª Partida'!$B27&'3ª Partida'!$A27)","v":""},{"$f":"IF(OR('3ª Partida'!$C27=\"\",'3ª Partida'!$C27=\"Descansa\"),\"\",'3ª Partida'!$C27&'3ª Partida'!$A27)","v":""}]
[26,null,null,null,null,0,null,null,null,null,null,0,{"$f":"IF('4ª Partida'!$B28=\"\",\"\",'4ª Partida'!$B28&'4ª Partida'!$A28)","v":""},{"$f":"IF(OR('4ª Partida'!$C28=\"\",'4ª Partida'!$C28=\"Descansa\"),\"\",'4ª Partida'!$C28&'4ª Partida'!$A28)","v":""},0,{"$f":"IF('1ª Partida'!$B28=\"\",\"\",'1ª Partida'!$B28&'1ª Partida'!$A28)","v":""},{"$f":"IF(OR('1ª Partida'!$C28=\"\",'1ª Partida'!$C28=\"Descansa\"),\"\",'1ª Partida'!$C28&'1ª Partida'!$A28)","v":""},{"$f":"IF('2ª Partida'!$B28=\"\",\"\",'2ª Partida'!$B28&'2ª Partida'!$A28)","v":""},{"$f":"IF(OR('2ª Partida'!$C28=\"\",'2ª Partida'!$C28=\"Descansa\"),\"\",'2ª Partida'!$C28&'2ª Partida'!$A28)","v":""},{"$f":"IF('3ª Partida'!$B28=\"\",\"\",'3ª Partida'!$B28&'3ª Partida'!$A28)","v":""},{"$f":"IF(OR('3ª Partida'!$C28=\"\",'3ª Partida'!$C28=\"Descansa\"),\"\",'3ª Partida'!$C28&'3ª Partida'!$A28)","v":""}]
[27,null,null,null,null,0,null,null,null,null,null,0,{"$f":"IF('4ª Partida'!$B29=\"\",\"\",'4ª Partida'!$B29&'4ª Partida'!$A29)","v":""},{"$f":"IF(OR('4ª Partida'!$C29=\"\",'4ª Partida'!$C29=\"Descansa\"),\"\",'4ª Partida'!$C29&'4ª Partida'!$A29)","v":""},0,{"$f":"IF('1ª Partida'!$B29=\"\",\"\",'1ª Partida'!$B29&'1ª Partida'!$A29)","v":""},{"$f":"IF(OR('1ª Partida'!$C29=\"\",'1ª Partida'!$C29=\"Descansa\"),\"\",'1ª Partida'!$C29&'1ª Partida'!$A29)","v":""},{"$f":"IF('2ª Partida'!$B29=\"\",\"\",'2ª Partida'!$B29&'2ª Partida'!$A29)","v":""},{"$f":"IF(OR('2ª Partida'!$C29=\"\",'2ª Partida'!$C29=\"Descansa\"),\"\",'2ª Partida'!$C29&'2ª Partida'!$A29)","v":""},{"$f":"IF('3ª Partida'!$B29=\"\",\"\",'3ª Partida'!$B29&'3ª Partida'!$A29)","v":""},{"$f":"IF(OR('3ª Partida'!$C29=\"\",'3ª Partida'!$C29=\"Descansa\"),\"\",'3ª Partida'!$C29&'3ª Partida'!$A29)","v":""}]
[28,null,null,null,null,0,null,null,null,null,null,0,{"$f":"IF('4ª Partida'!$B30=\"\",\"\",'4ª Partida'!$B30&'4ª Partida'!$A30)","v":""},{"$f":"IF(OR('4ª Partida'!$C30=\"\",'4ª Partida'!$C30=\"Descansa\"),\"\",'4ª Partida'!$C30&'4ª Partida'!$A30)","v":""},0,{"$f":"IF('1ª Partida'!$B30=\"\",\"\",'1ª Partida'!$B30&'1ª Partida'!$A30)","v":""},{"$f":"IF(OR('1ª Partida'!$C30=\"\",'1ª Partida'!$C30=\"Descansa\"),\"\",'1ª Partida'!$C30&'1ª Partida'!$A30)","v":""},{"$f":"IF('2ª Partida'!$B30=\"\",\"\",'2ª Partida'!$B30&'2ª Partida'!$A30)","v":""},{"$f":"IF(OR('2ª Partida'!$C30=\"\",'2ª Partida'!$C30=\"Descansa\"),\"\",'2ª Partida'!$C30&'2ª Partida'!$A30)","v":""},{"$f":"IF('3ª Partida'!$B30=\"\",\"\",'3ª Partida'!$B30&'3ª Partida'!$A30)","v":""},{"$f":"IF(OR('3ª Partida'!$C30=\"\",'3ª Partida'!$C30=\"Descansa\"),\"\",'3ª Partida'!$C30&'3ª Partida'!$A30)","v":""}]
[29,null,null,null,null,0,null,null,null,null,null,0,{"$f":"IF('4ª Partida'!$B31=\"\",\"\",'4ª Partida'!$B31&'4ª Partida'!$A31)","v":""},{"$f":"IF(OR('4ª Partida'!$C31=\"\",'4ª Partida'!$C31=\"Descansa\"),\"\",'4ª Partida'!$C31&'4ª Partida'!$A31)","v":""},0,{"$f":"IF('1ª Partida'!$B31=\"\",\"\",'1ª Partida'!$B31&'1ª Partida'!$A31)","v":""},{"$f":"IF(OR('1ª Partida'!$C31=\"\",'1ª Partida'!$C31=\"Descansa\"),\"\",'1ª Partida'!$C31&'1ª Partida'!$A31)","v":""},{"$f":"IF('2ª Partida'!$B31=\"\",\"\",'2ª Partida'!$B31&'2ª Partida'!$A31)","v":""},{"$f":"IF(OR('2ª Partida'!$C31=\"\",'2ª Partida'!$C31=\"Descansa\"),\"\",'2ª Partida'!$C31&'2ª Partida'!$A31)","v":""},{"$f":"IF('3ª Partida'!$B31=\"\",\"\",'3ª Partida'!$B31&'3ª Partida'!$A31)","v":""},{"$f":"IF(OR('3ª Partida'!$C31=\"\",'3ª Partida'!$C31=\"Descansa\"),\"\",'3ª Partida'!$C31&'3ª Partida'!$A31)","v":""}]
[30,null,null,null,null,0,null,null,null,null,null,0,{"$f":"IF('4ª Partida'!$B32=\"\",\"\",'4ª Partida'!$B32&'4ª Partida'!$A32)","v":""},{"$f":"IF(OR('4ª Partida'!$C32=\"\",'4ª Partida'!$C32=\"Descansa\"),\"\",'4ª Partida'!$C32&'4ª Partida'!$A32)","v":""},0,{"$f":"IF('1ª Partida'!$B32=\"\",\"\",'1ª Partida'!$B32&'1ª Partida'!$A32)","v":""},{"$f":"IF(OR('1ª Partida'!$C32=\"\",'1ª Partida'!$C32=\"Descansa\"),\"\",'1ª Partida'!$C32&'1ª Partida'!$A32)","v":""},{"$f":"IF('2ª Partida'!$B32=\"\",\"\",'2ª Partida'!$B32&'2ª Partida'!$A32)","v":""},{"$f":"IF(OR('2ª Partida'!$C32=\"\",'2ª Partida'!$C32=\"Descansa\"),\"\",'2ª Partida'!$C32&'2ª Partida'!$A32)","v":""},{"$f":"IF('3ª Partida'!$B32=\"\",\"\",'3ª Partida'!$B32&'3ª Partida'!$A32)","v":""},{"$f":"IF(OR('3ª Partida'!$C32=\"\",'3ª Partida'!$C32=\"Descansa\"),\"\",'3ª Partida'!$C32&'3ª Partida'!$A32)","v":""}]
[31,null,null,null,null,0,null,null,null,null,null,0,{"$f":"IF('4ª Partida'!$B33=\"\",\"\",'4ª Partida'!$B33&'4ª Partida'!$A33)","v":""},{"$f":"IF(OR('4ª Partida'!$C33=\"\",'4ª Partida'!$C33=\"Descansa\"),\"\",'4ª Partida'!$C33&'4ª Partida'!$A33)","v":""},0,{"$f":"IF('1ª Partida'!$B33=\"\",\"\",'1ª Partida'!$B33&'1ª Partida'!$A33)","v":""},{"$f":"IF(OR('1ª Partida'!$C33=\"\",'1ª Partida'!$C33=\"Descansa\"),\"\",'1ª Partida'!$C33&'1ª Partida'!$A33)","v":""},{"$f":"IF('2ª Partida'!$B33=\"\",\"\",'2ª Partida'!$B33&'2ª Partida'!$A33)","v":""},{"$f":"IF(OR('2ª Partida'!$C33=\"\",'2ª Partida'!$C33=\"Descansa\"),\"\",'2ª Partida'!$C33&'2ª Partida'!$A33)","v":""},{"$f":"IF('3ª Partida'!$B33=\"\",\"\",'3ª Partida'!$B33&'3ª Partida'!$A33)","v":""},{"$f":"IF(OR('3ª Partida'!$C33=\"\",'3ª Partida'!$C33=\"Descansa\"),\"\",'3ª Partida'!$C33&'3ª Partida'!$A33)","v":""}]
[32,null,null,null,null,0,null,null,null,null,null,0,{"$f":"IF('4ª Partida'!$B34=\"\",\"\",'4ª Partida'!$B34&'4ª Partida'!$A34)","v":""},{"$f":"IF(OR('4ª Partida'!$C34=\"\",'4ª Partida'!$C34=\"Descansa\"),\"\",'4ª Partida'!$C34&'4ª Partida'!$A34)","v":""},0,{"$f":"IF('1ª Partida'!$B34=\"\",\"\",'1ª Partida'!$B34&'1ª Partida'!$A34)","v":""},{"$f":"IF(OR('1ª Partida'!$C34=\"\",'1ª Partida'!$C34=\"Descansa\"),\"\",'1ª Partida'!$C34&'1ª Partida'!$A34)","v":""},{"$f":"IF('2ª Partida'!$B34=\"\",\"\",'2ª Partida'!$B34&'2ª Partida'!$A34)","v":""},{"$f":"IF(OR('2ª Partida'!$C34=\"\",'2ª Partida'!$C34=\"Descansa\"),\"\",'2ª Partida'!$C34&'2ª Partida'!$A34)","v":""},{"$f":"IF('3ª Partida'!$B34=\"\",\"\",'3ª Partida'!$B34&'3ª Partida'!$A34)","v":""},{"$f":"IF(OR('3ª Partida'!$C34=\"\",'3ª Partida'!$C34=\"Descansa\"),\"\",'3ª Partida'!$C34&'3ª Partida'!$A34)","v":""}]

{"sheet":"Clasificación","index":6,"n_rows":66,"n_cols":44,"rows_kept":66,"cut":false,"hidden":false,"merged":[[0,0,0,6]]}
[null,null,null,null,null,null,null,null,null,null,null,null,null,null,null,null,null,null,null,null,null,null,null,{"$f":"Participantes!J4","v":32}]
["Puesto",{"$f":"Participantes!B5","v":"Equipo"},{"$f":"Participantes!C5","v":"Club"},"Puntos","Puntos Adversarios","Puntos Adversarios del Adversario","+/-Bolas","Pts","+/-","Adversario","Pts","+/-","Adversario","Pts","+/-","Adversario","Pts","+/-","Adversario","Pts","+/-","Adversario",null,null,null,null,null,null,null,null,null,null,null,null,null,null,null,"T1/T2","T3/T12","T4/T123","T5/T1234",null,null,{"$f":"IF(SUM(AR3:AR34)>0,\"Sorteo incorrecto\",\"Sorteo correcto\")","v":"Sorteo correcto"}]
[1,null,{"$f":"IF(B3=\"\",\"\",VLOOKUP(B3,Participantes!$B$6:$C$69,2,0))","v":""},null,null,null,{"$f":"IF(B3<>\"\",I3+L3+O3+R3+U3,-9999)","v":-9999},null,null,null,null,null,null,null,null,null,null,null,null,null,null,null,{"$f":"IF(OR(J3=\"\",J3=\"Descansa\"),0,VLOOKUP(J3,$B$3:$D$66,3,0))","v":0},{"$f":"IF(OR(M3=\"\",M3=\"Descansa\"),0,VLOOKUP(M3,$B$3:$D$66,3,0))","v":0},{"$f":"IF(OR(P3=\"\",P3=\"Descansa\"),0,VLOOKUP(P3,$B$3:$D$66,3,0))","v":0},{"$f":"IF(OR(S3=\"\",S3=\"Descansa\"),0,VLOOKUP(S3,$B$3:$D$66,3,0))","v":0},{"$f":"IF(OR(V3=\"\",V3=\"Descansa\"),0,VLOOKUP(V3,$B$3:$D$66,3,0))","v":0},{"$f":"SUM(W3:AA3)","v":0},{"$f":"IF(OR(J3=\"\",J3=\"Descansa\"),0,VLOOKUP(J3,$B$3:$G$66,4,0))","v":0},{"$f":"IF(OR(M3=\"\",M3=\"Descansa\"),0,VLOOKUP(M3,$B$3:$G$66,4,0))","v":0},{"$f":"IF(OR(P3=\"\",P3=\"Descansa\"),0,VLOOKUP(P3,$B$3:$G$66,4,0))","v":0},{"$f":"IF(OR(S3=\"\",S3=\"Descansa\"),0,VLOOKUP(S3,$B$3:$G$66,4,0))","v":0},{"$f":"IF(OR(V3=\"\",V3=\"Descansa\"),0,VLOOKUP(V3,$B$3:$G$66,4,0))","v":0},{"$f":"SUM(AC3:AG3)","v":0},null,null,null,{"$f":"IF(AND(J3=M3,J3<>\"\"),1,0)","v":0},{"$f":"IF(P3=\"\",0,IF(TYPE(FIND(P3,CONCATENATE(J3,M3),1))=16,0,1))","v":0},{"$f":"IF(S3=\"\",0,IF(TYPE(FIND(S3,CONCATENATE(J3,M3,P3),1))=16,0,1))","v":0},{"$f":"IF(V3=\"\",0,IF(TYPE(FIND(V3,CONCATENATE(J3,M3,P3,S3),1))=16,0,1))","v":0},null,null,{"$f":"SUM(AL3:AQ3)","v":0}]
[2,null,{"$f":"IF(B4=\"\",\"\",VLOOKUP(B4,Participantes!$B$6:$C$69,2,0))","v":""},null,null,null,-9999,null,null,null,null,null,null,null,null,null,null,null,null,null,null,null,0,0,0,0,0,{"$f":"SUM(W4:AA4)","v":0},0,0,0,0,0,{"$f":"SUM(AC4:AG4)","v":0},null,null,null,{"$f":"IF(AND(J4=M4,J4<>\"\"),1,0)","v":0},{"$f":"IF(P4=\"\",0,IF(TYPE(FIND(P4,CONCATENATE(J4,M4),1))=16,0,1))","v":0},0,0,null,null,{"$f":"SUM(AL4:AQ4)","v":0}]
[3,null,{"$f":"IF(B5=\"\",\"\",VLOOKUP(B5,Participantes!$B$6:$C$69,2,0))","v":""},null,null,null,-9999,null,null,null,null,null,null,null,null,null,null,null,null,null,null,null,0,0,0,0,0,0,0,0,0,0,0,0,null,null,null,0,0,0,0,null,null,{"$f":"SUM(AL5:AQ5)","v":0}]
[4,null,{"$f":"IF(B6=\"\",\"\",VLOOKUP(B6,Participantes!$B$6:$C$69,2,0))","v":""},null,null,null,-9999,null,null,null,null,null,null,null,null,null,null,null,null,null,null,null,0,0,0,0,0,0,0,0,0,0,0,0,null,null,null,0,0,0,0,null,null,0]
[5,null,{"$f":"IF(B7=\"\",\"\",VLOOKUP(B7,Participantes!$B$6:$C$69,2,0))","v":""},null,null,null,-9999,null,null,null,null,null,null,null,null,null,null,null,null,null,null,null,0,0,0,0,0,0,0,0,0,0,0,0,null,null,null,0,0,0,0,null,null,0]
[6,null,{"$f":"IF(B8=\"\",\"\",VLOOKUP(B8,Participantes!$B$6:$C$69,2,0))","v":""},null,null,null,-9999,null,null,null,null,null,null,null,null,null,null,null,null,null,null,null,0,0,0,0,0,0,0,0,0,0,0,0,null,null,null,0,0,0,0,null,null,0]
[7,null,{"$f":"IF(B9=\"\",\"\",VLOOKUP(B9,Participantes!$B$6:$C$69,2,0))","v":""},null,null,null,-9999,null,null,null,null,null,null,null,null,null,null,null,null,null,null,null,0,0,0,0,0,0,0,0,0,0,0,0,null,null,null,0,0,0,0,null,null,0]
[8,null,{"$f":"IF(B10=\"\",\"\",VLOOKUP(B10,Participantes!$B$6:$C$69,2,0))","v":""},null,null,null,-9999,null,null,null,null,null,null,null,null,null,null,null,null,null,null,null,0,0,0,0,0,0,0,0,0,0,0,0,null,null,null,0,0,0,0,null,null,0]
[9,null,{"$f":"IF(B11=\"\",\"\",VLOOKUP(B11,Participantes!$B$6:$C$69,2,0))","v":""},null,null,null,-9999,null,null,null,null,null,null,null,null,null,null,null,null,null,null,null,0,0,0,0,0,0,0,0,0,0,0,0,null,null,null,0,0,0,0,null,null,0]
[10,null,{"$f":"IF(B12=\"\",\"\",VLOOKUP(B12,Participantes!$B$6:$C$69,2,0))","v":""},null,null,null,-9999,null,null,null,null,null,null,null,null,null,null,null,null,null,null,null,0,0,0,0,0,0,0,0,0,0,0,0,null,null,null,0,0,0,0,null,null,0]
[11,null,{"$f":"IF(B13=\"\",\"\",VLOOKUP(B13,Participantes!$B$6:$C$69,2,0))","v":""},null,null,null,-9999,null,null,null,null,null,null,null,null,null,null,null,null,null,null,null,0,0,0,0,0,0,0,0,0,0,0,0,null,null,null,0,0,0,0,null,null,0]
[12,null,{"$f":"IF(B14=\"\",\"\",VLOOKUP(B14,Participantes!$B$6:$C$69,2,0))","v":""},null,null,null,-9999,null,null,null,null,null,null,null,null,null,null,null,null,null,null,null,0,0,0,0,0,0,0,0,0,0,0,0,null,null,null,0,0,0,0,null,null,0]
[13,null,{"$f":"IF(B15=\"\",\"\",VLOOKUP(B15,Participantes!$B$6:$C$69,2,0))","v":""},null,null,null,-9999,null,null,null,null,null,null,null,null,null,null,null,null,null,null,null,0,0,0,0,0,0,0,0,0,0,0,0,null,null,null,0,0,0,0,null,null,0]
[14,null,{"$f":"IF(B16=\"\",\"\",VLOOKUP(B16,Participantes!$B$6:$C$69,2,0))","v":""},null,null,null,-9999,null,null,null,null,null,null,null,null,null,null,null,null,null,null,null,0,0,0,0,0,0,0,0,0,0,0,0,null,null,null,0,0,0,0,null,null,0]
[15,null,{"$f":"IF(B17=\"\",\"\",VLOOKUP(B17,Participantes!$B$6:$C$69,2,0))","v":""},null,null,null,-9999,null,null,null,null,null,null,null,null,null,null,null,null,null,null,null,0,0,0,0,0,0,0,0,0,0,0,0,null,null,null,0,0,0,0,null,null,0]
[16,null,{"$f":"IF(B18=\"\",\"\",VLOOKUP(B18,Participantes!$B$6:$C$69,2,0))","v":""},null,null,null,-9999,null,null,null,null,null,null,null,null,null,null,null,null,null,null,null,0,0,0,0,0,0,0,0,0,0,0,0,null,null,null,0,0,0,0,null,null,0]
[17,null,{"$f":"IF(B19=\"\",\"\",VLOOKUP(B19,Participantes!$B$6:$C$69,2,0))","v":""},null,null,null,-9999,null,null,null,null,null,null,null,null,null,null,null,null,null,null,null,0,0,0,0,0,0,0,0,0,0,0,0,null,null,null,0,0,0,0,null,null,0]
[18,null,{"$f":"IF(B20=\"\",\"\",VLOOKUP(B20,Participantes!$B$6:$C$69,2,0))","v":""},null,null,null,-9999,null,null,null,null,null,null,null,null,null,null,null,null,null,null,null,0,0,0,0,0,0,0,0,0,0,0,0,null,null,null,0,0,0,0,null,null,0]
[19,null,{"$f":"IF(B21=\"\",\"\",VLOOKUP(B21,Participantes!$B$6:$C$69,2,0))","v":""},null,null,null,-9999,null,null,null,null,null,null,null,null,null,null,null,null,null,null,null,0,0,0,0,0,0,0,0,0,0,0,0,null,null,null,0,0,0,0,null,null,0]
[20,null,{"$f":"IF(B22=\"\",\"\",VLOOKUP(B22,Participantes!$B$6:$C$69,2,0))","v":""},null,null,null,-9999,null,null,null,null,null,null,null,null,null,null,null,null,null,null,null,0,0,0,0,0,0,0,0,0,0,0,0,null,null,null,0,0,0,0,null,null,0]
[21,null,{"$f":"IF(B23=\"\",\"\",VLOOKUP(B23,Participantes!$B$6:$C$69,2,0))","v":""},null,null,null,-9999,null,null,null,null,null,null,null,null,null,null,null,null,null,null,null,0,0,0,0,0,0,0,0,0,0,0,0,null,null,null,0,0,0,0,null,null,0]
[22,null,{"$f":"IF(B24=\"\",\"\",VLOOKUP(B24,Participantes!$B$6:$C$69,2,0))","v":""},null,null,null,-9999,null,null,null,null,null,null,null,null,null,null,null,null,null,null,null,0,0,0,0,0,0,0,0,0,0,0,0,null,null,null,0,{"$f":"IF(P24=\"\",0,IF(TYPE(FIND(P24,CONCATENATE(J24,M24),1))=16,0,1))","v":0},0,0,null,null,0]
[23,null,{"$f":"IF(B25=\"\",\"\",VLOOKUP(B25,Participantes!$B$6:$C$69,2,0))","v":""},null,null,null,-9999,null,null,null,null,null,null,null,null,null,null,null,null,null,null,null,0,0,0,0,0,0,0,0,0,0,0,0,null,null,null,0,0,0,0,null,null,0]
[24,null,{"$f":"IF(B26=\"\",\"\",VLOOKUP(B26,Participantes!$B$6:$C$69,2,0))","v":""},null,null,null,-9999,null,null,null,null,null,null,null,null,null,null,null,null,null,null,null,0,0,0,0,0,0,0,0,0,0,0,0,null,null,null,0,0,0,0,null,null,0]
[25,null,{"$f":"IF(B27=\"\",\"\",VLOOKUP(B27,Participantes!$B$6:$C$69,2,0))","v":""},null,null,null,-9999,null,null,null,null,null,null,null,null,null,null,null,null,null,null,null,0,0,0,0,0,0,0,0,0,0,0,0,null,null,null,0,0,0,0,null,null,0]
[26,null,{"$f":"IF(B28=\"\",\"\",VLOOKUP(B28,Participantes!$B$6:$C$69,2,0))","v":""},null,null,null,-9999,null,null,null,null,null,null,null,null,null,null,null,null,null,null,null,0,0,0,0,0,0,0,0,0,0,0,0,null,null,null,0,0,0,0,null,null,0]
[27,null,{"$f":"IF(B29=\"\",\"\",VLOOKUP(B29,Participantes!$B$6:$C$69,2,0))","v":""},null,null,null,-9999,null,null,null,null,null,null,null,null,null,null,null,null,null,null,null,0,0,0,0,0,0,0,0,0,0,0,0,null,null,null,0,0,0,0,null,null,0]
[28,null,{"$f":"IF(B30=\"\",\"\",VLOOKUP(B30,Participantes!$B$6:$C$69,2,0))","v":""},null,null,null,-9999,null,null,null,null,null,null,null,null,null,null,null,null,null,null,null,0,0,0,0,0,0,0,0,0,0,0,0,null,null,null,0,0,0,0,null,null,0]
[29,null,{"$f":"IF(B31=\"\",\"\",VLOOKUP(B31,Participantes!$B$6:$C$69,2,0))","v":""},null,null,null,-9999,null,null,null,null,null,null,null,null,null,null,null,null,null,null,null,0,0,0,0,0,0,0,0,0,0,0,0,null,null,null,0,0,0,0,null,null,0]
[30,null,{"$f":"IF(B32=\"\",\"\",VLOOKUP(B32,Participantes!$B$6:$C$69,2,0))","v":""},null,null,null,-9999,null,null,null,null,null,null,null,null,null,null,null,null,null,null,null,0,0,0,0,0,0,0,0,0,0,0,0,null,null,null,0,0,0,0,null,null,0]
[31,null,{"$f":"IF(B33=\"\",\"\",VLOOKUP(B33,Participantes!$B$6:$C$69,2,0))","v":""},null,null,null,-9999,null,null,null,null,null,null,null,null,null,null,null,null,null,null,null,0,0,0,0,0,0,0,0,0,0,0,0,null,null,null,0,0,0,0,null,null,0]
[32,null,{"$f":"IF(B34=\"\",\"\",VLOOKUP(B34,Participantes!$B$6:$C$69,2,0))","v":""},null,null,null,-9999,null,null,null,null,null,null,null,null,null,null,null,null,null,null,null,0,0,0,0,0,0,0,0,0,0,0,0,null,null,null,0,0,0,0,null,null,0]
[33,null,{"$f":"IF(B35=\"\",\"\",VLOOKUP(B35,Participantes!$B$6:$C$69,2,0))","v":""},null,null,null,{"$f":"IF(B35<>\"\",I35+L35+O35+R35+U35,-9999)","v":-9999},null,null,null,null,null,null,null,null,null,null,null,null,null,null,null,{"$f":"IF(OR(J35=\"\",J35=\"Descansa\"),0,VLOOKUP(J35,$B$3:$D$66,3,0))","v":0},{"$f":"IF(OR(M35=\"\",M35=\"Descansa\"),0,VLOOKUP(M35,$B$3:$D$66,3,0))","v":0},{"$f":"IF(OR(P35=\"\",P35=\"Descansa\"),0,VLOOKUP(P35,$B$3:$D$66,3,0))","v":0},{"$f":"IF(OR(S35=\"\",S35=\"Descansa\"),0,VLOOKUP(S35,$B$3:$D$66,3,0))","v":0},{"$f":"IF(OR(V35=\"\",V35=\"Descansa\"),0,VLOOKUP(V35,$B$3:$D$66,3,0))","v":0},{"$f":"SUM(W35:AA35)","v":0},{"$f":"IF(OR(J35=\"\",J35=\"Descansa\"),0,VLOOKUP(J35,$B$3:$G$66,4,0))","v":0},{"$f":"IF(OR(M35=\"\",M35=\"Descansa\"),0,VLOOKUP(M35,$B$3:$G$66,4,0))","v":0},{"$f":"IF(OR(P35=\"\",P35=\"Descansa\"),0,VLOOKUP(P35,$B$3:$G$66,4,0))","v":0},{"$f":"IF(OR(S35=\"\",S35=\"Descansa\"),0,VLOOKUP(S35,$B$3:$G$66,4,0))","v":0},{"$f":"IF(OR(V35=\"\",V35=\"Descansa\"),0,VLOOKUP(V35,$B$3:$G$66,4,0))","v":0},{"$f":"SUM(AC35:AG35)","v":0},null,null,null,{"$f":"IF(AND(J35=M35,J35<>\"\"),1,0)","v":0},{"$f":"IF(P35=\"\",0,IF(TYPE(FIND(P35,CONCATENATE(J35,M35),1))=16,0,1))","v":0},{"$f":"IF(S35=\"\",0,IF(TYPE(FIND(S35,CONCATENATE(J35,M35,P35),1))=16,0,1))","v":0},{"$f":"IF(V35=\"\",0,IF(TYPE(FIND(V35,CONCATENATE(J35,M35,P35,S35),1))=16,0,1))","v":0},null,null,{"$f":"SUM(AL35:AQ35)","v":0}]
[34,null,{"$f":"IF(B36=\"\",\"\",VLOOKUP(B36,Participantes!$B$6:$C$69,2,0))","v":""},null,null,null,-9999,null,null,null,null,null,null,null,null,null,null,null,null,null,null,null,0,0,0,0,0,{"$f":"SUM(W36:AA36)","v":0},0,0,0,0,0,{"$f":"SUM(AC36:AG36)","v":0},null,null,null,{"$f":"IF(AND(J36=M36,J36<>\"\"),1,0)","v":0},{"$f":"IF(P36=\"\",0,IF(TYPE(FIND(P36,CONCATENATE(J36,M36),1))=16,0,1))","v":0},0,0,null,null,{"$f":"SUM(AL36:AQ36)","v":0}]
[35,null,{"$f":"IF(B37=\"\",\"\",VLOOKUP(B37,Participantes!$B$6:$C$69,2,0))","v":""},null,null,null,-9999,null,null,null,null,null,null,null,null,null,null,null,null,null,null,null,0,0,0,0,0,0,0,0,0,0,0,0,null,null,null,0,0,0,0,null,null,{"$f":"SUM(AL37:AQ37)","v":0}]
[36,null,{"$f":"IF(B38=\"\",\"\",VLOOKUP(B38,Participantes!$B$6:$C$69,2,0))","v":""},null,null,null,-9999,null,null,null,null,null,null,null,null,null,null,null,null,null,null,null,0,0,0,0,0,0,0,0,0,0,0,0,null,null,null,0,0,0,0,null,null,0]
[37,null,{"$f":"IF(B39=\"\",\"\",VLOOKUP(B39,Participantes!$B$6:$C$69,2,0))","v":""},null,null,null,-9999,null,null,null,null,null,null,null,null,null,null,null,null,null,null,null,0,0,0,0,0,0,0,0,0,0,0,0,null,null,null,0,0,0,0,null,null,0]
[38,null,{"$f":"IF(B40=\"\",\"\",VLOOKUP(B40,Participantes!$B$6:$C$69,2,0))","v":""},null,null,null,-9999,null,null,null,null,null,null,null,null,null,null,null,null,null,null,null,0,0,0,0,0,0,0,0,0,0,0,0,null,null,null,0,0,0,0,null,null,0]
[39,null,{"$f":"IF(B41=\"\",\"\",VLOOKUP(B41,Participantes!$B$6:$C$69,2,0))","v":""},null,null,null,-9999,null,null,null,null,null,null,null,null,null,null,null,null,null,null,null,0,0,0,0,0,0,0,0,0,0,0,0,null,null,null,0,0,0,0,null,null,0]
[40,null,{"$f":"IF(B42=\"\",\"\",VLOOKUP(B42,Participantes!$B$6:$C$69,2,0))","v":""},null,null,null,-9999,null,null,null,null,null,null,null,null,null,null,null,null,null,null,null,0,0,0,0,0,0,0,0,0,0,0,0,null,null,null,0,0,0,0,null,null,0]
[41,null,{"$f":"IF(B43=\"\",\"\",VLOOKUP(B43,Participantes!$B$6:$C$69,2,0))","v":""},null,null,null,-9999,null,null,null,null,null,null,null,null,null,null,null,null,null,null,null,0,0,0,0,0,0,0,0,0,0,0,0,null,null,null,0,0,0,0,null,null,0]
[42,null,{"$f":"IF(B44=\"\",\"\",VLOOKUP(B44,Participantes!$B$6:$C$69,2,0))","v":""},null,null,null,-9999,null,null,null,null,null,null,null,null,null,null,null,null,null,null,null,0,0,0,0,0,0,0,0,0,0,0,0,null,null,null,0,0,0,0,null,null,0]
[43,null,{"$f":"IF(B45=\"\",\"\",VLOOKUP(B45,Participantes!$B$6:$C$69,2,0))","v":""},null,null,null,-9999,null,null,null,null,null,null,null,null,null,null,null,null,null,null,null,0,0,0,0,0,0,0,0,0,0,0,0,null,null,null,0,0,0,0,null,null,0]
[44,null,{"$f":"IF(B46=\"\",\"\",VLOOKUP(B46,Participantes!$B$6:$C$69,2,0))","v":""},null,null,null,-9999,null,null,null,null,null,null,null,null,null,null,null,null,null,null,null,0,0,0,0,0,0,0,0,0,0,0,0,null,null,null,0,0,0,0,null,null,0]
[45,null,{"$f":"IF(B47=\"\",\"\",VLOOKUP(B47,Participantes!$B$6:$C$69,2,0))","v":""},null,null,null,-9999,null,null,null,null,null,null,null,null,null,null,null,null,null,null,null,0,0,0,0,0,0,0,0,0,0,0,0,null,null,null,0,0,0,0,null,null,0]
[46,null,{"$f":"IF(B48=\"\",\"\",VLOOKUP(B48,Participantes!$B$6:$C$69,2,0))","v":""},null,null,null,-9999,null,null,null,null,null,null,null,null,null,null,null,null,null,null,null,0,0,0,0,0,0,0,0,0,0,0,0,null,null,null,0,0,0,0,null,null,0]
[47,null,{"$f":"IF(B49=\"\",\"\",VLOOKUP(B49,Participantes!$B$6:$C$69,2,0))","v":""},null,null,null,-9999,null,null,null,null,null,null,null,null,null,null,null,null,null,null,null,0,0,0,0,0,0,0,0,0,0,0,0,null,null,null,0,0,0,0,null,null,0]
[48,null,{"$f":"IF(B50=\"\",\"\",VLOOKUP(B50,Participantes!$B$6:$C$69,2,0))","v":""},null,null,null,-9999,null,null,null,null,null,null,null,null,null,null,null,null,null,null,null,0,0,0,0,0,0,0,0,0,0,0,0,null,null,null,0,0,0,0,null,null,0]
[49,null,{"$f":"IF(B51=\"\",\"\",VLOOKUP(B51,Participantes!$B$6:$C$69,2,0))","v":""},null,null,null,-9999,null,null,null,null,null,null,null,null,null,null,null,null,null,null,null,0,0,0,0,0,0,0,0,0,0,0,0,null,null,null,0,0,0,0,null,null,0]
[50,null,{"$f":"IF(B52=\"\",\"\",VLOOKUP(B52,Participantes!$B$6:$C$69,2,0))","v":""},null,null,null,-9999,null,null,null,null,null,null,null,null,null,null,null,null,null,null,null,0,0,0,0,0,0,0,0,0,0,0,0,null,null,null,0,0,0,0,null,null,0]
[51,null,{"$f":"IF(B53=\"\",\"\",VLOOKUP(B53,Participantes!$B$6:$C$69,2,0))","v":""},null,null,null,-9999,null,null,null,null,null,null,null,null,null,null,null,null,null,null,null,0,0,0,0,0,0,0,0,0,0,0,0,null,null,null,0,0,0,0,null,null,0]
[52,null,{"$f":"IF(B54=\"\",\"\",VLOOKUP(B54,Participantes!$B$6:$C$69,2,0))","v":""},null,null,null,-9999,null,null,null,null,null,null,null,null,null,null,null,null,null,null,null,0,0,0,0,0,0,0,0,0,0,0,0,null,null,null,0,0,0,0,null,null,0]
[53,null,{"$f":"IF(B55=\"\",\"\",VLOOKUP(B55,Participantes!$B$6:$C$69,2,0))","v":""},null,null,null,-9999,null,null,null,null,null,null,null,null,null,null,null,null,null,null,null,0,0,0,0,0,0,0,0,0,0,0,0,null,null,null,0,0,0,0,null,null,0]
[54,null,{"$f":"IF(B56=\"\",\"\",VLOOKUP(B56,Participantes!$B$6:$C$69,2,0))","v":""},null,null,null,-9999,null,null,null,null,null,null,null,null,null,null,null,null,null,null,null,0,0,0,0,0,0,0,0,0,0,0,0,null,null,null,0,{"$f":"IF(P56=\"\",0,IF(TYPE(FIND(P56,CONCATENATE(J56,M56),1))=16,0,1))","v":0},0,0,null,null,0]
[55,null,{"$f":"IF(B57=\"\",\"\",VLOOKUP(B57,Participantes!$B$6:$C$69,2,0))","v":""},null,null,null,-9999,null,null,null,null,null,null,null,null,null,null,null,null,null,null,null,0,0,0,0,0,0,0,0,0,0,0,0,null,null,null,0,{"$f":"IF(P57=\"\",0,IF(TYPE(FIND(P57,CONCATENATE(J57,M57),1))=16,0,1))","v":0},0,0,null,null,0]
[56,null,{"$f":"IF(B58=\"\",\"\",VLOOKUP(B58,Participantes!$B$6:$C$69,2,0))","v":""},null,null,null,-9999,null,null,null,null,null,null,null,null,null,null,null,null,null,null,null,0,0,0,0,0,0,0,0,0,0,0,0,null,null,null,0,0,0,0,null,null,0]
[57,null,{"$f":"IF(B59=\"\",\"\",VLOOKUP(B59,Participantes!$B$6:$C$69,2,0))","v":""},null,null,null,-9999,null,null,null,null,null,null,null,null,null,null,null,null,null,null,null,0,0,0,0,0,0,0,0,0,0,0,0,null,null,null,0,0,0,0,null,null,0]
[58,null,{"$f":"IF(B60=\"\",\"\",VLOOKUP(B60,Participantes!$B$6:$C$69,2,0))","v":""},null,null,null,-9999,null,null,null,null,null,null,null,null,null,null,null,null,null,null,null,0,0,0,0,0,0,0,0,0,0,0,0,null,null,null,0,0,0,0,null,null,0]
[59,null,{"$f":"IF(B61=\"\",\"\",VLOOKUP(B61,Participantes!$B$6:$C$69,2,0))","v":""},null,null,null,-9999,null,null,null,null,null,null,null,null,null,null,null,null,null,null,null,0,0,0,0,0,0,0,0,0,0,0,0,null,null,null,0,0,0,0,null,null,0]
[60,null,{"$f":"IF(B62=\"\",\"\",VLOOKUP(B62,Participantes!$B$6:$C$69,2,0))","v":""},null,null,null,-9999,null,null,null,null,null,null,null,null,null,null,null,null,null,null,null,0,0,0,0,0,0,0,0,0,0,0,0,null,null,null,0,0,0,0,null,null,0]
[61,null,{"$f":"IF(B63=\"\",\"\",VLOOKUP(B63,Participantes!$B$6:$C$69,2,0))","v":""},null,null,null,-9999,null,null,null,null,null,null,null,null,null,null,null,null,null,null,null,0,0,0,0,0,0,0,0,0,0,0,0,null,null,null,0,0,0,0,null,null,0]
[62,null,{"$f":"IF(B64=\"\",\"\",VLOOKUP(B64,Participantes!$B$6:$C$69,2,0))","v":""},null,null,null,-9999,null,null,null,null,null,null,null,null,null,null,null,null,null,null,null,0,0,0,0,0,0,0,0,0,0,0,0,null,null,null,0,0,0,0,null,null,0]
[63,null,{"$f":"IF(B65=\"\",\"\",VLOOKUP(B65,Participantes!$B$6:$C$69,2,0))","v":""},null,null,null,-9999,null,null,null,null,null,null,null,null,null,null,null,null,null,null,null,0,0,0,0,0,0,0,0,0,0,0,0,null,null,null,0,0,0,0,null,null,0]
[64,null,{"$f":"IF(B66=\"\",\"\",VLOOKUP(B66,Participantes!$B$6:$C$69,2,0))","v":""},null,null,null,-9999,null,null,null,null,null,null,null,null,null,null,null,null,null,null,null,0,0,0,0,0,0,0,0,0,0,0,0,null,null,null,0,0,0,0,null,null,0]

{"sheet":"Suizo 32","index":7,"n_rows":117,"n_cols":10,"rows_kept":117,"cut":false,"hidden":false,"merged":[[114,1,114,2],[115,1,115,2],[116,1,116,2],[108,1,108,2],[109,1,109,2],[110,1,110,2],[112,1,112,3],[113,1,113,2],[100,1,100,2],[101,1,101,2],[102,1,102,2],[104,0,104,6],[105,1,105,2],[105,5,105,6],[94,1,94,2],[95,1,95,2],[96,1,96,2],[98,1,98,3],[99,1,99,2],[87,1,87,2],[88,1,88,2],[90,0,90,6],[91,1,91,2],[91,5,91,6],[81,1,81,2],[82,1,82,2],[84,1,84,3],[85,1,85,2],[86,1,86,2],[74,1,74,2],[76,0,76,6],[77,1,77,2],[77,5,77,6],[80,1,80,2],[68,1,68,2],[70,1,70,3],[71,1,71,2],[72,1,72,2],[73,1,73,2],[62,0,62,6],[63,1,63,2],[63,5,63,6],[66,1,66,2],[67,1,67,2],[60,1,60,2],[46,1,46,2],[48,0,48,6],[49,1,49,2],[49,5,49,6],[52,1,52,2],[53,1,53,2],[54,1,54,2],[56,1,56,3],[57,1,57,2],[58,1,58,2],[59,1,59,2],[45,1,45,2],[31,1,31,2],[32,1,32,2],[34,0,34,6],[35,1,35,2],[35,5,35,6],[38,1,38,2],[39,1,39,2],[40,1,40,2],[42,1,42,3],[43,1,43,2],[44,1,44,2],[30,1,30,2],[15,1,15,2],[16,1,16,2],[17,1,17,2],[18,1,18,2],[20,0,20,6],[21,1,21,2],[21,5,21,6],[24,1,24,2],[25,1,25,2],[26,1,26,2],[28,1,28,3],[29,1,29,2],[14,1,14,3],[0,0,0,6],[1,0,1,6],[2,0,2,6],[4,0,4,6],[5,2,5,5],[6,0,6,6],[7,1,7,2],[7,5,7,6],[10,1,10,2],[11,1,11,2],[12,1,12,2]]}
[]
[{"$f":"Participantes!A1","v":"NOMBRE CAMPEONATO"}]
[{"$f":"Participantes!A2","v":"MODALIDAD"}]
[]
["1/16 de FINAL"]
[]
["GRUPO 1",null,null,null,null,null,null,null,null,{"$f":"VLOOKUP(1,$H$16:$I$177,2,0)","v":""}]
["Pista","Clasificados",null,{"$f":"Participantes!$B$5&\" 1\"","v":"Equipo 1"},{"$f":"Participantes!$B$5&\" 2\"","v":"Equipo 2"},"Resultado",null,null,null,{"$f":"VLOOKUP(2,$H$16:$I$177,2,0)","v":""}]
[null,1,32,null,null,null,null,null,null,{"$f":"VLOOKUP(3,$H$16:$I$177,2,0)","v":""}]
[null,16,17,null,null,null,null,null,null,{"$f":"VLOOKUP(4,$H$16:$I$177,2,0)","v":""}]
[null,"Ganadores",null,{"$f":"IF(OR(F9=\"\",G9=\"\",F9=G9),\"\",IF(F9>G9,D9,E9))","v":""},{"$f":"IF(OR(F10=\"\",G10=\"\",F10=G10),\"\",IF(F10>G10,D10,E10))","v":""},null,null,null,null,{"$f":"VLOOKUP(5,$H$16:$I$177,2,0)","v":""}]
[null,"Perdedores",null,{"$f":"IF(OR(F9=\"\",G9=\"\",F9=G9),\"\",IF(F9<G9,D9,E9))","v":""},{"$f":"IF(OR(F10=\"\",G10=\"\",F10=G10),\"\",IF(F10<G10,D10,E10))","v":""},null,null,null,null,{"$f":"VLOOKUP(6,$H$16:$I$177,2,0)","v":""}]
[null,"Repesca",null,{"$f":"IF(OR(F11=\"\",G11=\"\",F11=G11),\"\",IF(F11<G11,D11,E11))","v":""},{"$f":"IF(OR(F12=\"\",G12=\"\",F12=G12),\"\",IF(F12>G12,D12,E12))","v":""},null,null,null,null,{"$f":"VLOOKUP(7,$H$16:$I$177,2,0)","v":""}]
[null,null,null,null,null,null,null,null,null,{"$f":"VLOOKUP(8,$H$16:$I$177,2,0)","v":""}]
[null,"Clasificación",null,null,"Ronda","Pase",null,null,null,{"$f":"VLOOKUP(9,$H$16:$I$177,2,0)","v":""}]
[null,"Primero",null,{"$f":"IF(OR(F11=\"\",G11=\"\",F11=G11),\"\",IF(F11>G11,D11,E11))","v":""},"Ronda  (1/8 de Final)",1,null,{"$f":"F16","v":1},{"$f":"D16","v":""},{"$f":"VLOOKUP(10,$H$16:$I$177,2,0)","v":""}]
[null,"Segundo",null,{"$f":"IF(OR(F13=\"\",G13=\"\",F13=G13),\"\",IF(F13>G13,D13,E13))","v":""},"Ronda  (1/8 de Final)",15,null,{"$f":"F17","v":15},"",{"$f":"VLOOKUP(11,$H$16:$I$177,2,0)","v":""}]
[null,"Tercero",null,{"$f":"IF(OR(F13=\"\",G13=\"\",F13=G13),\"\",IF(F13<G13,D13,E13))","v":""},"17º Puesto ex aequo",null,null,17,"",{"$f":"VLOOKUP(12,$H$16:$I$177,2,0)","v":""}]
[null,"Cuarto",null,{"$f":"IF(OR(F12=\"\",G12=\"\",F12=G12),\"\",IF(F12<G12,D12,E12))","v":""},"25º Puesto ex aequo",null,null,25,"",{"$f":"VLOOKUP(13,$H$16:$I$177,2,0)","v":""}]
[null,null,null,null,null,null,null,null,{"$f":"D33","v":""},{"$f":"VLOOKUP(14,$H$16:$I$177,2,0)","v":""}]
["GRUPO 2",null,null,null,null,null,null,null,{"$f":"D47","v":""},{"$f":"VLOOKUP(15,$H$16:$I$177,2,0)","v":""}]
["Pista","Clasificados",null,{"$f":"Participantes!$B$5&\" 1\"","v":"Equipo 1"},{"$f":"Participantes!$B$5&\" 2\"","v":"Equipo 2"},"Resultado",null,null,{"$f":"D61","v":""},{"$f":"VLOOKUP(16,$H$16:$I$177,2,0)","v":""}]
[null,8,25,null,null,null,null,null,null,{"$f":"VLOOKUP(17,$H$16:$I$177,2,0)","v":""}]
[null,9,24,null,null,null,null,null,null,{"$f":"VLOOKUP(18,$H$16:$I$177,2,0)","v":""}]
[null,"Ganadores",null,{"$f":"IF(OR(F23=\"\",G23=\"\",F23=G23),\"\",IF(F23>G23,D23,E23))","v":""},{"$f":"IF(OR(F24=\"\",G24=\"\",F24=G24),\"\",IF(F24>G24,D24,E24))","v":""},null,null,null,null,{"$f":"VLOOKUP(19,$H$16:$I$177,2,0)","v":""}]
[null,"Perdedores",null,{"$f":"IF(OR(F23=\"\",G23=\"\",F23=G23),\"\",IF(F23<G23,D23,E23))","v":""},{"$f":"IF(OR(F24=\"\",G24=\"\",F24=G24),\"\",IF(F24<G24,D24,E24))","v":""},null,null,null,null,{"$f":"VLOOKUP(20,$H$16:$I$177,2,0)","v":""}]
[null,"Repesca",null,{"$f":"IF(OR(F25=\"\",G25=\"\",F25=G25),\"\",IF(F25<G25,D25,E25))","v":""},{"$f":"IF(OR(F26=\"\",G26=\"\",F26=G26),\"\",IF(F26>G26,D26,E26))","v":""},null,null,null,null,{"$f":"VLOOKUP(21,$H$16:$I$177,2,0)","v":""}]
[null,null,null,null,null,null,null,null,null,{"$f":"VLOOKUP(22,$H$16:$I$177,2,0)","v":""}]
[null,"Clasificación",null,null,"Ronda","Pase",null,null,null,{"$f":"VLOOKUP(23,$H$16:$I$177,2,0)","v":""}]
[null,"Primero",null,{"$f":"IF(OR(F25=\"\",G25=\"\",F25=G25),\"\",IF(F25>G25,D25,E25))","v":""},"Ronda  (1/8 de Final)",8,null,{"$f":"F30","v":8},{"$f":"D30","v":""},{"$f":"VLOOKUP(24,$H$16:$I$177,2,0)","v":""}]
[null,"Segundo",null,{"$f":"IF(OR(F27=\"\",G27=\"\",F27=G27),\"\",IF(F27>G27,D27,E27))","v":""},"Ronda  (1/8 de Final)",10,null,{"$f":"F31","v":10},"",{"$f":"VLOOKUP(25,$H$16:$I$177,2,0)","v":""}]
[null,"Tercero",null,{"$f":"IF(OR(F27=\"\",G27=\"\",F27=G27),\"\",IF(F27<G27,D27,E27))","v":""},"17º Puesto ex aequo",null,null,18,"",{"$f":"VLOOKUP(26,$H$16:$I$177,2,0)","v":""}]
[null,"Cuarto",null,{"$f":"IF(OR(F26=\"\",G26=\"\",F26=G26),\"\",IF(F26<G26,D26,E26))","v":""},"25º Puesto ex aequo",null,null,26,"",{"$f":"VLOOKUP(27,$H$16:$I$177,2,0)","v":""}]
[null,null,null,null,null,null,null,null,null,{"$f":"VLOOKUP(28,$H$16:$I$177,2,0)","v":""}]
["GRUPO 3",null,null,null,null,null,null,null,null,{"$f":"VLOOKUP(29,$H$16:$I$177,2,0)","v":""}]
["Pista","Clasificados",null,{"$f":"Participantes!$B$5&\" 1\"","v":"Equipo 1"},{"$f":"Participantes!$B$5&\" 2\"","v":"Equipo 2"},"Resultado",null,null,null,{"$f":"VLOOKUP(30,$H$16:$I$177,2,0)","v":""}]
[null,4,29,null,null,null,null,null,null,{"$f":"VLOOKUP(31,$H$16:$I$177,2,0)","v":""}]
[null,13,20,null,null,null,null,null,null,{"$f":"VLOOKUP(32,$H$16:$I$177,2,0)","v":""}]
[null,"Ganadores",null,{"$f":"IF(OR(F37=\"\",G37=\"\",F37=G37),\"\",IF(F37>G37,D37,E37))","v":""},{"$f":"IF(OR(F38=\"\",G38=\"\",F38=G38),\"\",IF(F38>G38,D38,E38))","v":""}]
[null,"Perdedores",null,{"$f":"IF(OR(F37=\"\",G37=\"\",F37=G37),\"\",IF(F37<G37,D37,E37))","v":""},{"$f":"IF(OR(F38=\"\",G38=\"\",F38=G38),\"\",IF(F38<G38,D38,E38))","v":""}]
[null,"Repesca",null,{"$f":"IF(OR(F39=\"\",G39=\"\",F39=G39),\"\",IF(F39<G39,D39,E39))","v":""},{"$f":"IF(OR(F40=\"\",G40=\"\",F40=G40),\"\",IF(F40>G40,D40,E40))","v":""}]
[]
[null,"Clasificación",null,null,"Ronda","Pase"]
[null,"Primero",null,{"$f":"IF(OR(F39=\"\",G39=\"\",F39=G39),\"\",IF(F39>G39,D39,E39))","v":""},"Ronda  (1/8 de Final)",4,null,{"$f":"F44","v":4},{"$f":"D44","v":""}]
[null,"Segundo",null,{"$f":"IF(OR(F41=\"\",G41=\"\",F41=G41),\"\",IF(F41>G41,D41,E41))","v":""},"Ronda  (1/8 de Final)",14,null,{"$f":"F45","v":14},""]
[null,"Tercero",null,{"$f":"IF(OR(F41=\"\",G41=\"\",F41=G41),\"\",IF(F41<G41,D41,E41))","v":""},"17º Puesto ex aequo",null,null,19,""]
[null,"Cuarto",null,{"$f":"IF(OR(F40=\"\",G40=\"\",F40=G40),\"\",IF(F40<G40,D40,E40))","v":""},"25º Puesto ex aequo",null,null,27,""]
[]
["GRUPO 4"]
["Pista","Clasificados",null,{"$f":"Participantes!$B$5&\" 1\"","v":"Equipo 1"},{"$f":"Participantes!$B$5&\" 2\"","v":"Equipo 2"},"Resultado"]
[null,5,28]
[null,12,21]
[null,"Ganadores",null,{"$f":"IF(OR(F51=\"\",G51=\"\",F51=G51),\"\",IF(F51>G51,D51,E51))","v":""},{"$f":"IF(OR(F52=\"\",G52=\"\",F52=G52),\"\",IF(F52>G52,D52,E52))","v":""}]
[null,"Perdedores",null,{"$f":"IF(OR(F51=\"\",G51=\"\",F51=G51),\"\",IF(F51<G51,D51,E51))","v":""},{"$f":"IF(OR(F52=\"\",G52=\"\",F52=G52),\"\",IF(F52<G52,D52,E52))","v":""}]
[null,"Repesca",null,{"$f":"IF(OR(F53=\"\",G53=\"\",F53=G53),\"\",IF(F53<G53,D53,E53))","v":""},{"$f":"IF(OR(F54=\"\",G54=\"\",F54=G54),\"\",IF(F54>G54,D54,E54))","v":""}]
[]
[null,"Clasificación",null,null,"Ronda","Pase"]
[null,"Primero",null,{"$f":"IF(OR(F53=\"\",G53=\"\",F53=G53),\"\",IF(F53>G53,D53,E53))","v":""},"Ronda  (1/8 de Final)",5,null,{"$f":"F58","v":5},{"$f":"D58","v":""}]
[null,"Segundo",null,{"$f":"IF(OR(F55=\"\",G55=\"\",F55=G55),\"\",IF(F55>G55,D55,E55))","v":""},"Ronda  (1/8 de Final)",11,null,{"$f":"F59","v":11},""]
[null,"Tercero",null,{"$f":"IF(OR(F55=\"\",G55=\"\",F55=G55),\"\",IF(F55<G55,D55,E55))","v":""},"17º Puesto ex aequo",null,null,20,""]
[null,"Cuarto",null,{"$f":"IF(OR(F54=\"\",G54=\"\",F54=G54),\"\",IF(F54<G54,D54,E54))","v":""},"25º Puesto ex aequo",null,null,28,""]
[]
["GRUPO 5"]
["Pista","Clasificados",null,{"$f":"Participantes!$B$5&\" 1\"","v":"Equipo 1"},{"$f":"Participantes!$B$5&\" 2\"","v":"Equipo 2"},"Resultado"]
[null,2,31]
[null,15,18]
[null,"Ganadores",null,{"$f":"IF(OR(F65=\"\",G65=\"\",F65=G65),\"\",IF(F65>G65,D65,E65))","v":""},{"$f":"IF(OR(F66=\"\",G66=\"\",F66=G66),\"\",IF(F66>G66,D66,E66))","v":""}]
[null,"Perdedores",null,{"$f":"IF(OR(F65=\"\",G65=\"\",F65=G65),\"\",IF(F65<G65,D65,E65))","v":""},{"$f":"IF(OR(F66=\"\",G66=\"\",F66=G66),\"\",IF(F66<G66,D66,E66))","v":""}]
[null,"Repesca",null,{"$f":"IF(OR(F67=\"\",G67=\"\",F67=G67),\"\",IF(F67<G67,D67,E67))","v":""},{"$f":"IF(OR(F68=\"\",G68=\"\",F68=G68),\"\",IF(F68>G68,D68,E68))","v":""}]
[]
[null,"Clasificación",null,null,"Ronda","Pase"]
[null,"Primero",null,{"$f":"IF(OR(F67=\"\",G67=\"\",F67=G67),\"\",IF(F67>G67,D67,E67))","v":""},"Ronda  (1/8 de Final)",2,null,{"$f":"F72","v":2},{"$f":"D72","v":""}]
[null,"Segundo",null,{"$f":"IF(OR(F69=\"\",G69=\"\",F69=G69),\"\",IF(F69>G69,D69,E69))","v":""},"Ronda  (1/8 de Final)",16,null,{"$f":"F73","v":16},""]
[null,"Tercero",null,{"$f":"IF(OR(F69=\"\",G69=\"\",F69=G69),\"\",IF(F69<G69,D69,E69))","v":""},"17º Puesto ex aequo",null,null,21,""]
[null,"Cuarto",null,{"$f":"IF(OR(F68=\"\",G68=\"\",F68=G68),\"\",IF(F68<G68,D68,E68))","v":""},"25º Puesto ex aequo",null,null,29,""]
[null,null,null,null,null,null,null,null,{"$f":"D89","v":""}]
["GRUPO 6",null,null,null,null,null,null,null,{"$f":"D103","v":""}]
["Pista","Clasificados",null,{"$f":"Participantes!$B$5&\" 1\"","v":"Equipo 1"},{"$f":"Participantes!$B$5&\" 2\"","v":"Equipo 2"},"Resultado",null,null,{"$f":"D117","v":""}]
[null,7,26]
[null,10,23]
[null,"Ganadores",null,{"$f":"IF(OR(F79=\"\",G79=\"\",F79=G79),\"\",IF(F79>G79,D79,E79))","v":""},{"$f":"IF(OR(F80=\"\",G80=\"\",F80=G80),\"\",IF(F80>G80,D80,E80))","v":""}]
[null,"Perdedores",null,{"$f":"IF(OR(F79=\"\",G79=\"\",F79=G79),\"\",IF(F79<G79,D79,E79))","v":""},{"$f":"IF(OR(F80=\"\",G80=\"\",F80=G80),\"\",IF(F80<G80,D80,E80))","v":""}]
[null,"Repesca",null,{"$f":"IF(OR(F81=\"\",G81=\"\",F81=G81),\"\",IF(F81<G81,D81,E81))","v":""},{"$f":"IF(OR(F82=\"\",G82=\"\",F82=G82),\"\",IF(F82>G82,D82,E82))","v":""}]
[]
[null,"Clasificación",null,null,"Ronda","Pase"]
[null,"Primero",null,{"$f":"IF(OR(F81=\"\",G81=\"\",F81=G81),\"\",IF(F81>G81,D81,E81))","v":""},"Ronda  (1/8 de Final)",7,null,{"$f":"F86","v":7},{"$f":"D86","v":""}]
[null,"Segundo",null,{"$f":"IF(OR(F83=\"\",G83=\"\",F83=G83),\"\",IF(F83>G83,D83,E83))","v":""},"Ronda  (1/8 de Final)",9,null,{"$f":"F87","v":9},""]
[null,"Tercero",null,{"$f":"IF(OR(F83=\"\",G83=\"\",F83=G83),\"\",IF(F83<G83,D83,E83))","v":""},"17º Puesto ex aequo",null,null,22,""]
[null,"Cuarto",null,{"$f":"IF(OR(F82=\"\",G82=\"\",F82=G82),\"\",IF(F82<G82,D82,E82))","v":""},"25º Puesto ex aequo",null,null,30,""]
[]
["GRUPO 7"]
["Pista","Clasificados",null,{"$f":"Participantes!$B$5&\" 1\"","v":"Equipo 1"},{"$f":"Participantes!$B$5&\" 2\"","v":"Equipo 2"},"Resultado"]
[null,3,30]
[null,14,19]
[null,"Ganadores",null,{"$f":"IF(OR(F93=\"\",G93=\"\",F93=G93),\"\",IF(F93>G93,D93,E93))","v":""},{"$f":"IF(OR(F94=\"\",G94=\"\",F94=G94),\"\",IF(F94>G94,D94,E94))","v":""}]
[null,"Perdedores",null,{"$f":"IF(OR(F93=\"\",G93=\"\",F93=G93),\"\",IF(F93<G93,D93,E93))","v":""},{"$f":"IF(OR(F94=\"\",G94=\"\",F94=G94),\"\",IF(F94<G94,D94,E94))","v":""}]
[null,"Repesca",null,{"$f":"IF(OR(F95=\"\",G95=\"\",F95=G95),\"\",IF(F95<G95,D95,E95))","v":""},{"$f":"IF(OR(F96=\"\",G96=\"\",F96=G96),\"\",IF(F96>G96,D96,E96))","v":""}]
[]
[null,"Clasificación",null,null,"Ronda","Pase"]
[null,"Primero",null,{"$f":"IF(OR(F95=\"\",G95=\"\",F95=G95),\"\",IF(F95>G95,D95,E95))","v":""},"Ronda  (1/8 de Final)",3,null,{"$f":"F100","v":3},{"$f":"D100","v":""}]
[null,"Segundo",null,{"$f":"IF(OR(F97=\"\",G97=\"\",F97=G97),\"\",IF(F97>G97,D97,E97))","v":""},"Ronda  (1/8 de Final)",13,null,{"$f":"F101","v":13},""]
[null,"Tercero",null,{"$f":"IF(OR(F97=\"\",G97=\"\",F97=G97),\"\",IF(F97<G97,D97,E97))","v":""},"17º Puesto ex aequo",null,null,23,""]
[null,"Cuarto",null,{"$f":"IF(OR(F96=\"\",G96=\"\",F96=G96),\"\",IF(F96<G96,D96,E96))","v":""},"25º Puesto ex aequo",null,null,31,""]
[]
["GRUPO 8"]
["Pista","Clasificados",null,{"$f":"Participantes!$B$5&\" 1\"","v":"Equipo 1"},{"$f":"Participantes!$B$5&\" 2\"","v":"Equipo 2"},"Resultado"]
[null,6,27]
[null,11,22]
[null,"Ganadores",null,{"$f":"IF(OR(F107=\"\",G107=\"\",F107=G107),\"\",IF(F107>G107,D107,E107))","v":""},{"$f":"IF(OR(F108=\"\",G108=\"\",F108=G108),\"\",IF(F108>G108,D108,E108))","v":""}]
[null,"Perdedores",null,{"$f":"IF(OR(F107=\"\",G107=\"\",F107=G107),\"\",IF(F107<G107,D107,E107))","v":""},{"$f":"IF(OR(F108=\"\",G108=\"\",F108=G108),\"\",IF(F108<G108,D108,E108))","v":""}]
[null,"Repesca",null,{"$f":"IF(OR(F109=\"\",G109=\"\",F109=G109),\"\",IF(F109<G109,D109,E109))","v":""},{"$f":"IF(OR(F110=\"\",G110=\"\",F110=G110),\"\",IF(F110>G110,D110,E110))","v":""}]
[]
[null,"Clasificación",null,null,"Ronda","Pase"]
[null,"Primero",null,{"$f":"IF(OR(F109=\"\",G109=\"\",F109=G109),\"\",IF(F109>G109,D109,E109))","v":""},"Ronda  (1/8 de Final)",6,null,{"$f":"F114","v":6},{"$f":"D114","v":""}]
[null,"Segundo",null,{"$f":"IF(OR(F111=\"\",G111=\"\",F111=G111),\"\",IF(F111>G111,D111,E111))","v":""},"Ronda  (1/8 de Final)",12,null,{"$f":"F115","v":12},""]
[null,"Tercero",null,{"$f":"IF(OR(F111=\"\",G111=\"\",F111=G111),\"\",IF(F111<G111,D111,E111))","v":""},"17º Puesto ex aequo",null,null,24,""]
[null,"Cuarto",null,{"$f":"IF(OR(F110=\"\",G110=\"\",F110=G110),\"\",IF(F110<G110,D110,E110))","v":""},"25º Puesto ex aequo",null,null,32,""]

{"sheet":"Suizo 16","index":8,"n_rows":61,"n_cols":10,"rows_kept":61,"cut":false,"hidden":false,"merged":[[12,1,12,2],[14,1,14,3],[6,0,6,6],[7,1,7,2],[7,5,7,6],[10,1,10,2],[11,1,11,2],[0,0,0,6],[1,0,1,6],[2,0,2,6],[4,0,4,6],[5,2,5,5],[56,1,56,3],[39,1,39,2],[20,0,20,6],[21,1,21,2],[21,5,21,6],[24,1,24,2],[25,1,25,2],[26,1,26,2],[34,0,34,6],[35,1,35,2],[35,5,35,6],[38,1,38,2],[30,1,30,2],[31,1,31,2],[32,1,32,2],[52,1,52,2],[42,1,42,3],[43,1,43,2],[44,1,44,2],[45,1,45,2],[46,1,46,2],[57,1,57,2],[58,1,58,2],[59,1,59,2],[60,1,60,2],[15,1,15,2],[16,1,16,2],[17,1,17,2],[18,1,18,2],[28,1,28,3],[29,1,29,2],[53,1,53,2],[54,1,54,2],[40,1,40,2],[48,0,48,6],[49,1,49,2],[49,5,49,6]]}
[]
[{"$f":"Participantes!A1","v":"NOMBRE CAMPEONATO"}]
[{"$f":"Participantes!A2","v":"MODALIDAD"}]
[]
["1/8 de FINAL"]
[]
["GRUPO 1",null,null,null,null,null,null,null,null,{"$f":"VLOOKUP(1,$H$16:$I$61,2,0)","v":""}]
["Pista","Clasificados",null,{"$f":"Participantes!$B$5&\" 1\"","v":"Equipo 1"},{"$f":"Participantes!$B$5&\" 2\"","v":"Equipo 2"},"Resultado",null,null,null,{"$f":"VLOOKUP(2,$H$16:$I$61,2,0)","v":""}]
[null,1,16,null,null,null,null,null,null,{"$f":"VLOOKUP(3,$H$16:$I$61,2,0)","v":""}]
[null,8,9,null,null,null,null,null,null,{"$f":"VLOOKUP(4,$H$16:$I$61,2,0)","v":""}]
[null,"Ganadores",null,{"$f":"IF(OR(F9=\"\",G9=\"\",F9=G9),\"\",IF(F9>G9,D9,E9))","v":""},{"$f":"IF(OR(F10=\"\",G10=\"\",F10=G10),\"\",IF(F10>G10,D10,E10))","v":""},null,null,null,null,{"$f":"VLOOKUP(5,$H$16:$I$61,2,0)","v":""}]
[null,"Perdedores",null,{"$f":"IF(OR(F9=\"\",G9=\"\",F9=G9),\"\",IF(F9<G9,D9,E9))","v":""},{"$f":"IF(OR(F10=\"\",G10=\"\",F10=G10),\"\",IF(F10<G10,D10,E10))","v":""},null,null,null,null,{"$f":"VLOOKUP(6,$H$16:$I$61,2,0)","v":""}]
[null,"Repesca",null,{"$f":"IF(OR(F11=\"\",G11=\"\",F11=G11),\"\",IF(F11<G11,D11,E11))","v":""},{"$f":"IF(OR(F12=\"\",G12=\"\",F12=G12),\"\",IF(F12>G12,D12,E12))","v":""},null,null,null,null,{"$f":"VLOOKUP(7,$H$16:$I$61,2,0)","v":""}]
[null,null,null,null,null,null,null,null,null,{"$f":"VLOOKUP(8,$H$16:$I$61,2,0)","v":""}]
[null,"Clasificación",null,null,"Ronda","Pase",null,null,null,{"$f":"VLOOKUP(9,$H$16:$I$61,2,0)","v":""}]
[null,"Primero",null,{"$f":"IF(OR(F11=\"\",G11=\"\",F11=G11),\"\",IF(F11>G11,D11,E11))","v":""},"Ronda  (1/4 de Final)",1,null,{"$f":"F16","v":1},{"$f":"D16","v":""},{"$f":"VLOOKUP(10,$H$16:$I$61,2,0)","v":""}]
[null,"Segundo",null,{"$f":"IF(OR(F13=\"\",G13=\"\",F13=G13),\"\",IF(F13>G13,D13,E13))","v":""},"Ronda  (1/4 de Final)",6,null,{"$f":"F17","v":6},"",{"$f":"VLOOKUP(11,$H$16:$I$61,2,0)","v":""}]
[null,"Tercero",null,{"$f":"IF(OR(F13=\"\",G13=\"\",F13=G13),\"\",IF(F13<G13,D13,E13))","v":""},"9º Puesto ex aequo",null,null,9,"",{"$f":"VLOOKUP(12,$H$16:$I$61,2,0)","v":""}]
[null,"Cuarto",null,{"$f":"IF(OR(F12=\"\",G12=\"\",F12=G12),\"\",IF(F12<G12,D12,E12))","v":""},"13º Puesto ex aequo",null,null,13,"",{"$f":"VLOOKUP(13,$H$16:$I$61,2,0)","v":""}]
[null,null,null,null,null,null,null,null,{"$f":"D33","v":""},{"$f":"VLOOKUP(14,$H$16:$I$61,2,0)","v":""}]
["GRUPO 2",null,null,null,null,null,null,null,{"$f":"D47","v":""},{"$f":"VLOOKUP(15,$H$16:$I$61,2,0)","v":""}]
["Pista","Clasificados",null,{"$f":"Participantes!$B$5&\" 1\"","v":"Equipo 1"},{"$f":"Participantes!$B$5&\" 2\"","v":"Equipo 2"},"Resultado",null,null,{"$f":"D61","v":""},{"$f":"VLOOKUP(16,$H$16:$I$61,2,0)","v":""}]
[null,4,13]
[null,5,12]
[null,"Ganadores",null,{"$f":"IF(OR(F23=\"\",G23=\"\",F23=G23),\"\",IF(F23>G23,D23,E23))","v":""},{"$f":"IF(OR(F24=\"\",G24=\"\",F24=G24),\"\",IF(F24>G24,D24,E24))","v":""}]
[null,"Perdedores",null,{"$f":"IF(OR(F23=\"\",G23=\"\",F23=G23),\"\",IF(F23<G23,D23,E23))","v":""},{"$f":"IF(OR(F24=\"\",G24=\"\",F24=G24),\"\",IF(F24<G24,D24,E24))","v":""}]
[null,"Repesca",null,{"$f":"IF(OR(F25=\"\",G25=\"\",F25=G25),\"\",IF(F25<G25,D25,E25))","v":""},{"$f":"IF(OR(F26=\"\",G26=\"\",F26=G26),\"\",IF(F26>G26,D26,E26))","v":""}]
[]
[null,"Clasificación",null,null,"Ronda","Pase"]
[null,"Primero",null,{"$f":"IF(OR(F25=\"\",G25=\"\",F25=G25),\"\",IF(F25>G25,D25,E25))","v":""},"Ronda  (1/4 de Final)",4,null,{"$f":"F30","v":4},{"$f":"D30","v":""}]
[null,"Segundo",null,{"$f":"IF(OR(F27=\"\",G27=\"\",F27=G27),\"\",IF(F27>G27,D27,E27))","v":""},"Ronda  (1/4 de Final)",7,null,{"$f":"F31","v":7},""]
[null,"Tercero",null,{"$f":"IF(OR(F27=\"\",G27=\"\",F27=G27),\"\",IF(F27<G27,D27,E27))","v":""},"9º Puesto ex aequo",null,null,10,""]
[null,"Cuarto",null,{"$f":"IF(OR(F26=\"\",G26=\"\",F26=G26),\"\",IF(F26<G26,D26,E26))","v":""},"13º Puesto ex aequo",null,null,14,""]
[]
["GRUPO 3"]
["Pista","Clasificados",null,{"$f":"Participantes!$B$5&\" 1\"","v":"Equipo 1"},{"$f":"Participantes!$B$5&\" 2\"","v":"Equipo 2"},"Resultado"]
[null,2,15]
[null,7,10]
[null,"Ganadores",null,{"$f":"IF(OR(F37=\"\",G37=\"\",F37=G37),\"\",IF(F37>G37,D37,E37))","v":""},{"$f":"IF(OR(F38=\"\",G38=\"\",F38=G38),\"\",IF(F38>G38,D38,E38))","v":""}]
[null,"Perdedores",null,{"$f":"IF(OR(F37=\"\",G37=\"\",F37=G37),\"\",IF(F37<G37,D37,E37))","v":""},{"$f":"IF(OR(F38=\"\",G38=\"\",F38=G38),\"\",IF(F38<G38,D38,E38))","v":""}]
[null,"Repesca",null,{"$f":"IF(OR(F39=\"\",G39=\"\",F39=G39),\"\",IF(F39<G39,D39,E39))","v":""},{"$f":"IF(OR(F40=\"\",G40=\"\",F40=G40),\"\",IF(F40>G40,D40,E40))","v":""}]
[]
[null,"Clasificación",null,null,"Ronda","Pase"]
[null,"Primero",null,{"$f":"IF(OR(F39=\"\",G39=\"\",F39=G39),\"\",IF(F39>G39,D39,E39))","v":""},"Ronda  (1/4 de Final)",2,null,{"$f":"F44","v":2},{"$f":"D44","v":""}]
[null,"Segundo",null,{"$f":"IF(OR(F41=\"\",G41=\"\",F41=G41),\"\",IF(F41>G41,D41,E41))","v":""},"Ronda  (1/4 de Final)",5,null,{"$f":"F45","v":5},""]
[null,"Tercero",null,{"$f":"IF(OR(F41=\"\",G41=\"\",F41=G41),\"\",IF(F41<G41,D41,E41))","v":""},"9º Puesto ex aequo",null,null,11,""]
[null,"Cuarto",null,{"$f":"IF(OR(F40=\"\",G40=\"\",F40=G40),\"\",IF(F40<G40,D40,E40))","v":""},"13º Puesto ex aequo",null,null,15,""]
[]
["GRUPO 4"]
["Pista","Clasificados",null,{"$f":"Participantes!$B$5&\" 1\"","v":"Equipo 1"},{"$f":"Participantes!$B$5&\" 2\"","v":"Equipo 2"},"Resultado"]
[null,3,14]
[null,6,11]
[null,"Ganadores",null,{"$f":"IF(OR(F51=\"\",G51=\"\",F51=G51),\"\",IF(F51>G51,D51,E51))","v":""},{"$f":"IF(OR(F52=\"\",G52=\"\",F52=G52),\"\",IF(F52>G52,D52,E52))","v":""}]
[null,"Perdedores",null,{"$f":"IF(OR(F51=\"\",G51=\"\",F51=G51),\"\",IF(F51<G51,D51,E51))","v":""},{"$f":"IF(OR(F52=\"\",G52=\"\",F52=G52),\"\",IF(F52<G52,D52,E52))","v":""}]
[null,"Repesca",null,{"$f":"IF(OR(F53=\"\",G53=\"\",F53=G53),\"\",IF(F53<G53,D53,E53))","v":""},{"$f":"IF(OR(F54=\"\",G54=\"\",F54=G54),\"\",IF(F54>G54,D54,E54))","v":""}]
[]
[null,"Clasificación",null,null,"Ronda","Pase"]
[null,"Primero",null,{"$f":"IF(OR(F53=\"\",G53=\"\",F53=G53),\"\",IF(F53>G53,D53,E53))","v":""},"Ronda  (1/4 de Final)",3,null,{"$f":"F58","v":3},{"$f":"D58","v":""}]
[null,"Segundo",null,{"$f":"IF(OR(F55=\"\",G55=\"\",F55=G55),\"\",IF(F55>G55,D55,E55))","v":""},"Ronda  (1/4 de Final)",8,null,{"$f":"F59","v":8},""]
[null,"Tercero",null,{"$f":"IF(OR(F55=\"\",G55=\"\",F55=G55),\"\",IF(F55<G55,D55,E55))","v":""},"9º Puesto ex aequo",null,null,12,""]
[null,"Cuarto",null,{"$f":"IF(OR(F54=\"\",G54=\"\",F54=G54),\"\",IF(F54<G54,D54,E54))","v":""},"13º Puesto ex aequo",null,null,16,""]

{"sheet":"Suizo 8","index":9,"n_rows":49,"n_cols":12,"rows_kept":49,"cut":false,"hidden":false,"merged":[[48,1,48,2],[34,0,34,6],[36,1,36,2],[36,5,36,6],[45,0,45,6],[40,0,40,6],[42,1,42,2],[42,5,42,6],[43,1,43,2],[47,1,47,2],[47,5,47,6],[29,1,29,2],[30,1,30,2],[31,1,31,2],[32,1,32,2],[6,0,6,6],[7,1,7,2],[21,1,21,2],[7,5,7,6],[10,1,10,2],[11,1,11,2],[12,1,12,2],[20,0,20,6],[21,5,21,6],[14,1,14,3],[15,1,15,2],[16,1,16,2],[0,0,0,6],[1,0,1,6],[2,0,2,6],[4,0,4,6],[5,2,5,5],[17,1,17,2],[18,1,18,2],[28,1,28,3],[24,1,24,2],[25,1,25,2],[26,1,26,2]]}
[]
[{"$f":"Participantes!A1","v":"NOMBRE CAMPEONATO"}]
[{"$f":"Participantes!A2","v":"MODALIDAD"}]
[]
["1/4 de FINAL"]
[]
["GRUPO 1",null,null,null,null,null,null,null,{"$f":"IF(OR(F49=\"\",G49=\"\"),\"\",IF(F49>G49,D49,E49))","v":""},{"$f":"IF(OR(F49=\"\",G49=\"\"),\"\",IF(F49>G49,D49,E49))","v":""}]
["Pista","Clasificados",null,{"$f":"Participantes!$B$5&\" 1\"","v":"Equipo 1"},{"$f":"Participantes!$B$5&\" 2\"","v":"Equipo 2"},"Resultado",null,null,{"$f":"IF(OR(F49=\"\",G49=\"\"),\"\",IF(F49<G49,D49,E49))","v":""},{"$f":"IF(OR(F49=\"\",G49=\"\"),\"\",IF(F49<G49,D49,E49))","v":""}]
[null,1,8,null,null,null,null,null,null,{"$f":"IF(OR(F44=\"\",G44=\"\"),K9,L9)","v":""},{"$f":"IF(OR(F38=\"\",G38=\"\"),\"\",IF(F38<G38,D38,E38))","v":""},{"$f":"IF(OR(F44=\"\",G44=\"\"),\"\",IF(F44>G44,D44,E44))","v":""}]
[null,4,5,null,null,null,null,null,null,{"$f":"IF(OR(F44=\"\",G44=\"\"),K10,L10)","v":""},{"$f":"IF(OR(F39=\"\",G39=\"\"),\"\",IF(F39<G39,D39,E39))","v":""},{"$f":"IF(OR(F44=\"\",G44=\"\"),\"\",IF(F44<G44,D44,E44))","v":""}]
[null,"Ganadores",null,{"$f":"IF(OR(F9=\"\",G9=\"\",F9=G9),\"\",IF(F9>G9,D9,E9))","v":""},{"$f":"IF(OR(F10=\"\",G10=\"\",F10=G10),\"\",IF(F10>G10,D10,E10))","v":""},null,null,null,null,{"$f":"VLOOKUP(5,$H$16:$I$33,2,0)","v":""}]
[null,"Perdedores",null,{"$f":"IF(OR(F9=\"\",G9=\"\",F9=G9),\"\",IF(F9<G9,D9,E9))","v":""},{"$f":"IF(OR(F10=\"\",G10=\"\",F10=G10),\"\",IF(F10<G10,D10,E10))","v":""},null,null,null,null,{"$f":"VLOOKUP(6,$H$16:$I$33,2,0)","v":""}]
[null,"Repesca",null,{"$f":"IF(OR(F11=\"\",G11=\"\",F11=G11),\"\",IF(F11<G11,D11,E11))","v":""},{"$f":"IF(OR(F12=\"\",G12=\"\",F12=G12),\"\",IF(F12>G12,D12,E12))","v":""},null,null,null,null,{"$f":"VLOOKUP(7,$H$16:$I$33,2,0)","v":""}]
[null,null,null,null,null,null,null,null,null,{"$f":"VLOOKUP(8,$H$16:$I$33,2,0)","v":""}]
[null,"Clasificación",null,null,"Ronda","Pase"]
[null,"Primero",null,{"$f":"IF(OR(F11=\"\",G11=\"\",F11=G11),\"\",IF(F11>G11,D11,E11))","v":""},"Ronda  (1/4 de Final)",1,null,{"$f":"F16","v":1},{"$f":"D16","v":""}]
[null,"Segundo",null,{"$f":"IF(OR(F13=\"\",G13=\"\",F13=G13),\"\",IF(F13>G13,D13,E13))","v":""},"Ronda  (1/4 de Final)",4,null,{"$f":"F17","v":4},""]
[null,"Tercero",null,{"$f":"IF(OR(F13=\"\",G13=\"\",F13=G13),\"\",IF(F13<G13,D13,E13))","v":""},"5º Puesto ex aequo",null,null,5,""]
[null,"Cuarto",null,{"$f":"IF(OR(F12=\"\",G12=\"\",F12=G12),\"\",IF(F12<G12,D12,E12))","v":""},"7º Puesto ex aequo",null,null,7,""]
[]
["GRUPO 2"]
["Pista","Clasificados",null,{"$f":"Participantes!$B$5&\" 1\"","v":"Equipo 1"},{"$f":"Participantes!$B$5&\" 2\"","v":"Equipo 2"},"Resultado"]
[null,2,7]
[null,3,6]
[null,"Ganadores",null,{"$f":"IF(OR(F23=\"\",G23=\"\",F23=G23),\"\",IF(F23>G23,D23,E23))","v":""},{"$f":"IF(OR(F24=\"\",G24=\"\",F24=G24),\"\",IF(F24>G24,D24,E24))","v":""}]
[null,"Perdedores",null,{"$f":"IF(OR(F23=\"\",G23=\"\",F23=G23),\"\",IF(F23<G23,D23,E23))","v":""},{"$f":"IF(OR(F24=\"\",G24=\"\",F24=G24),\"\",IF(F24<G24,D24,E24))","v":""}]
[null,"Repesca",null,{"$f":"IF(OR(F25=\"\",G25=\"\",F25=G25),\"\",IF(F25<G25,D25,E25))","v":""},{"$f":"IF(OR(F26=\"\",G26=\"\",F26=G26),\"\",IF(F26>G26,D26,E26))","v":""}]
[]
[null,"Clasificación",null,null,"Ronda","Pase"]
[null,"Primero",null,{"$f":"IF(OR(F25=\"\",G25=\"\",F25=G25),\"\",IF(F25>G25,D25,E25))","v":""},"Ronda  (1/4 de Final)",2,null,{"$f":"F30","v":2},{"$f":"D30","v":""}]
[null,"Segundo",null,{"$f":"IF(OR(F27=\"\",G27=\"\",F27=G27),\"\",IF(F27>G27,D27,E27))","v":""},"Ronda  (1/4 de Final)",3,null,{"$f":"F31","v":3},""]
[null,"Tercero",null,{"$f":"IF(OR(F27=\"\",G27=\"\",F27=G27),\"\",IF(F27<G27,D27,E27))","v":""},"5º Puesto ex aequo",null,null,6,""]
[null,"Cuarto",null,{"$f":"IF(OR(F26=\"\",G26=\"\",F26=G26),\"\",IF(F26<G26,D26,E26))","v":""},"7º Puesto ex aequo",null,null,8,""]
[]
["SEMIFINALES"]
[]
["Pista","Números",null,{"$f":"Participantes!$B$5&\" 1\"","v":"Equipo 1"},{"$f":"Participantes!$B$5&\" 2\"","v":"Equipo 2"},"Resultado"]
[null,1,2,{"$f":"D16","v":""},{"$f":"D31","v":""}]
[null,3,4,{"$f":"D30","v":""},{"$f":"D17","v":""}]
[]
["3 y 4"]
[]
["Pista",null,null,{"$f":"Participantes!$B$5&\" 1\"","v":"Equipo 1"},{"$f":"Participantes!$B$5&\" 2\"","v":"Equipo 2"},"Resultado"]
[null,"Perdedores",null,{"$f":"IF(OR(F38=\"\",G38=\"\",F38=G38),\"\",IF(F38<G38,D38,E38))","v":""},{"$f":"IF(OR(F39=\"\",G39=\"\",F39=G39),\"\",IF(F39<G39,D39,E39))","v":""}]
[]
["FINAL"]
[]
["Pista",null,null,{"$f":"Participantes!$B$5&\" 1\"","v":"Equipo 1"},{"$f":"Participantes!$B$5&\" 2\"","v":"Equipo 2"},"Resultado"]
[null,"Ganadores",null,{"$f":"IF(OR(F38=\"\",G38=\"\",F38=G38),\"\",IF(F38>G38,D38,E38))","v":""},{"$f":"IF(OR(F39=\"\",G39=\"\",F39=G39),\"\",IF(F39>G39,D39,E39))","v":""}]

{"sheet":"Directa 32","index":10,"n_rows":59,"n_cols":12,"rows_kept":59,"cut":false,"hidden":false,"merged":[[55,0,55,6],[57,1,57,2],[57,5,57,6],[58,1,58,2],[46,1,46,2],[46,5,46,6],[50,0,50,6],[52,1,52,2],[52,5,52,6],[53,1,53,2],[44,0,44,6],[0,0,0,6],[1,0,1,7],[2,0,2,7],[3,0,3,6],[24,0,24,7],[25,2,25,5],[26,1,26,2],[26,5,26,6],[36,0,36,7],[38,1,38,2],[38,5,38,6],[4,0,4,7],[5,2,5,5],[6,1,6,2],[6,5,6,6]]}
[]
[{"$f":"Participantes!A1","v":"NOMBRE CAMPEONATO"}]
[{"$f":"Participantes!A2","v":"MODALIDAD"}]
[]
["1/16 de FINAL"]
[]
["Pista","Clasificados",null,{"$f":"Participantes!$B$5&\" 1\"","v":"Equipo 1"},{"$f":"Participantes!$B$5&\" 2\"","v":"Equipo 2"},"Resultado",null,"Pase",null,{"$f":"IF(OR(F59=\"\",G59=\"\",F59=G59),\"\",IF(F59>G59,D59,E59))","v":""}]
[null,1,32,null,null,null,null,33,null,{"$f":"IF(OR(F59=\"\",G59=\"\",F59=G59),\"\",IF(F59<G59,D59,E59))","v":""}]
[null,16,17,null,null,null,null,34,null,{"$f":"IF(OR(F54=\"\",G54=\"\"),K9,L9)","v":""},{"$f":"IF(OR(F48=\"\",G48=\"\"),\"\",IF(F48<G48,D48,E48))","v":""},{"$f":"IF(OR(F54=\"\",G54=\"\"),\"\",IF(F54>G54,D54,E54))","v":""}]
[null,8,25,null,null,null,null,35,null,{"$f":"IF(OR(F54=\"\",G54=\"\"),K10,L10)","v":""},{"$f":"IF(OR(F49=\"\",G49=\"\"),\"\",IF(F49<G49,D49,E49))","v":""},{"$f":"IF(OR(F54=\"\",G54=\"\"),\"\",IF(F54<G54,D54,E54))","v":""}]
[null,9,24,null,null,null,null,36,null,{"$f":"IF(OR(F40=\"\",G40=\"\"),\"\",IF(F40<G40,D40,E40))","v":""}]
[null,4,29,null,null,null,null,37,null,""]
[null,13,20,null,null,null,null,38,null,""]
[null,5,28,null,null,null,null,39,null,{"$f":"IF(OR(F43=\"\",G43=\"\"),\"\",IF(F43<G43,D43,E43))","v":""}]
[null,12,21,null,null,null,null,40,null,{"$f":"IF(OR(F28=\"\",G28=\"\"),\"\",IF(F28<G28,D28,E28))","v":""}]
[null,2,31,null,null,null,null,41,null,{"$f":"IF(OR(F29=\"\",G29=\"\"),\"\",IF(F29<G29,D29,E29))","v":""}]
[null,15,18,null,null,null,null,42,null,"",null,{"$f":"IF(OR(F51=\"\",G51=\"\"),\"\",IF(F51>G51,D51,E51))","v":""}]
[null,7,26,null,null,null,null,43,null,"",null,{"$f":"IF(OR(F51=\"\",G51=\"\"),\"\",IF(F51<G51,D51,E51))","v":""}]
[null,10,23,null,null,null,null,44,null,""]
[null,3,30,null,null,null,null,45,null,""]
[null,14,19,null,null,null,null,46,null,""]
[null,6,27,null,null,null,null,47,null,""]
[null,11,22,null,null,null,null,48,null,{"$f":"IF(OR(F8=\"\",G8=\"\"),\"\",IF(F8<G8,D8,E8))","v":""}]
[null,null,null,null,null,null,null,null,null,{"$f":"IF(OR(F9=\"\",G9=\"\"),\"\",IF(F9<G9,D9,E9))","v":""}]
["1/8 de FINAL",null,null,null,null,null,null,null,null,""]
[null,null,null,null,null,null,null,null,null,""]
["Pista","Clasificados",null,{"$f":"Participantes!$B$5&\" 1\"","v":"Equipo 1"},{"$f":"Participantes!$B$5&\" 2\"","v":"Equipo 2"},"Resultado",null,"Pase",null,""]
[null,33,34,{"$f":"IF(OR(F8=\"\",G8=\"\",F8=G8),\"\",IF(F8>G8,D8,E8))","v":""},{"$f":"IF(OR(F9=\"\",G9=\"\",F9=G9),\"\",IF(F9>G9,D9,E9))","v":""},null,null,49,null,""]
[null,35,36,{"$f":"IF(OR(F10=\"\",G10=\"\",F10=G10),\"\",IF(F10>G10,D10,E10))","v":""},{"$f":"IF(OR(F11=\"\",G11=\"\",F11=G11),\"\",IF(F11>G11,D11,E11))","v":""},null,null,50,null,""]
[null,37,38,{"$f":"IF(OR(F12=\"\",G12=\"\",F12=G12),\"\",IF(F12>G12,D12,E12))","v":""},{"$f":"IF(OR(F13=\"\",G13=\"\",F13=G13),\"\",IF(F13>G13,D13,E13))","v":""},null,null,51,null,""]
[null,39,40,{"$f":"IF(OR(F14=\"\",G14=\"\",F14=G14),\"\",IF(F14>G14,D14,E14))","v":""},{"$f":"IF(OR(F15=\"\",G15=\"\",F15=G15),\"\",IF(F15>G15,D15,E15))","v":""},null,null,52,null,""]
[null,41,42,{"$f":"IF(OR(F16=\"\",G16=\"\",F16=G16),\"\",IF(F16>G16,D16,E16))","v":""},{"$f":"IF(OR(F17=\"\",G17=\"\",F17=G17),\"\",IF(F17>G17,D17,E17))","v":""},null,null,53,null,""]
[null,43,44,{"$f":"IF(OR(F18=\"\",G18=\"\",F18=G18),\"\",IF(F18>G18,D18,E18))","v":""},{"$f":"IF(OR(F19=\"\",G19=\"\",F19=G19),\"\",IF(F19>G19,D19,E19))","v":""},null,null,54,null,""]
[null,45,46,{"$f":"IF(OR(F20=\"\",G20=\"\",F20=G20),\"\",IF(F20>G20,D20,E20))","v":""},{"$f":"IF(OR(F21=\"\",G21=\"\",F21=G21),\"\",IF(F21>G21,D21,E21))","v":""},null,null,55,null,""]
[null,47,48,{"$f":"IF(OR(F22=\"\",G22=\"\",F22=G22),\"\",IF(F22>G22,D22,E22))","v":""},{"$f":"IF(OR(F23=\"\",G23=\"\",F23=G23),\"\",IF(F23>G23,D23,E23))","v":""},null,null,56,null,""]
[null,null,null,null,null,null,null,null,null,""]
["1/4 de FINAL",null,null,null,null,null,null,null,null,""]
[null,null,null,null,null,null,null,null,null,""]
["Pista","Número",null,{"$f":"Participantes!$B$5&\" 1\"","v":"Equipo 1"},{"$f":"Participantes!$B$5&\" 2\"","v":"Equipo 2"},"Resultado",null,"Pase"]
[null,49,50,{"$f":"IF(OR(F28=\"\",G28=\"\",F28=G28),\"\",IF(F28>G28,D28,E28))","v":""},{"$f":"IF(OR(F29=\"\",G29=\"\",F29=G29),\"\",IF(F29>G29,D29,E29))","v":""},null,null,57]
[null,51,52,{"$f":"IF(OR(F30=\"\",G30=\"\",F30=G30),\"\",IF(F30>G30,D30,E30))","v":""},{"$f":"IF(OR(F31=\"\",G31=\"\",F31=G31),\"\",IF(F31>G31,D31,E31))","v":""},null,null,58]
[null,53,54,{"$f":"IF(OR(F32=\"\",G32=\"\",F32=G32),\"\",IF(F32>G32,D32,E32))","v":""},{"$f":"IF(OR(F33=\"\",G33=\"\",F33=G33),\"\",IF(F33>G33,D33,E33))","v":""},null,null,59]
[null,55,56,{"$f":"IF(OR(F34=\"\",G34=\"\",F34=G34),\"\",IF(F34>G34,D34,E34))","v":""},{"$f":"IF(OR(F35=\"\",G35=\"\",F35=G35),\"\",IF(F35>G35,D35,E35))","v":""},null,null,60]
[]
["SEMIFINAL"]
[]
["Pista","Número",null,{"$f":"Participantes!$B$5&\" 1\"","v":"Equipo 1"},{"$f":"Participantes!$B$5&\" 2\"","v":"Equipo 2"},"Resultado"]
[null,57,58,{"$f":"IF(OR(F40=\"\",G40=\"\",F40=G40),\"\",IF(F40>G40,D40,E40))","v":""},{"$f":"IF(OR(F41=\"\",G41=\"\",F41=G41),\"\",IF(F41>G41,D41,E41))","v":""}]
[null,59,60,{"$f":"IF(OR(F42=\"\",G42=\"\",F42=G42),\"\",IF(F42>G42,D42,E42))","v":""},{"$f":"IF(OR(F43=\"\",G43=\"\",F43=G43),\"\",IF(F43>G43,D43,E43))","v":""}]
[]
["3 y 4"]
[]
["Pista",null,null,{"$f":"Participantes!$B$5&\" 1\"","v":"Equipo 1"},{"$f":"Participantes!$B$5&\" 2\"","v":"Equipo 2"},"Resultado"]
[null,"Perdedores",null,{"$f":"IF(OR(F48=\"\",G48=\"\",F48=G48),\"\",IF(F48<G48,D48,E48))","v":""},{"$f":"IF(OR(F49=\"\",G49=\"\",F49=G49),\"\",IF(F49<G49,D49,E49))","v":""}]
[]
["FINAL"]
[]
["Pista",null,null,{"$f":"Participantes!$B$5&\" 1\"","v":"Equipo 1"},{"$f":"Participantes!$B$5&\" 2\"","v":"Equipo 2"},"Resultado"]
[null,"Ganadores",null,{"$f":"IF(OR(F48=\"\",G48=\"\",F48=G48),\"\",IF(F48>G48,D48,E48))","v":""},{"$f":"IF(OR(F49=\"\",G49=\"\",F49=G49),\"\",IF(F49>G49,D49,E49))","v":""}]

{"sheet":"Directa 16","index":11,"n_rows":39,"n_cols":12,"rows_kept":39,"cut":false,"hidden":false,"merged":[[5,2,5,5],[0,0,0,6],[1,0,1,7],[2,0,2,7],[3,0,3,6],[4,0,4,7],[24,0,24,6],[26,1,26,2],[26,5,26,6],[30,0,30,6],[32,1,32,2],[32,5,32,6],[6,1,6,2],[6,5,6,6],[16,0,16,7],[18,1,18,2],[18,5,18,6],[35,0,35,6],[37,1,37,2],[37,5,37,6],[38,1,38,2],[33,1,33,2]]}
[]
[{"$f":"Participantes!A1","v":"NOMBRE CAMPEONATO"}]
[{"$f":"Participantes!A2","v":"MODALIDAD"}]
[]
["1/8 de FINAL"]
[]
["Pista","Clasificados",null,{"$f":"Participantes!$B$5&\" 1\"","v":"Equipo 1"},{"$f":"Participantes!$B$5&\" 2\"","v":"Equipo 2"},"Resultado",null,"Pase",null,{"$f":"IF(OR(F39=\"\",G39=\"\",F39=G39),\"\",IF(F39>G39,D39,E39))","v":""}]
[null,1,16,null,null,null,null,17,null,{"$f":"IF(OR(F39=\"\",G39=\"\",F39=G39),\"\",IF(F39<G39,D39,E39))","v":""}]
[null,8,9,null,null,null,null,18,null,{"$f":"IF(OR(F34=\"\",G34=\"\"),K9,L9)","v":""},{"$f":"IF(OR(F28=\"\",G28=\"\"),\"\",IF(F28<G28,D28,E28))","v":""},{"$f":"IF(OR(F34=\"\",G34=\"\"),\"\",IF(F34>G34,D34,E34))","v":""}]
[null,4,13,null,null,null,null,19,null,{"$f":"IF(OR(F34=\"\",G34=\"\"),K10,L10)","v":""},{"$f":"IF(OR(F29=\"\",G29=\"\"),\"\",IF(F29<G29,D29,E29))","v":""},{"$f":"IF(OR(F34=\"\",G34=\"\"),\"\",IF(F34<G34,D34,E34))","v":""}]
[null,5,12,null,null,null,null,20,null,{"$f":"IF(OR(F20=\"\",G20=\"\"),\"\",IF(F20<G20,D20,E20))","v":""}]
[null,2,15,null,null,null,null,21,null,{"$f":"IF(OR(F21=\"\",G21=\"\"),\"\",IF(F21<G21,D21,E21))","v":""}]
[null,7,10,null,null,null,null,22,null,{"$f":"IF(OR(F22=\"\",G22=\"\"),\"\",IF(F22<G22,D22,E22))","v":""}]
[null,3,14,null,null,null,null,23,null,{"$f":"IF(OR(F23=\"\",G23=\"\"),\"\",IF(F23<G23,D23,E23))","v":""}]
[null,6,11,null,null,null,null,24,null,{"$f":"IF(OR(F8=\"\",G8=\"\"),\"\",IF(F8<G8,D8,E8))","v":""}]
[null,null,null,null,null,null,null,null,null,""]
["1/4 de FINAL",null,null,null,null,null,null,null,null,""]
[null,null,null,null,null,null,null,null,null,""]
["Pista","Número",null,{"$f":"Participantes!$B$5&\" 1\"","v":"Equipo 1"},{"$f":"Participantes!$B$5&\" 2\"","v":"Equipo 2"},"Resultado",null,"Pase",null,""]
[null,17,18,{"$f":"IF(OR(F8=\"\",G8=\"\",F8=G8),\"\",IF(F8>G8,D8,E8))","v":""},{"$f":"IF(OR(F9=\"\",G9=\"\",F9=G9),\"\",IF(F9>G9,D9,E9))","v":""},null,null,25,null,""]
[null,19,20,{"$f":"IF(OR(F10=\"\",G10=\"\",F10=G10),\"\",IF(F10>G10,D10,E10))","v":""},{"$f":"IF(OR(F11=\"\",G11=\"\",F11=G11),\"\",IF(F11>G11,D11,E11))","v":""},null,null,26,null,""]
[null,21,22,{"$f":"IF(OR(F12=\"\",G12=\"\",F12=G12),\"\",IF(F12>G12,D12,E12))","v":""},{"$f":"IF(OR(F13=\"\",G13=\"\",F13=G13),\"\",IF(F13>G13,D13,E13))","v":""},null,null,27,null,""]
[null,23,24,{"$f":"IF(OR(F14=\"\",G14=\"\",F14=G14),\"\",IF(F14>G14,D14,E14))","v":""},{"$f":"IF(OR(F15=\"\",G15=\"\",F15=G15),\"\",IF(F15>G15,D15,E15))","v":""},null,null,28]
[]
["SEMIFINAL"]
[]
["Pista","Número",null,{"$f":"Participantes!$B$5&\" 1\"","v":"Equipo 1"},{"$f":"Participantes!$B$5&\" 2\"","v":"Equipo 2"},"Resultado"]
[null,25,26,{"$f":"IF(OR(F20=\"\",G20=\"\",F20=G20),\"\",IF(F20>G20,D20,E20))","v":""},{"$f":"IF(OR(F21=\"\",G21=\"\",F21=G21),\"\",IF(F21>G21,D21,E21))","v":""}]
[null,27,28,{"$f":"IF(OR(F22=\"\",G22=\"\",F22=G22),\"\",IF(F22>G22,D22,E22))","v":""},{"$f":"IF(OR(F23=\"\",G23=\"\",F23=G23),\"\",IF(F23>G23,D23,E23))","v":""}]
[]
["3 y 4"]
[]
["Pista",null,null,{"$f":"Participantes!$B$5&\" 1\"","v":"Equipo 1"},{"$f":"Participantes!$B$5&\" 2\"","v":"Equipo 2"},"Resultado"]
[null,"Perdedores",null,{"$f":"IF(OR(F28=\"\",G28=\"\",F28=G28),\"\",IF(F28<G28,D28,E28))","v":""},{"$f":"IF(OR(F29=\"\",G29=\"\",F29=G29),\"\",IF(F29<G29,D29,E29))","v":""}]
[]
["FINAL"]
[]
["Pista",null,null,{"$f":"Participantes!$B$5&\" 1\"","v":"Equipo 1"},{"$f":"Participantes!$B$5&\" 2\"","v":"Equipo 2"},"Resultado"]
[null,"Ganadores",null,{"$f":"IF(OR(F28=\"\",G28=\"\",F28=G28),\"\",IF(F28>G28,D28,E28))","v":""},{"$f":"IF(OR(F29=\"\",G29=\"\",F29=G29),\"\",IF(F29>G29,D29,E29))","v":""}]

{"sheet":"Directa 8","index":12,"n_rows":27,"n_cols":12,"rows_kept":27,"cut":false,"hidden":false,"merged":[[23,0,23,6],[25,1,25,2],[25,5,25,6],[26,1,26,2],[14,1,14,2],[14,5,14,6],[18,0,18,6],[20,1,20,2],[20,5,20,6],[21,1,21,2],[4,0,4,7],[6,1,6,2],[6,5,6,6],[12,0,12,6],[0,0,0,6],[1,0,1,7],[2,0,2,7],[3,0,3,6]]}
[]
[{"$f":"Participantes!A1","v":"NOMBRE CAMPEONATO"}]
[{"$f":"Participantes!A2","v":"MODALIDAD"}]
[]
["1/4 de FINAL"]
[]
["Pista","Número",null,{"$f":"Participantes!$B$5&\" 1\"","v":"Equipo 1"},{"$f":"Participantes!$B$5&\" 2\"","v":"Equipo 2"},"Resultado",null,"Pase",null,{"$f":"IF(OR(F27=\"\",G27=\"\",F27=G27),\"\",IF(F27>G27,D27,E27))","v":""}]
[null,1,8,null,null,null,null,9,null,{"$f":"IF(OR(F27=\"\",G27=\"\",F27=G27),\"\",IF(F27<G27,D27,E27))","v":""}]
[null,4,5,null,null,null,null,10,null,{"$f":"IF(OR(F22=\"\",G22=\"\"),K9,L9)","v":""},{"$f":"IF(OR(F16=\"\",G16=\"\"),\"\",IF(F16<G16,D16,E16))","v":""},{"$f":"IF(OR(F22=\"\",G22=\"\"),\"\",IF(F22>G22,D22,E22))","v":""}]
[null,2,7,null,null,null,null,11,null,{"$f":"IF(OR(F22=\"\",G22=\"\"),K10,L10)","v":""},{"$f":"IF(OR(F17=\"\",G17=\"\"),\"\",IF(F17<G17,D17,E17))","v":""},{"$f":"IF(OR(F22=\"\",G22=\"\"),\"\",IF(F22<G22,D22,E22))","v":""}]
[null,3,6,null,null,null,null,12,null,{"$f":"IF(OR(F8=\"\",G8=\"\",F8=G8),\"\",IF(F8<G8,D8,E8))","v":""}]
[null,null,null,null,null,null,null,null,null,{"$f":"IF(OR(F9=\"\",G9=\"\",F9=G9),\"\",IF(F9<G9,D9,E9))","v":""}]
["SEMIFINAL",null,null,null,null,null,null,null,null,{"$f":"IF(OR(F10=\"\",G10=\"\",F10=G10),\"\",IF(F10<G10,D10,E10))","v":""}]
[null,null,null,null,null,null,null,null,null,{"$f":"IF(OR(F11=\"\",G11=\"\",F11=G11),\"\",IF(F11<G11,D11,E11))","v":""}]
["Pista","Número",null,{"$f":"Participantes!$B$5&\" 1\"","v":"Equipo 1"},{"$f":"Participantes!$B$5&\" 2\"","v":"Equipo 2"},"Resultado"]
[null,9,10,{"$f":"IF(OR(F8=\"\",G8=\"\",F8=G8),\"\",IF(F8>G8,D8,E8))","v":""},{"$f":"IF(OR(F9=\"\",G9=\"\",F9=G9),\"\",IF(F9>G9,D9,E9))","v":""}]
[null,11,12,{"$f":"IF(OR(F10=\"\",G10=\"\",F10=G10),\"\",IF(F10>G10,D10,E10))","v":""},{"$f":"IF(OR(F11=\"\",G11=\"\",F11=G11),\"\",IF(F11>G11,D11,E11))","v":""}]
[]
["3 y 4"]
[]
["Pista",null,null,{"$f":"Participantes!$B$5&\" 1\"","v":"Equipo 1"},{"$f":"Participantes!$B$5&\" 2\"","v":"Equipo 2"},"Resultado"]
[null,"Perdedores",null,{"$f":"IF(OR(F16=\"\",G16=\"\",F16=G16),\"\",IF(F16<G16,D16,E16))","v":""},{"$f":"IF(OR(F17=\"\",G17=\"\",F17=G17),\"\",IF(F17<G17,D17,E17))","v":""}]
[]
["FINAL"]
[]
["Pista",null,null,{"$f":"Participantes!$B$5&\" 1\"","v":"Equipo 1"},{"$f":"Participantes!$B$5&\" 2\"","v":"Equipo 2"},"Resultado"]
[null,"Ganadores",null,{"$f":"IF(OR(F16=\"\",G16=\"\",F16=G16),\"\",IF(F16>G16,D16,E16))","v":""},{"$f":"IF(OR(F17=\"\",G17=\"\",F17=G17),\"\",IF(F17>G17,D17,E17))","v":""}]

{"sheet":"Clasificación Final","index":13,"n_rows":66,"n_cols":8,"rows_kept":66,"cut":false,"hidden":false,"merged":[[0,0,0,2]]}
["Clasificación Final"]
["Puesto",{"$f":"Participantes!B5","v":"Equipo"},{"$f":"IF(Participantes!C5=\"\",\"\",Participantes!C5)","v":"Club"}]
[1,{"$f":"CONCATENATE(D3,E3,F3,G3,H3)","v":""},{"$f":"IF(B3=\"\",\"\",VLOOKUP(B3,Participantes!$B$6:$C$69,2,0))","v":""},null,{"$f":"'Directa 8'!J7","v":""},{"$f":"'Directa 16'!J7","v":""},{"$f":"'Directa 32'!J7","v":""},{"$f":"'Suizo 8'!J7","v":""}]
[2,{"$f":"CONCATENATE(D4,E4,F4,G4,H4)","v":""},{"$f":"IF(B4=\"\",\"\",VLOOKUP(B4,Participantes!$B$6:$C$69,2,0))","v":""},null,{"$f":"'Directa 8'!J8","v":""},{"$f":"'Directa 16'!J8","v":""},{"$f":"'Directa 32'!J8","v":""},{"$f":"'Suizo 8'!J8","v":""}]
[3,"",{"$f":"IF(B5=\"\",\"\",VLOOKUP(B5,Participantes!$B$6:$C$69,2,0))","v":""},null,{"$f":"'Directa 8'!J9","v":""},{"$f":"'Directa 16'!J9","v":""},{"$f":"'Directa 32'!J9","v":""},{"$f":"'Suizo 8'!J9","v":""}]
[{"$f":"IF(AND('Suizo 8'!F44=\"\",'Suizo 8'!G44=\"\",'Directa 8'!F22=\"\",'Directa 8'!G22=\"\",'Directa 16'!F34=\"\",'Directa 16'!G34=\"\"),\"\",4)","v":""},"",{"$f":"IF(B6=\"\",\"\",VLOOKUP(B6,Participantes!$B$6:$C$69,2,0))","v":""},null,{"$f":"'Directa 8'!J10","v":""},{"$f":"'Directa 16'!J10","v":""},{"$f":"'Directa 32'!J10","v":""},{"$f":"'Suizo 8'!J10","v":""}]
[5,{"$f":"IF(AND(F7=\"\",G7=\"\",H7=\"\"),D7,CONCATENATE(F7,G7,H7))","v":""},{"$f":"IF(B7=\"\",\"\",VLOOKUP(B7,Participantes!$B$6:$C$69,2,0))","v":""},{"$f":"IF(Clasificación!B7=\"\",\"\",Clasificación!B7)","v":""},{"$f":"'Directa 8'!J11","v":""},{"$f":"'Directa 16'!J11","v":""},{"$f":"'Directa 32'!J11","v":""},{"$f":"'Suizo 8'!J11","v":""}]
[{"$f":"IF(AND(E8=\"\",F8=\"\",H8=\"\",G8=\"\"),6,\"\")","v":6},"",{"$f":"IF(B8=\"\",\"\",VLOOKUP(B8,Participantes!$B$6:$C$69,2,0))","v":""},{"$f":"IF(Clasificación!B8=\"\",\"\",Clasificación!B8)","v":""},{"$f":"'Directa 8'!J12","v":""},{"$f":"'Directa 16'!J12","v":""},{"$f":"'Directa 32'!J12","v":""},{"$f":"'Suizo 8'!J12","v":""}]
[{"$f":"IF(AND(E9=\"\",F9=\"\"),7,\"\")","v":7},"",{"$f":"IF(B9=\"\",\"\",VLOOKUP(B9,Participantes!$B$6:$C$69,2,0))","v":""},{"$f":"IF(Clasificación!B9=\"\",\"\",Clasificación!B9)","v":""},{"$f":"'Directa 8'!J13","v":""},{"$f":"'Directa 16'!J13","v":""},{"$f":"'Directa 32'!J13","v":""},{"$f":"'Suizo 8'!J13","v":""}]
[{"$f":"IF(AND(E10=\"\",F10=\"\",H10=\"\",G10=\"\"),8,\"\")","v":8},"",{"$f":"IF(B10=\"\",\"\",VLOOKUP(B10,Participantes!$B$6:$C$69,2,0))","v":""},{"$f":"IF(Clasificación!B10=\"\",\"\",Clasificación!B10)","v":""},{"$f":"'Directa 8'!J14","v":""},{"$f":"'Directa 16'!J14","v":""},{"$f":"'Directa 32'!J14","v":""},{"$f":"'Suizo 8'!J14","v":""}]
[9,"",{"$f":"IF(B11=\"\",\"\",VLOOKUP(B11,Participantes!$B$6:$C$69,2,0))","v":""},{"$f":"IF(Clasificación!B11=\"\",\"\",Clasificación!B11)","v":""},null,{"$f":"'Directa 16'!J15","v":""},{"$f":"'Directa 32'!J15","v":""},{"$f":"'Suizo 16'!J15","v":""}]
[{"$f":"IF(AND(F12=\"\",H12=\"\",G12=\"\"),10,\"\")","v":10},"",{"$f":"IF(B12=\"\",\"\",VLOOKUP(B12,Participantes!$B$6:$C$69,2,0))","v":""},{"$f":"IF(Clasificación!B12=\"\",\"\",Clasificación!B12)","v":""},null,{"$f":"'Directa 16'!J16","v":""},{"$f":"'Directa 32'!J16","v":""},{"$f":"'Suizo 16'!J16","v":""}]
[{"$f":"IF(AND(F13=\"\",H13=\"\",G13=\"\"),11,\"\")","v":11},"",{"$f":"IF(B13=\"\",\"\",VLOOKUP(B13,Participantes!$B$6:$C$69,2,0))","v":""},{"$f":"IF(Clasificación!B13=\"\",\"\",Clasificación!B13)","v":""},null,{"$f":"'Directa 16'!J17","v":""},{"$f":"'Directa 32'!J17","v":""},{"$f":"'Suizo 16'!J17","v":""}]
[{"$f":"IF(AND(F14=\"\",H14=\"\"),12,\"\")","v":12},"",{"$f":"IF(B14=\"\",\"\",VLOOKUP(B14,Participantes!$B$6:$C$69,2,0))","v":""},{"$f":"IF(Clasificación!B14=\"\",\"\",Clasificación!B14)","v":""},null,{"$f":"'Directa 16'!J18","v":""},{"$f":"'Directa 32'!J18","v":""},{"$f":"'Suizo 16'!J18","v":""}]
[{"$f":"IF(F15=\"\",13,\"\")","v":13},"",{"$f":"IF(B15=\"\",\"\",VLOOKUP(B15,Participantes!$B$6:$C$69,2,0))","v":""},{"$f":"IF(Clasificación!B15=\"\",\"\",Clasificación!B15)","v":""},null,{"$f":"'Directa 16'!J19","v":""},{"$f":"'Directa 32'!J19","v":""},{"$f":"'Suizo 16'!J19","v":""}]
[{"$f":"IF(AND(F16=\"\",H16=\"\",G16=\"\"),14,\"\")","v":14},"",{"$f":"IF(B16=\"\",\"\",VLOOKUP(B16,Participantes!$B$6:$C$69,2,0))","v":""},{"$f":"IF(Clasificación!B16=\"\",\"\",Clasificación!B16)","v":""},null,{"$f":"'Directa 16'!J20","v":""},{"$f":"'Directa 32'!J20","v":""},{"$f":"'Suizo 16'!J20","v":""}]
[{"$f":"IF(AND(F17=\"\",H17=\"\",G17=\"\"),15,\"\")","v":15},{"$f":"IF(AND(F17=\"\",G17=\"\",H17=\"\"),D17,CONCATENATE(F17,G17,H17))","v":""},{"$f":"IF(B17=\"\",\"\",VLOOKUP(B17,Participantes!$B$6:$C$69,2,0))","v":""},{"$f":"IF(Clasificación!B17=\"\",\"\",Clasificación!B17)","v":""},null,{"$f":"'Directa 16'!J21","v":""},{"$f":"'Directa 32'!J21","v":""},{"$f":"'Suizo 16'!J21","v":""}]
[{"$f":"IF(AND(F18=\"\",H18=\"\",G18=\"\"),16,\"\")","v":16},{"$f":"IF(AND(F18=\"\",G18=\"\",H18=\"\"),D18,CONCATENATE(F18,G18,H18))","v":""},{"$f":"IF(B18=\"\",\"\",VLOOKUP(B18,Participantes!$B$6:$C$69,2,0))","v":""},{"$f":"IF(Clasificación!B18=\"\",\"\",Clasificación!B18)","v":""},null,{"$f":"'Directa 16'!J22","v":""},{"$f":"'Directa 32'!J22","v":""},{"$f":"'Suizo 16'!J22","v":""}]
[17,{"$f":"IF(AND(F19=\"\",G19=\"\",H19=\"\"),D19,CONCATENATE(F19,G19,H19))","v":""},{"$f":"IF(B19=\"\",\"\",VLOOKUP(B19,Participantes!$B$6:$C$69,2,0))","v":""},{"$f":"IF(Clasificación!B19=\"\",\"\",Clasificación!B19)","v":""},null,null,{"$f":"'Directa 32'!J23","v":""},{"$f":"'Suizo 32'!J23","v":""}]
[{"$f":"IF(AND(H20=\"\",G20=\"\"),18,\"\")","v":18},{"$f":"IF(AND(F20=\"\",G20=\"\",H20=\"\"),D20,CONCATENATE(F20,G20,H20))","v":""},{"$f":"IF(B20=\"\",\"\",VLOOKUP(B20,Participantes!$B$6:$C$69,2,0))","v":""},{"$f":"IF(Clasificación!B20=\"\",\"\",Clasificación!B20)","v":""},null,null,{"$f":"'Directa 32'!J24","v":""},{"$f":"'Suizo 32'!J24","v":""}]
[{"$f":"IF(AND(H21=\"\",G21=\"\"),19,\"\")","v":19},"",{"$f":"IF(B21=\"\",\"\",VLOOKUP(B21,Participantes!$B$6:$C$69,2,0))","v":""},{"$f":"IF(Clasificación!B21=\"\",\"\",Clasificación!B21)","v":""},null,null,{"$f":"'Directa 32'!J25","v":""},{"$f":"'Suizo 32'!J25","v":""}]
[{"$f":"IF(AND(H22=\"\",G22=\"\"),20,\"\")","v":20},"",{"$f":"IF(B22=\"\",\"\",VLOOKUP(B22,Participantes!$B$6:$C$69,2,0))","v":""},{"$f":"IF(Clasificación!B22=\"\",\"\",Clasificación!B22)","v":""},null,null,{"$f":"'Directa 32'!J26","v":""},{"$f":"'Suizo 32'!J26","v":""}]
[{"$f":"IF(AND(F23=\"\",H23=\"\",G23=\"\"),21,\"\")","v":21},"",{"$f":"IF(B23=\"\",\"\",VLOOKUP(B23,Participantes!$B$6:$C$69,2,0))","v":""},{"$f":"IF(Clasificación!B23=\"\",\"\",Clasificación!B23)","v":""},null,null,{"$f":"'Directa 32'!J27","v":""},{"$f":"'Suizo 32'!J27","v":""}]
[{"$f":"IF(AND(F24=\"\",H24=\"\",G24=\"\"),22,\"\")","v":22},"",{"$f":"IF(B24=\"\",\"\",VLOOKUP(B24,Participantes!$B$6:$C$69,2,0))","v":""},{"$f":"IF(Clasificación!B24=\"\",\"\",Clasificación!B24)","v":""},null,null,{"$f":"'Directa 32'!J28","v":""},{"$f":"'Suizo 32'!J28","v":""}]
[{"$f":"IF(AND(F25=\"\",H25=\"\",G25=\"\"),23,\"\")","v":23},"",{"$f":"IF(B25=\"\",\"\",VLOOKUP(B25,Participantes!$B$6:$C$69,2,0))","v":""},{"$f":"IF(Clasificación!B25=\"\",\"\",Clasificación!B25)","v":""},null,null,{"$f":"'Directa 32'!J29","v":""},{"$f":"'Suizo 32'!J29","v":""}]
[{"$f":"IF(AND(F26=\"\",H26=\"\",G26=\"\"),24,\"\")","v":24},"",{"$f":"IF(B26=\"\",\"\",VLOOKUP(B26,Participantes!$B$6:$C$69,2,0))","v":""},{"$f":"IF(Clasificación!B26=\"\",\"\",Clasificación!B26)","v":""},null,null,{"$f":"'Directa 32'!J30","v":""},{"$f":"'Suizo 32'!J30","v":""}]
[25,{"$f":"IF(AND(F27=\"\",G27=\"\",H27=\"\"),D27,CONCATENATE(F27,G27,H27))","v":""},{"$f":"IF(B27=\"\",\"\",VLOOKUP(B27,Participantes!$B$6:$C$69,2,0))","v":""},{"$f":"IF(Clasificación!B27=\"\",\"\",Clasificación!B27)","v":""},null,null,{"$f":"'Directa 32'!J31","v":""},{"$f":"'Suizo 32'!J31","v":""}]
[{"$f":"IF(AND(F28=\"\",H28=\"\",G28=\"\"),26,\"\")","v":26},"",{"$f":"IF(B28=\"\",\"\",VLOOKUP(B28,Participantes!$B$6:$C$69,2,0))","v":""},{"$f":"IF(Clasificación!B28=\"\",\"\",Clasificación!B28)","v":""},null,null,{"$f":"'Directa 32'!J32","v":""},{"$f":"'Suizo 32'!J32","v":""}]
[{"$f":"IF(AND(F29=\"\",H29=\"\",G29=\"\"),27,\"\")","v":27},"",{"$f":"IF(B29=\"\",\"\",VLOOKUP(B29,Participantes!$B$6:$C$69,2,0))","v":""},{"$f":"IF(Clasificación!B29=\"\",\"\",Clasificación!B29)","v":""},null,null,{"$f":"'Directa 32'!J33","v":""},{"$f":"'Suizo 32'!J33","v":""}]
[{"$f":"IF(AND(F30=\"\",H30=\"\",G30=\"\"),28,\"\")","v":28},"",{"$f":"IF(B30=\"\",\"\",VLOOKUP(B30,Participantes!$B$6:$C$69,2,0))","v":""},{"$f":"IF(Clasificación!B30=\"\",\"\",Clasificación!B30)","v":""},null,null,{"$f":"'Directa 32'!J34","v":""},{"$f":"'Suizo 32'!J34","v":""}]
[{"$f":"IF(AND(F31=\"\",H31=\"\",G31=\"\"),29,\"\")","v":29},"",{"$f":"IF(B31=\"\",\"\",VLOOKUP(B31,Participantes!$B$6:$C$69,2,0))","v":""},{"$f":"IF(Clasificación!B31=\"\",\"\",Clasificación!B31)","v":""},null,null,{"$f":"'Directa 32'!J35","v":""},{"$f":"'Suizo 32'!J35","v":""}]
[{"$f":"IF(AND(F32=\"\",H32=\"\",G32=\"\"),30,\"\")","v":30},"",{"$f":"IF(B32=\"\",\"\",VLOOKUP(B32,Participantes!$B$6:$C$69,2,0))","v":""},{"$f":"IF(Clasificación!B32=\"\",\"\",Clasificación!B32)","v":""},null,null,{"$f":"'Directa 32'!J36","v":""},{"$f":"'Suizo 32'!J36","v":""}]
[{"$f":"IF(AND(F33=\"\",H33=\"\",G33=\"\"),31,\"\")","v":31},{"$f":"IF(AND(F33=\"\",G33=\"\",H33=\"\"),D33,CONCATENATE(F33,G33,H33))","v":""},{"$f":"IF(B33=\"\",\"\",VLOOKUP(B33,Participantes!$B$6:$C$69,2,0))","v":""},{"$f":"IF(Clasificación!B33=\"\",\"\",Clasificación!B33)","v":""},null,null,{"$f":"'Directa 32'!J37","v":""},{"$f":"'Suizo 32'!J37","v":""}]
[{"$f":"IF(AND(F34=\"\",H34=\"\",G34=\"\"),32,\"\")","v":32},{"$f":"IF(AND(F34=\"\",G34=\"\",H34=\"\"),D34,CONCATENATE(F34,G34,H34))","v":""},{"$f":"IF(B34=\"\",\"\",VLOOKUP(B34,Participantes!$B$6:$C$69,2,0))","v":""},{"$f":"IF(Clasificación!B34=\"\",\"\",Clasificación!B34)","v":""},null,null,{"$f":"'Directa 32'!J38","v":""},{"$f":"'Suizo 32'!J38","v":""}]
[33,{"$f":"IF(D35=\"\",\"\",D35)","v":""},{"$f":"IF(B35=\"\",\"\",VLOOKUP(B35,Participantes!$B$6:$C$69,2,0))","v":""},{"$f":"IF(Clasificación!B35=\"\",\"\",Clasificación!B35)","v":""}]
[34,"",{"$f":"IF(B36=\"\",\"\",VLOOKUP(B36,Participantes!$B$6:$C$69,2,0))","v":""},{"$f":"IF(Clasificación!B36=\"\",\"\",Clasificación!B36)","v":""}]
[35,"",{"$f":"IF(B37=\"\",\"\",VLOOKUP(B37,Participantes!$B$6:$C$69,2,0))","v":""},{"$f":"IF(Clasificación!B37=\"\",\"\",Clasificación!B37)","v":""}]
[36,"",{"$f":"IF(B38=\"\",\"\",VLOOKUP(B38,Participantes!$B$6:$C$69,2,0))","v":""},{"$f":"IF(Clasificación!B38=\"\",\"\",Clasificación!B38)","v":""}]
[37,"",{"$f":"IF(B39=\"\",\"\",VLOOKUP(B39,Participantes!$B$6:$C$69,2,0))","v":""},{"$f":"IF(Clasificación!B39=\"\",\"\",Clasificación!B39)","v":""}]
[38,"",{"$f":"IF(B40=\"\",\"\",VLOOKUP(B40,Participantes!$B$6:$C$69,2,0))","v":""},{"$f":"IF(Clasificación!B40=\"\",\"\",Clasificación!B40)","v":""}]
[39,"",{"$f":"IF(B41=\"\",\"\",VLOOKUP(B41,Participantes!$B$6:$C$69,2,0))","v":""},{"$f":"IF(Clasificación!B41=\"\",\"\",Clasificación!B41)","v":""}]
[40,{"$f":"IF(D42=\"\",\"\",D42)","v":""},{"$f":"IF(B42=\"\",\"\",VLOOKUP(B42,Participantes!$B$6:$C$69,2,0))","v":""},{"$f":"IF(Clasificación!B42=\"\",\"\",Clasificación!B42)","v":""}]
[41,"",{"$f":"IF(B43=\"\",\"\",VLOOKUP(B43,Participantes!$B$6:$C$69,2,0))","v":""},{"$f":"IF(Clasificación!B43=\"\",\"\",Clasificación!B43)","v":""}]
[42,"",{"$f":"IF(B44=\"\",\"\",VLOOKUP(B44,Participantes!$B$6:$C$69,2,0))","v":""},{"$f":"IF(Clasificación!B44=\"\",\"\",Clasificación!B44)","v":""}]
[43,"",{"$f":"IF(B45=\"\",\"\",VLOOKUP(B45,Participantes!$B$6:$C$69,2,0))","v":""},{"$f":"IF(Clasificación!B45=\"\",\"\",Clasificación!B45)","v":""}]
[44,"",{"$f":"IF(B46=\"\",\"\",VLOOKUP(B46,Participantes!$B$6:$C$69,2,0))","v":""},{"$f":"IF(Clasificación!B46=\"\",\"\",Clasificación!B46)","v":""}]
[45,"",{"$f":"IF(B47=\"\",\"\",VLOOKUP(B47,Participantes!$B$6:$C$69,2,0))","v":""},{"$f":"IF(Clasificación!B47=\"\",\"\",Clasificación!B47)","v":""}]
[46,"",{"$f":"IF(B48=\"\",\"\",VLOOKUP(B48,Participantes!$B$6:$C$69,2,0))","v":""},{"$f":"IF(Clasificación!B48=\"\",\"\",Clasificación!B48)","v":""}]
[47,"",{"$f":"IF(B49=\"\",\"\",VLOOKUP(B49,Participantes!$B$6:$C$69,2,0))","v":""},{"$f":"IF(Clasificación!B49=\"\",\"\",Clasificación!B49)","v":""}]
[48,"",{"$f":"IF(B50=\"\",\"\",VLOOKUP(B50,Participantes!$B$6:$C$69,2,0))","v":""},{"$f":"IF(Clasificación!B50=\"\",\"\",Clasificación!B50)","v":""}]
[49,"",{"$f":"IF(B51=\"\",\"\",VLOOKUP(B51,Participantes!$B$6:$C$69,2,0))","v":""},{"$f":"IF(Clasificación!B51=\"\",\"\",Clasificación!B51)","v":""}]
[50,"",{"$f":"IF(B52=\"\",\"\",VLOOKUP(B52,Participantes!$B$6:$C$69,2,0))","v":""},{"$f":"IF(Clasificación!B52=\"\",\"\",Clasificación!B52)","v":""}]
[51,"",{"$f":"IF(B53=\"\",\"\",VLOOKUP(B53,Participantes!$B$6:$C$69,2,0))","v":""},{"$f":"IF(Clasificación!B53=\"\",\"\",Clasificación!B53)","v":""}]
[52,"",{"$f":"IF(B54=\"\",\"\",VLOOKUP(B54,Participantes!$B$6:$C$69,2,0))","v":""},{"$f":"IF(Clasificación!B54=\"\",\"\",Clasificación!B54)","v":""}]
[53,"",{"$f":"IF(B55=\"\",\"\",VLOOKUP(B55,Participantes!$B$6:$C$69,2,0))","v":""},{"$f":"IF(Clasificación!B55=\"\",\"\",Clasificación!B55)","v":""}]
[54,"",{"$f":"IF(B56=\"\",\"\",VLOOKUP(B56,Participantes!$B$6:$C$69,2,0))","v":""},{"$f":"IF(Clasificación!B56=\"\",\"\",Clasificación!B56)","v":""}]
[55,"",{"$f":"IF(B57=\"\",\"\",VLOOKUP(B57,Participantes!$B$6:$C$69,2,0))","v":""},{"$f":"IF(Clasificación!B57=\"\",\"\",Clasificación!B57)","v":""}]
[56,"",{"$f":"IF(B58=\"\",\"\",VLOOKUP(B58,Participantes!$B$6:$C$69,2,0))","v":""},{"$f":"IF(Clasificación!B58=\"\",\"\",Clasificación!B58)","v":""}]
[57,"",{"$f":"IF(B59=\"\",\"\",VLOOKUP(B59,Participantes!$B$6:$C$69,2,0))","v":""},{"$f":"IF(Clasificación!B59=\"\",\"\",Clasificación!B59)","v":""}]
[58,"",{"$f":"IF(B60=\"\",\"\",VLOOKUP(B60,Participantes!$B$6:$C$69,2,0))","v":""},{"$f":"IF(Clasificación!B60=\"\",\"\",Clasificación!B60)","v":""}]
[59,"",{"$f":"IF(B61=\"\",\"\",VLOOKUP(B61,Participantes!$B$6:$C$69,2,0))","v":""},{"$f":"IF(Clasificación!B61=\"\",\"\",Clasificación!B61)","v":""}]
[60,"",{"$f":"IF(B62=\"\",\"\",VLOOKUP(B62,Participantes!$B$6:$C$69,2,0))","v":""},{"$f":"IF(Clasificación!B62=\"\",\"\",Clasificación!B62)","v":""}]
[61,"",{"$f":"IF(B63=\"\",\"\",VLOOKUP(B63,Participantes!$B$6:$C$69,2,0))","v":""},{"$f":"IF(Clasificación!B63=\"\",\"\",Clasificación!B63)","v":""}]
[62,"",{"$f":"IF(B64=\"\",\"\",VLOOKUP(B64,Participantes!$B$6:$C$69,2,0))","v":""},{"$f":"IF(Clasificación!B64=\"\",\"\",Clasificación!B64)","v":""}]
[63,"",{"$f":"IF(B65=\"\",\"\",VLOOKUP(B65,Participantes!$B$6:$C$69,2,0))","v":""},{"$f":"IF(Clasificación!B65=\"\",\"\",Clasificación!B65)","v":""}]
[64,"",{"$f":"IF(B66=\"\",\"\",VLOOKUP(B66,Participantes!$B$6:$C$69,2,0))","v":""},{"$f":"IF(Clasificación!B66=\"\",\"\",Clasificación!B66)","v":""}]

{"sheet":"Hojas Enfrentamientos","index":14,"n_rows":30,"n_cols":4,"rows_kept":30,"cut":false,"hidden":false,"merged":[[24,0,24,4],[25,0,25,4],[26,0,26,4],[27,3,27,4],[29,1,29,2],[16,0,16,4],[17,0,17,4],[18,0,18,4],[19,3,19,4],[21,1,21,2],[0,0,0,4],[1,0,1,4],[2,0,2,4],[3,3,3,4],[5,1,5,2],[8,0,8,4],[9,0,9,4],[10,0,10,4],[11,3,11,4],[13,1,13,2]]}
[{"$f":"Participantes!A1","v":"NOMBRE CAMPEONATO"}]
[{"$f":"Participantes!A2","v":"MODALIDAD"}]
[]
["Pista",{"$f":"Participantes!B5&\" 1\"","v":"Equipo 1"},{"$f":"Participantes!B5&\" 2\"","v":"Equipo 2"},"Resultado"]
[]
[null,"Firma"]
[]
[]
[{"$f":"Participantes!A1","v":"NOMBRE CAMPEONATO"}]
[{"$f":"Participantes!A2","v":"MODALIDAD"}]
[]
["Pista",{"$f":"Participantes!B5&\" 1\"","v":"Equipo 1"},{"$f":"Participantes!B5&\" 2\"","v":"Equipo 2"},"Resultado"]
[]
[null,"Firma"]
[]
[]
[{"$f":"Participantes!A1","v":"NOMBRE CAMPEONATO"}]
[{"$f":"Participantes!A2","v":"MODALIDAD"}]
[]
["Pista",{"$f":"Participantes!B5&\" 1\"","v":"Equipo 1"},{"$f":"Participantes!B5&\" 2\"","v":"Equipo 2"},"Resultado"]
[]
[null,"Firma"]
[]
[]
[{"$f":"Participantes!A1","v":"NOMBRE CAMPEONATO"}]
[{"$f":"Participantes!A2","v":"MODALIDAD"}]
[]
["Pista",{"$f":"Participantes!B5&\" 1\"","v":"Equipo 1"},{"$f":"Participantes!B5&\" 2\"","v":"Equipo 2"},"Resultado"]
[]
[null,"Firma"]