{"text_format":"1","workbook":"xlsx","n_sheets":9,"sheets":["Control Impresión","Participantes","Sorteo","Suizo32","Suizo16","KO8","Clasificación","Actas","Manual"],"not_rendered":{"charts":0,"images":5,"macros":1,"external_links":1,"defined_names":44,"comments":0,"pivot_tables":0},"unopened":[],"bounds":{"document_bytes":16777216,"sheet_cells":100000,"rows_first":2000,"rows_last":500,"rows_between":2000,"halvings":0,"cell_chars":16384,"cell_head_chars":4096},"cells_cut":0,"cells_raw":0,"read":"whole","date_system":"1900"}

{"sheet":"Control Impresión","index":0,"n_rows":14,"n_cols":4,"rows_kept":14,"cut":false,"hidden":false,"merged":[[13,1,13,3],[7,1,10,1],[11,1,12,1],[0,1,0,4],[1,1,1,3],[2,1,2,3],[3,1,6,1],[5,4,6,4]]}
[{"$f":"LOWER(CONCATENATE(Participantes!B1,\" \",Participantes!B2))","v":"fase previa mundial masculino"},"Control de Impresión"]
[null,"Cuaderno FF.AA."]
[null,"Sorteo"]
[null,"Sábado Mañana","Primera Partida","Suizo 32"]
[null,null,"Segunda Partida","Suizo 32"]
[null,null,"Tercera Partida","Suizo 32"]
[null,null,"Cuarta Partida","Suizo 32"]
[null,"Sábado Tarde","Quinta Partida","Suizo 32"]
[null,null,"Sexta Partida","Suizo 16"]
[null,null,"Sextima Partida","Suizo 16"]
[null,null,"Octava Partida","Suizo 16"]
[null,"Domingo Mañana","Novena Partida","KO 8"]
[null,null,"Decina Partida","Semifinal y final"]
[null,"Informe"]

{"sheet":"Participantes","index":1,"n_rows":38,"n_cols":7,"rows_kept":38,"cut":false,"hidden":false,"merged":[[0,1,0,3],[1,1,1,3],[3,1,3,3]]}
[null,"FASE PREVIA MUNDIAL"]
[null,"MASCULINO"]
[]
[null,"PARTICIPACIÓN ORDEN ALFABÉTICO"]
[]
[null,"Nº","Deportista","Federación"]
[null,null,null,null,{"$f":"C7&\" (\"&VLOOKUP(D7,Federaciones,2,0)&\")\"","v":{"$error":"#N/A"}},{"$f":"C7","v":0},13]
[null,null,null,null,{"$error":"#N/A"},{"$f":"C8","v":0},12]
[null,null,null,null,{"$error":"#N/A"},0,11]
[null,null,null,null,{"$error":"#N/A"},0,10]
[null,null,null,null,{"$error":"#N/A"},0,9]
[null,null,null,null,{"$error":"#N/A"},0,8]
[null,null,null,null,{"$error":"#N/A"},0,7]
[null,null,null,null,{"$error":"#N/A"},0,6]
[null,null,null,null,{"$error":"#N/A"},0,5]
[null,null,null,null,{"$error":"#N/A"},0,4]
[null,null,null,null,{"$error":"#N/A"},0,3]
[null,null,null,null,{"$error":"#N/A"},0,2]
[null,null,null,null,{"$error":"#N/A"},0,1]
[null,null,null,null,{"$error":"#N/A"},0,0]
[null,null,null,null,{"$error":"#N/A"},0]
[null,null,null,null,{"$error":"#N/A"},0]
[null,null,null,null,{"$error":"#N/A"},0]
[null,null,null,null,{"$error":"#N/A"},0]
[null,null,null,null,{"$error":"#N/A"},0]
[null,null,null,null,{"$error":"#N/A"},0]
[null,null,null,null,{"$error":"#N/A"},0]
[null,null,null,null,{"$error":"#N/A"},0]
[null,null,null,null,{"$error":"#N/A"},0]
[null,null,null,null,{"$error":"#N/A"},0]
[null,null,null,null,{"$error":"#N/A"},0]
[null,null,null,null,{"$error":"#N/A"},0]
[null,null,null,null,{"$error":"#N/A"},0]
[null,null,null,null,{"$error":"#N/A"},0]
[null,null,null,null,{"$error":"#N/A"},0]
[null,null,null,null,{"$error":"#N/A"},0]
[null,null,null,null,{"$error":"#N/A"},0]
[null,null,null,null,{"$error":"#N/A"},0]

{"sheet":"Sorteo","index":2,"n_rows":48,"n_cols":4,"rows_kept":48,"cut":false,"hidden":false,"merged":[[48,1,48,2],[54,1,54,2],[16,1,16,3],[27,1,27,3],[38,1,38,3],[0,1,0,3],[1,1,1,3],[3,1,3,3],[4,1,4,3],[5,1,5,3]]}
[null,{"$f":"Participantes!B1","v":"FASE PREVIA MUNDIAL"}]
[null,{"$f":"Participantes!B2","v":"MASCULINO"}]
[]
[]
[]
[null,"GRUPO 1"]
[null,"Número",{"$f":"Participantes!$C$6","v":"Deportista"},{"$f":"Participantes!$D$6","v":"Federación"}]
[null,11,{"$f":"IFERROR(VLOOKUP(B8,Equipos,2,0),\"\")","v":""},{"$f":"IFERROR(VLOOKUP(B8,Equipos,3,0),\"\")","v":""}]
[null,12,"",""]
[null,13,"",""]
[null,14,"",""]
[null,15,"",""]
[null,16,"",""]
[null,17,"",""]
[null,18,"",""]
[]
[null,"GRUPO 2"]
[null,"Número",{"$f":"Participantes!$C$6","v":"Deportista"},{"$f":"Participantes!$D$6","v":"Federación"}]
[null,21,{"$f":"IFERROR(VLOOKUP(B19,Equipos,2,0),\"\")","v":""},{"$f":"IFERROR(VLOOKUP(B19,Equipos,3,0),\"\")","v":""}]
[null,22,"",""]
[null,23,"",""]
[null,24,"",""]
[null,25,"",""]
[null,26,"",""]
[null,27,"",""]
[null,28,"",""]
[]
[null,"GRUPO 3"]
[null,"Número",{"$f":"Participantes!$C$6","v":"Deportista"},{"$f":"Participantes!$D$6","v":"Federación"}]
[null,31,{"$f":"IFERROR(VLOOKUP(B30,Equipos,2,0),\"\")","v":""},{"$f":"IFERROR(VLOOKUP(B30,Equipos,3,0),\"\")","v":""}]
[null,32,"",""]
[null,33,"",""]
[null,34,"",""]
[null,35,"",""]
[null,36,"",""]
[null,37,"",""]
[null,38,"",""]
[]
[null,"GRUPO 4"]
[null,"Número",{"$f":"Participantes!$C$6","v":"Deportista"},{"$f":"Participantes!$D$6","v":"Federación"}]
[null,41,{"$f":"IFERROR(VLOOKUP(B41,Equipos,2,0),\"\")","v":""},{"$f":"IFERROR(VLOOKUP(B41,Equipos,3,0),\"\")","v":""}]
[null,42,"",""]
[null,43,"",""]
[null,44,"",""]
[null,45,"",""]
[null,46,"",""]
[null,47,"",""]
[null,48,"",""]

{"sheet":"Suizo32","index":3,"n_rows":152,"n_cols":28,"rows_kept":152,"cut":false,"hidden":false,"merged":[[103,1,103,8],[123,1,123,8],[128,1,128,8],[151,2,151,3],[69,2,69,4],[106,2,106,4],[143,2,143,4],[139,2,139,3],[141,2,141,3],[129,2,129,3],[130,2,130,3],[131,2,131,3],[132,2,132,3],[134,2,134,3],[81,1,81,8],[87,2,87,3],[88,2,88,3],[89,2,89,3],[90,2,90,3],[95,2,95,3],[97,2,97,3],[98,2,98,3],[146,2,146,3],[147,2,147,3],[12,1,12,8],[17,1,17,8],[22,1,22,8],[26,1,26,8],[29,1,29,8],[49,1,49,8],[54,1,54,8],[59,1,59,8],[63,1,63,8],[62,2,62,3],[44,1,44,8],[50,2,50,3],[51,2,51,3],[52,2,52,3],[53,2,53,3],[38,2,38,3],[39,2,39,3],[40,2,40,3],[32,2,32,4],[43,2,43,3],[33,2,33,3],[34,2,34,3],[35,2,35,3],[36,2,36,3],[148,2,148,3],[149,2,149,3],[150,2,150,3],[112,2,112,3],[113,2,113,3],[114,2,114,3],[144,2,144,3],[145,2,145,3],[133,1,133,8],[137,1,137,8],[140,1,140,8],[135,2,135,3],[136,2,136,3],[138,2,138,3],[18,2,18,3],[64,2,64,3],[65,2,65,3],[67,2,67,3],[80,2,80,3],[70,2,70,3],[71,2,71,3],[72,2,72,3],[73,2,73,3],[74,2,74,3],[75,2,75,3],[76,2,76,3],[77,2,77,3],[79,1,79,7],[80,6,80,7],[66,1,66,8],[55,2,55,3],[56,2,56,3],[57,2,57,3],[58,2,58,3],[60,2,60,3],[61,2,61,3],[0,1,0,7],[1,1,1,7],[3,1,3,7],[5,1,5,7],[6,6,6,7],[4,2,4,6],[42,1,42,7],[43,6,43,7],[19,2,19,3],[20,2,20,3],[21,2,21,3],[23,2,23,3],[24,2,24,3],[25,2,25,3],[37,2,37,3],[27,2,27,3],[28,2,28,3],[30,2,30,3],[6,2,6,3],[7,1,7,8],[13,2,13,3],[14,2,14,3],[15,2,15,3],[16,2,16,3],[92,2,92,3],[93,2,93,3],[94,2,94,3],[86,1,86,8],[91,1,91,8],[125,2,125,3],[126,2,126,3],[127,2,127,3],[99,2,99,3],[101,2,101,3],[102,2,102,3],[104,2,104,3],[116,1,116,7],[117,6,117,7],[117,2,117,3],[118,1,118,8],[124,2,124,3],[107,2,107,3],[108,2,108,3],[109,2,109,3],[110,2,110,3],[111,2,111,3],[96,1,96,8],[100,1,100,8]]}
[null,{"$f":"Participantes!B1","v":"FASE PREVIA MUNDIAL"},null,null,null,null,null,null,null,null,null,null,null,null,null,null,null,null,null,null,null,null,null,null,1,2,3,4]
[null,{"$f":"Participantes!B2","v":"MASCULINO"}]
[]
[null,"1/16  de Final"]
[]
[null,"GRUPO 1",null,null,null,null,null,null,null,null,{"$f":"E9","v":""},{"$f":"G9","v":0},{"$f":"H9","v":0},{"$f":"IF(L6=\"\",0,SUM(IF(L6>M6,1,-1)))","v":-1}]
[null,"Pista","Número",null,{"$f":"Participantes!$C$6&\" 1\"","v":"Deportista 1"},{"$f":"Participantes!$C$6&\" 2\"","v":"Deportista 2"},"Resultado",null,"Pase",null,{"$f":"F9","v":""},{"$f":"H9","v":0},{"$f":"G9","v":0},{"$f":"IF(L7=\"\",0,SUM(IF(L7>M7,1,-1)))","v":-1}]
[null,"Primera partida",null,null,null,null,null,null,null,null,{"$f":"E10","v":""},{"$f":"G10","v":0},{"$f":"H10","v":0},-1]
[null,1,11,12,{"$f":"IFERROR(VLOOKUP(C9,Equipos,4,0),\"\")","v":""},{"$f":"IFERROR(VLOOKUP(D9,Equipos,4,0),\"\")","v":""},null,null,"A",null,{"$f":"F10","v":""},{"$f":"H10","v":0},{"$f":"G10","v":0},-1]
[null,2,13,14,"","",null,null,"B",null,{"$f":"E11","v":""},{"$f":"G11","v":0},{"$f":"H11","v":0},-1]
[null,null,15,16,"","",null,null,"C",null,{"$f":"F11","v":""},{"$f":"H11","v":0},{"$f":"G11","v":0},-1]
[null,null,17,18,"","",null,null,"D",null,{"$f":"E12","v":""},{"$f":"G12","v":0},{"$f":"H12","v":0},-1]
[null,"Segunda partida",null,null,null,null,null,null,null,null,{"$f":"F12","v":""},{"$f":"H12","v":0},{"$f":"G12","v":0},-1]
[null,null,"Ganadores A-B",null,{"$f":"IF(OR(G9=\"\",H9=\"\",G9=H9),\"\",IF(G9>H9,E9,F9))","v":""},{"$f":"IF(OR(G10=\"\",H10=\"\",G10=H10),\"\",IF(G10>H10,E10,F10))","v":""},null,null,"E",null,{"$f":"E14","v":""},{"$f":"G14","v":0},{"$f":"H14","v":0},-1]
[null,null,"Ganadores C-D",null,{"$f":"IF(OR(G11=\"\",H11=\"\",G11=H11),\"\",IF(G11>H11,E11,F11))","v":""},{"$f":"IF(OR(G12=\"\",H12=\"\",G12=H12),\"\",IF(G12>H12,E12,F12))","v":""},null,null,"F",null,{"$f":"F14","v":""},{"$f":"H14","v":0},{"$f":"G14","v":0},-1]
[null,null,"Perdedores A-B",null,{"$f":"IF(OR(G9=\"\",H9=\"\",G9=H9),\"\",IF(G9<H9,E9,F9))","v":""},{"$f":"IF(OR(G10=\"\",H10=\"\",G10=H10),\"\",IF(G10<H10,E10,F10))","v":""},null,null,"G",null,{"$f":"E15","v":""},{"$f":"G15","v":0},{"$f":"H15","v":0},-1]
[null,null,"Perdedores C-D",null,{"$f":"IF(OR(G11=\"\",H11=\"\",G11=H11),\"\",IF(G11<H11,E11,F11))","v":""},{"$f":"IF(OR(G12=\"\",H12=\"\",G12=H12),\"\",IF(G12<H12,E12,F12))","v":""},null,null,"H",null,{"$f":"F15","v":""},{"$f":"H15","v":0},{"$f":"G15","v":0},-1]
[null,"Tercera partida",null,null,null,null,null,null,null,null,{"$f":"E16","v":""},{"$f":"G16","v":0},{"$f":"H16","v":0},-1]
[null,null,"Ganadores E-F",null,{"$f":"IF(OR(G14=\"\",H14=\"\",G14=H14),\"\",IF(G14>H14,E14,F14))","v":""},{"$f":"IF(OR(G15=\"\",H15=\"\",G15=H15),\"\",IF(G15>H15,E15,F15))","v":""},null,null,"I",null,{"$f":"F16","v":""},{"$f":"H16","v":0},{"$f":"G16","v":0},-1]
[null,null,"Gan G - Per F",null,{"$f":"IF(OR(G16=\"\",H16=\"\",G16=H16),\"\",IF(G16>H16,E16,F16))","v":""},{"$f":"IF(OR(G15=\"\",H15=\"\",G15=H15),\"\",IF(G15<H15,E15,F15))","v":""},null,null,"J",null,{"$f":"E17","v":""},{"$f":"G17","v":0},{"$f":"H17","v":0},-1]
[null,null,"Gan H - Per E",null,{"$f":"IF(OR(G17=\"\",H17=\"\",G17=H17),\"\",IF(G17>H17,E17,F17))","v":""},{"$f":"IF(OR(G14=\"\",H14=\"\",G14=H14),\"\",IF(G14<H14,E14,F14))","v":""},null,null,"K",null,{"$f":"F17","v":""},{"$f":"H17","v":0},{"$f":"G17","v":0},-1]
[null,null,"Perdedores G-H",null,{"$f":"IF(OR(G16=\"\",H16=\"\",G16=H16),\"\",IF(G16<H16,E16,F16))","v":""},{"$f":"IF(OR(G17=\"\",H17=\"\",G17=H17),\"\",IF(G17<H17,E17,F17))","v":""},null,null,"L",null,{"$f":"E19","v":""},{"$f":"G19","v":0},{"$f":"H19","v":0},-1]
[null,"Cuarta partida",null,null,null,null,null,null,null,null,{"$f":"F19","v":""},{"$f":"H19","v":0},{"$f":"G19","v":0},-1]
[null,null,"Ganadores J-K",null,{"$f":"IF(OR(G20=\"\",H20=\"\",G20=H20),\"\",IF(G20>H20,E20,F20))","v":""},{"$f":"IF(OR(G21=\"\",H21=\"\",G21=H21),\"\",IF(G21>H21,E21,F21))","v":""},null,null,"M",null,{"$f":"E20","v":""},{"$f":"G20","v":0},{"$f":"H20","v":0},-1]
[null,null,"Per I - Gan L",null,{"$f":"IF(OR(G19=\"\",H19=\"\",G19=H19),\"\",IF(G19<H19,E19,F19))","v":""},{"$f":"IF(OR(G22=\"\",H22=\"\",G22=H22),\"\",IF(G22>H22,E22,F22))","v":""},null,null,"N",null,{"$f":"F20","v":""},{"$f":"H20","v":0},{"$f":"G20","v":0},-1]
[null,null,"Perdedores J-K",null,{"$f":"IF(OR(G20=\"\",H20=\"\",G20=H20),\"\",IF(G20<H20,E20,F20))","v":""},{"$f":"IF(OR(G21=\"\",H21=\"\",G21=H21),\"\",IF(G21<H21,E21,F21))","v":""},null,null,"O",null,{"$f":"E21","v":""},{"$f":"G21","v":0},{"$f":"H21","v":0},-1]
[null,"Quinta partida Caso A (Per I pierde con Gan L)",null,null,null,null,null,null,null,null,{"$f":"F21","v":""},{"$f":"H21","v":0},{"$f":"G21","v":0},-1]
[null,null,"Gan N - Per M",null,{"$f":"IF(OR(G25=\"\",H25=\"\",G25=H25),\"\",IF(G25<H25,F25,\"\"))","v":""},{"$f":"IF(OR(G25=\"\",H25=\"\",G24=\"\",H24=\"\",G24=H24,G25=H25),\"\",IF(G25>H25,\"\",IF(G24<H24,E24,F24)))","v":""},null,null,null,null,{"$f":"E22","v":""},{"$f":"G22","v":0},{"$f":"H22","v":0},-1]
[null,null,"Gan O - Per N",null,{"$f":"IF(OR(G25=\"\",H25=\"\",G26=\"\",H26=\"\",G25=H25,G26=H26),\"\",IF(G25>H25,\"\",IF(G26>H26,E26,F26)))","v":""},{"$f":"IF(OR(G25=\"\",H25=\"\",G25=H25),\"\",IF(G25<H25,E25,\"\"))","v":""},null,null,null,null,{"$f":"F22","v":""},{"$f":"H22","v":0},{"$f":"G22","v":0},-1]
[null,"Quinta partida Caso B (Per I Gana a Gan L)",null,null,null,null,null,null,null,null,{"$f":"E24","v":""},{"$f":"G24","v":0},{"$f":"H24","v":0},-1]
[null,null,"Gan O - Per M",null,{"$f":"IF(OR(G25=\"\",H25=\"\",G26=\"\",H26=\"\",G25=H25,G26=H26),\"\",IF(G25<H25,\"\",IF(G26>H26,E26,F26)))","v":""},{"$f":"IF(OR(G25=\"\",H25=\"\",G24=\"\",H24=\"\"),\"\",IF(G25<H25,\"\",IF(G24<H24,E24,F24)))","v":""},null,null,null,null,{"$f":"F24","v":""},{"$f":"H24","v":0},{"$f":"G24","v":0},-1]
[null,null,null,null,null,null,null,null,null,null,{"$f":"E25","v":""},{"$f":"G25","v":0},{"$f":"H25","v":0},-1]
[null,null,"Clasificación",null,null,"Ronda",null,"Pase",null,null,{"$f":"F25","v":""},{"$f":"H25","v":0},{"$f":"G25","v":0},-1]
[null,null,"Primero",null,{"$f":"IF(OR(G19=\"\",H19=\"\",G19=H19),\"\",IF(G19>H19,E19,F19))","v":""},"1/8 de Final",null,11,null,null,{"$f":"E26","v":""},{"$f":"G26","v":0},{"$f":"H26","v":0},-1,null,{"$f":"IF(R34=\"\",\"\",RANK(R34,$R$34:$R$41,0))","v":1},{"$f":"K6","v":""},{"$f":"IF(U34=0,ROUND(S34+(T34/100),5),ROUND(S34+((T34/U34)/100),5))+V34","v":-32.999991999999999},{"$f":"SUMIF($K$6:$K$41,$Q34,N$6:N$41)+3","v":-33},{"$f":"SUMIF($K$6:$K$41,$Q34,L$6:L$41)","v":0},{"$f":"SUMIF($K$6:$K$41,$Q34,M$6:M$41)","v":0},7.9999999999999996E-6,{"$f":"H34","v":11},{"$f":"E34","v":""}]
[null,null,"Segundo",null,{"$f":"IF(OR(G24=\"\",H24=\"\",G25=\"\",H25=\"\",G24=H24,G25=H25),\"\",VLOOKUP(2,P34:Q41,2,0))","v":""},"1/8 de Final",null,43,null,null,{"$f":"F26","v":""},{"$f":"H26","v":0},{"$f":"G26","v":0},-1,null,{"$f":"IF(R35=\"\",\"\",RANK(R35,$R$34:$R$41,0))","v":2},{"$f":"K7","v":""},{"$f":"IF(U35=0,ROUND(S35+(T35/100),5),ROUND(S35+((T35/U35)/100),5))+V35","v":-32.999993000000003},{"$f":"SUMIF($K$6:$K$41,$Q35,N$6:N$41)+3","v":-33},{"$f":"SUMIF($K$6:$K$41,$Q35,L$6:L$41)","v":0},{"$f":"SUMIF($K$6:$K$41,$Q35,M$6:M$41)","v":0},6.9999999999999999E-6,{"$f":"H35","v":43},{"$f":"E35","v":""}]
[null,null,"Tercero",null,{"$f":"IF(OR(G25=\"\",H25=\"\",G25=H25),\"\",IF(G25>H25,VLOOKUP(3,P34:Q41,2,0),IF(OR(G28=\"\",H28=\"\",G29=\"\",H29=\"\"),\"\",VLOOKUP(3,P34:Q41,2,0))))","v":""},"1/8 de Final",null,34,null,null,{"$f":"E28","v":""},{"$f":"G28","v":0},{"$f":"H28","v":0},-1,null,3,"",-32.999994000000001,-33,0,0,6.0000000000000002E-6,{"$f":"H36","v":34},{"$f":"E36","v":""}]
[null,null,"Cuarto",null,{"$f":"IF(OR(G28=\"\",H28=\"\",G29=\"\",H29=\"\",G28=H28,G29=H29)*OR(G31=\"\",H31=\"\"),\"\",VLOOKUP(4,P34:Q41,2,0))","v":""},"1/8 de Final",null,22,null,null,{"$f":"F28","v":""},{"$f":"H28","v":0},{"$f":"G28","v":0},-1,null,4,"",-32.999994999999998,-33,0,0,5.0000000000000004E-6,{"$f":"H37","v":22},{"$f":"E37","v":""}]
[null,null,"Quinto",null,{"$f":"IF(OR(G28=\"\",H28=\"\",G29=\"\",H29=\"\",G28=H28,G29=H29)*OR(G31=\"\",H31=\"\"),\"\",VLOOKUP(5,P34:Q41,2,0))","v":""},"17º Puesto ex aequo",null,null,null,null,{"$f":"E29","v":""},{"$f":"G29","v":0},{"$f":"H29","v":0},-1,null,5,"",-32.999996000000003,-33,0,0,3.9999999999999998E-6]
[null,null,"Sexto",null,{"$f":"IF(OR(G25=\"\",H25=\"\",G25=H25),\"\",IF(G25>H25,VLOOKUP(6,P34:Q41,2,0),IF(OR(G28=\"\",H28=\"\",G29=\"\",H29=\"\"),\"\",VLOOKUP(6,P34:Q41,2,0))))","v":""},"21º Puesto ex aequo",null,null,null,null,{"$f":"F29","v":""},{"$f":"H29","v":0},{"$f":"G29","v":0},-1,null,6,"",-32.999997,-33,0,0,3.0000000000000001E-6]
[null,null,"Septimo",null,{"$f":"IF(OR(G24=\"\",H24=\"\",G25=\"\",H25=\"\",G24=H24,G25=H25),\"\",VLOOKUP(7,P34:Q41,2,0))","v":""},"25º Puesto ex aequo",null,null,null,null,{"$f":"E31","v":""},{"$f":"G31","v":0},{"$f":"H31","v":0},-1,null,7,"",-32.999997999999998,-33,0,0,1.9999999999999999E-6]
[null,null,"Octavo",null,{"$f":"IF(OR(G22=\"\",H22=\"\",G22=H22),\"\",IF(G22<H22,E22,F22))","v":""},"29º Puesto ex aequo",null,null,null,null,{"$f":"F31","v":""},{"$f":"H31","v":0},{"$f":"G31","v":0},-1,null,8,"",-32.999999000000003,-33,{"$f":"SUMIF($K$6:$K$41,$Q41,L$6:L$41)","v":0},0,9.9999999999999995E-7]
[]
[null,"GRUPO 2",null,null,null,null,null,null,null,null,{"$f":"E46","v":""},{"$f":"G46","v":0},{"$f":"H46","v":0},{"$f":"IF(L43=\"\",0,SUM(IF(L43>M43,1,-1)))","v":-1}]
[null,"Pista",null,"Jugador",{"$f":"Participantes!$C$6&\" 1\"","v":"Deportista 1"},{"$f":"Participantes!$C$6&\" 2\"","v":"Deportista 2"},"Resultado",null,"Pase",null,{"$f":"F46","v":""},{"$f":"H46","v":0},{"$f":"G46","v":0},{"$f":"IF(L44=\"\",0,SUM(IF(L44>M44,1,-1)))","v":-1}]
[null,"Primera partida",null,null,null,null,null,null,null,null,{"$f":"E47","v":""},{"$f":"G47","v":0},{"$f":"H47","v":0},-1]
[null,null,21,22,{"$f":"IFERROR(VLOOKUP(C46,Equipos,4,0),\"\")","v":""},"",null,null,"A",null,{"$f":"F47","v":""},{"$f":"H47","v":0},{"$f":"G47","v":0},-1]
[null,null,23,24,"","",null,null,"B",null,{"$f":"E48","v":""},{"$f":"G48","v":0},{"$f":"H48","v":0},-1]
[null,null,25,26,"","",null,null,"C",null,{"$f":"F48","v":""},{"$f":"H48","v":0},{"$f":"G48","v":0},-1]
[null,null,27,28,"","",null,null,"D",null,{"$f":"E49","v":""},{"$f":"G49","v":0},{"$f":"H49","v":0},-1]
[null,"Segunda partida",null,null,null,null,null,null,null,null,{"$f":"F49","v":""},{"$f":"H49","v":0},{"$f":"G49","v":0},-1]
[null,null,"Ganadores A-B",null,{"$f":"IF(OR(G46=\"\",H46=\"\",G46=H46),\"\",IF(G46>H46,E46,F46))","v":""},{"$f":"IF(OR(G47=\"\",H47=\"\",G47=H47),\"\",IF(G47>H47,E47,F47))","v":""},null,null,"E",null,{"$f":"E51","v":""},{"$f":"G51","v":0},{"$f":"H51","v":0},-1]
[null,null,"Ganadores C-D",null,{"$f":"IF(OR(G48=\"\",H48=\"\",G48=H48),\"\",IF(G48>H48,E48,F48))","v":""},{"$f":"IF(OR(G49=\"\",H49=\"\",G49=H49),\"\",IF(G49>H49,E49,F49))","v":""},null,null,"F",null,{"$f":"F51","v":""},{"$f":"H51","v":0},{"$f":"G51","v":0},-1]
[null,null,"Perdedores A-B",null,{"$f":"IF(OR(G46=\"\",H46=\"\",G46=H46),\"\",IF(G46<H46,E46,F46))","v":""},{"$f":"IF(OR(G47=\"\",H47=\"\",G47=H47),\"\",IF(G47<H47,E47,F47))","v":""},null,null,"G",null,{"$f":"E52","v":""},{"$f":"G52","v":0},{"$f":"H52","v":0},-1]
[null,null,"Perdedores C-D",null,{"$f":"IF(OR(G48=\"\",H48=\"\",G48=H48),\"\",IF(G48<H48,E48,F48))","v":""},{"$f":"IF(OR(G49=\"\",H49=\"\",G49=H49),\"\",IF(G49<H49,E49,F49))","v":""},null,null,"H",null,{"$f":"F52","v":""},{"$f":"H52","v":0},{"$f":"G52","v":0},-1]
[null,"Tercera partida",null,null,null,null,null,null,null,null,{"$f":"E53","v":""},{"$f":"G53","v":0},{"$f":"H53","v":0},-1]
[null,null,"Ganadores E-F",null,{"$f":"IF(OR(G51=\"\",H51=\"\",G51=H51),\"\",IF(G51>H51,E51,F51))","v":""},{"$f":"IF(OR(G52=\"\",H52=\"\",G52=H52),\"\",IF(G52>H52,E52,F52))","v":""},null,null,"I",null,{"$f":"F53","v":""},{"$f":"H53","v":0},{"$f":"G53","v":0},-1]
[null,null,"Gan G - Per F",null,{"$f":"IF(OR(G53=\"\",H53=\"\",G53=H53),\"\",IF(G53>H53,E53,F53))","v":""},{"$f":"IF(OR(G52=\"\",H52=\"\",G52=H52),\"\",IF(G52<H52,E52,F52))","v":""},null,null,"J",null,{"$f":"E54","v":""},{"$f":"G54","v":0},{"$f":"H54","v":0},-1]
[null,null,"Gan H - Per E",null,{"$f":"IF(OR(G54=\"\",H54=\"\",G54=H54),\"\",IF(G54>H54,E54,F54))","v":""},{"$f":"IF(OR(G51=\"\",H51=\"\",G51=H51),\"\",IF(G51<H51,E51,F51))","v":""},null,null,"K",null,{"$f":"F54","v":""},{"$f":"H54","v":0},{"$f":"G54","v":0},-1]
[null,null,"Perdedores G-H",null,{"$f":"IF(OR(G53=\"\",H53=\"\",G53=H53),\"\",IF(G53<H53,E53,F53))","v":""},{"$f":"IF(OR(G54=\"\",H54=\"\",G54=H54),\"\",IF(G54<H54,E54,F54))","v":""},null,null,"L",null,{"$f":"E56","v":""},{"$f":"G56","v":0},{"$f":"H56","v":0},-1]
[null,"Cuarta partida",null,null,null,null,null,null,null,null,{"$f":"F56","v":""},{"$f":"H56","v":0},{"$f":"G56","v":0},-1]
[null,null,"Ganadores J-K",null,{"$f":"IF(OR(G57=\"\",H57=\"\",G57=H57),\"\",IF(G57>H57,E57,F57))","v":""},{"$f":"IF(OR(G58=\"\",H58=\"\",G58=H58),\"\",IF(G58>H58,E58,F58))","v":""},null,null,"M",null,{"$f":"E57","v":""},{"$f":"G57","v":0},{"$f":"H57","v":0},-1]
[null,null,"Per I - Gan L",null,{"$f":"IF(OR(G56=\"\",H56=\"\",G56=H56),\"\",IF(G56<H56,E56,F56))","v":""},{"$f":"IF(OR(G59=\"\",H59=\"\",G59=H59),\"\",IF(G59>H59,E59,F59))","v":""},null,null,"N",null,{"$f":"F57","v":""},{"$f":"H57","v":0},{"$f":"G57","v":0},-1]
[null,null,"Perdedores J-K",null,{"$f":"IF(OR(G57=\"\",H57=\"\",G57=H57),\"\",IF(G57<H57,E57,F57))","v":""},{"$f":"IF(OR(G58=\"\",H58=\"\",G58=H58),\"\",IF(G58<H58,E58,F58))","v":""},null,null,"O",null,{"$f":"E58","v":""},{"$f":"G58","v":0},{"$f":"H58","v":0},-1]
[null,"Quinta partida Caso A (Per I pierde con Gan L)",null,null,null,null,null,null,null,null,{"$f":"F58","v":""},{"$f":"H58","v":0},{"$f":"G58","v":0},-1]
[null,null,"Gan N - Per M",null,{"$f":"IF(OR(G62=\"\",H62=\"\",G62=H62),\"\",IF(G62<H62,F62,\"\"))","v":""},{"$f":"IF(OR(G62=\"\",H62=\"\",G61=\"\",H61=\"\",G61=H61,G62=H62),\"\",IF(G62>H62,\"\",IF(G61<H61,E61,F61)))","v":""},null,null,null,null,{"$f":"E59","v":""},{"$f":"G59","v":0},{"$f":"H59","v":0},-1]
[null,null,"Gan O - Per N",null,{"$f":"IF(OR(G62=\"\",H62=\"\",G63=\"\",H63=\"\",G62=H62,G63=H63),\"\",IF(G62>H62,\"\",IF(G63>H63,E63,F63)))","v":""},{"$f":"IF(OR(G62=\"\",H62=\"\",G62=H62),\"\",IF(G62<H62,E62,\"\"))","v":""},null,null,null,null,{"$f":"F59","v":""},{"$f":"H59","v":0},{"$f":"G59","v":0},-1]
[null,"Quinta partida Caso B (Per I Gana a Gan L)",null,null,null,null,null,null,null,null,{"$f":"E61","v":""},{"$f":"G61","v":0},{"$f":"H61","v":0},-1]
[null,null,"Gan O - Per M",null,{"$f":"IF(OR(G62=\"\",H62=\"\",G63=\"\",H63=\"\",G62=H62,G63=H63),\"\",IF(G62<H62,\"\",IF(G63>H63,E63,F63)))","v":""},{"$f":"IF(OR(G62=\"\",H62=\"\",G61=\"\",H61=\"\"),\"\",IF(G62<H62,\"\",IF(G61<H61,E61,F61)))","v":""},null,null,null,null,{"$f":"F61","v":""},{"$f":"H61","v":0},{"$f":"G61","v":0},-1]
[null,null,null,null,null,null,null,null,null,null,{"$f":"E62","v":""},{"$f":"G62","v":0},{"$f":"H62","v":0},-1]
[null,null,"Clasificación",null,null,"Ronda",null,"Pase",null,null,{"$f":"F62","v":""},{"$f":"H62","v":0},{"$f":"G62","v":0},-1]
[null,null,"Primero",null,{"$f":"IF(OR(G56=\"\",H56=\"\",G56=H56),\"\",IF(G56>H56,E56,F56))","v":""},"1/8 de Final",null,21,null,null,{"$f":"E63","v":""},{"$f":"G63","v":0},{"$f":"H63","v":0},-1,null,{"$f":"IF(R71=\"\",\"\",RANK(R71,$R$71:$R$78,0))","v":1},{"$f":"K43","v":""},{"$f":"IF(U71=0,ROUND(S71+(T71/100),5),ROUND(S71+((T71/U71)/100),5))+V71","v":-32.999991999999999},{"$f":"SUMIF($K$43:$K$78,$Q71,N$43:N$78)+3","v":-33},{"$f":"SUMIF($K$43:$K$78,$Q71,L$43:L$78)","v":0},{"$f":"SUMIF($K$43:$K$78,$Q71,M$43:M$78)","v":0},7.9999999999999996E-6,{"$f":"H71","v":21},{"$f":"E71","v":""}]
[null,null,"Segundo",null,{"$f":"IF(OR(G61=\"\",H61=\"\",G62=\"\",H62=\"\",G61=H61,G62=H62),\"\",VLOOKUP(2,P71:Q78,2,0))","v":""},"1/8 de Final",null,13,null,null,{"$f":"F63","v":""},{"$f":"H63","v":0},{"$f":"G63","v":0},-1,null,{"$f":"IF(R72=\"\",\"\",RANK(R72,$R$71:$R$78,0))","v":2},{"$f":"K44","v":""},{"$f":"IF(U72=0,ROUND(S72+(T72/100),5),ROUND(S72+((T72/U72)/100),5))+V72","v":-32.999993000000003},{"$f":"SUMIF($K$43:$K$78,$Q72,N$43:N$78)+3","v":-33},{"$f":"SUMIF($K$43:$K$78,$Q72,L$43:L$78)","v":0},{"$f":"SUMIF($K$43:$K$78,$Q72,M$43:M$78)","v":0},6.9999999999999999E-6,{"$f":"H72","v":13},{"$f":"E72","v":""}]
[null,null,"Tercero",null,{"$f":"IF(OR(G62=\"\",H62=\"\",G62=H62),\"\",IF(G62>H62,VLOOKUP(3,P71:Q78,2,0),IF(OR(G65=\"\",H65=\"\",G66=\"\",H66=\"\"),\"\",VLOOKUP(3,P71:Q78,2,0))))","v":""},"1/8 de Final",null,44,null,null,{"$f":"E65","v":""},{"$f":"G65","v":0},{"$f":"H65","v":0},-1,null,3,"",-32.999994000000001,-33,0,0,6.0000000000000002E-6,{"$f":"H73","v":44},{"$f":"E73","v":""}]
[null,null,"Cuarto",null,{"$f":"IF(OR(G65=\"\",H65=\"\",G66=\"\",H66=\"\",G65=H65,G66=H66)*OR(G68=\"\",H68=\"\"),\"\",VLOOKUP(4,P71:Q78,2,0))","v":""},"1/8 de Final",null,32,null,null,{"$f":"F65","v":""},{"$f":"H65","v":0},{"$f":"G65","v":0},-1,null,4,"",-32.999994999999998,-33,0,0,5.0000000000000004E-6,{"$f":"H74","v":32},{"$f":"E74","v":""}]
[null,null,"Quinto",null,{"$f":"IF(OR(G65=\"\",H65=\"\",G66=\"\",H66=\"\",G65=H65,G66=H66)*OR(G68=\"\",H68=\"\"),\"\",VLOOKUP(5,P71:Q78,2,0))","v":""},"17º Puesto ex aequo",null,null,null,null,{"$f":"E66","v":""},{"$f":"G66","v":0},{"$f":"H66","v":0},-1,null,5,"",-32.999996000000003,-33,0,0,3.9999999999999998E-6]
[null,null,"Sexto",null,{"$f":"IF(OR(G62=\"\",H62=\"\",G62=H62),\"\",IF(G62>H62,VLOOKUP(6,P71:Q78,2,0),IF(OR(G65=\"\",H65=\"\",G66=\"\",H66=\"\"),\"\",VLOOKUP(6,P71:Q78,2,0))))","v":""},"21º Puesto ex aequo",null,null,null,null,{"$f":"F66","v":""},{"$f":"H66","v":0},{"$f":"G66","v":0},-1,null,6,"",-32.999997,-33,0,0,3.0000000000000001E-6]
[null,null,"Septimo",null,{"$f":"IF(OR(G61=\"\",H61=\"\",G62=\"\",H62=\"\",G61=H61,G62=H62),\"\",VLOOKUP(7,P71:Q78,2,0))","v":""},"25º Puesto ex aequo",null,null,null,null,{"$f":"E68","v":""},{"$f":"G68","v":0},{"$f":"H68","v":0},-1,null,7,"",-32.999997999999998,-33,0,0,1.9999999999999999E-6]
[null,null,"Octavo",null,{"$f":"IF(OR(G59=\"\",H59=\"\",G59=H59),\"\",IF(G59<H59,E59,F59))","v":""},"29º Puesto ex aequo",null,null,null,null,{"$f":"F68","v":""},{"$f":"H68","v":0},{"$f":"G68","v":0},-1,null,8,"",-32.999999000000003,-33,0,0,9.9999999999999995E-7]
[]
[null,"GRUPO 3",null,null,null,null,null,null,null,null,{"$f":"E83","v":""},{"$f":"G83","v":0},{"$f":"H83","v":0},{"$f":"IF(L80=\"\",0,SUM(IF(L80>M80,1,-1)))","v":-1}]
[null,"Pista",null,"Jugador",{"$f":"Participantes!$C$6&\" 1\"","v":"Deportista 1"},{"$f":"Participantes!$C$6&\" 2\"","v":"Deportista 2"},"Resultado",null,"Pase",null,{"$f":"F83","v":""},{"$f":"H83","v":0},{"$f":"G83","v":0},{"$f":"IF(L81=\"\",0,SUM(IF(L81>M81,1,-1)))","v":-1}]
[null,"Primera partida",null,null,null,null,null,null,null,null,{"$f":"E84","v":""},{"$f":"G84","v":0},{"$f":"H84","v":0},-1]
[null,null,31,32,{"$f":"IFERROR(VLOOKUP(C83,Equipos,4,0),\"\")","v":""},"",null,null,"A",null,{"$f":"F84","v":""},{"$f":"H84","v":0},{"$f":"G84","v":0},-1]
[null,null,33,34,"","",null,null,"B",null,{"$f":"E85","v":""},{"$f":"G85","v":0},{"$f":"H85","v":0},-1]
[null,null,35,36,"","",null,null,"C",null,{"$f":"F85","v":""},{"$f":"H85","v":0},{"$f":"G85","v":0},-1]
[null,null,37,38,"","",null,null,"D",null,{"$f":"E86","v":""},{"$f":"G86","v":0},{"$f":"H86","v":0},-1]
[null,"Segunda partida",null,null,null,null,null,null,null,null,{"$f":"F86","v":""},{"$f":"H86","v":0},{"$f":"G86","v":0},-1]
[null,null,"Ganadores A-B",null,{"$f":"IF(OR(G83=\"\",H83=\"\",G83=H83),\"\",IF(G83>H83,E83,F83))","v":""},{"$f":"IF(OR(G84=\"\",H84=\"\",G84=H84),\"\",IF(G84>H84,E84,F84))","v":""},null,null,"E",null,{"$f":"E88","v":""},{"$f":"G88","v":0},{"$f":"H88","v":0},-1]
[null,null,"Ganadores C-D",null,{"$f":"IF(OR(G85=\"\",H85=\"\",G85=H85),\"\",IF(G85>H85,E85,F85))","v":""},{"$f":"IF(OR(G86=\"\",H86=\"\",G86=H86),\"\",IF(G86>H86,E86,F86))","v":""},null,null,"F",null,{"$f":"F88","v":""},{"$f":"H88","v":0},{"$f":"G88","v":0},-1]
[null,null,"Perdedores A-B",null,{"$f":"IF(OR(G83=\"\",H83=\"\",G83=H83),\"\",IF(G83<H83,E83,F83))","v":""},{"$f":"IF(OR(G84=\"\",H84=\"\",G84=H84),\"\",IF(G84<H84,E84,F84))","v":""},null,null,"G",null,{"$f":"E89","v":""},{"$f":"G89","v":0},{"$f":"H89","v":0},-1]
[null,null,"Perdedores C-D",null,{"$f":"IF(OR(G85=\"\",H85=\"\",G85=H85),\"\",IF(G85<H85,E85,F85))","v":""},{"$f":"IF(OR(G86=\"\",H86=\"\",G86=H86),\"\",IF(G86<H86,E86,F86))","v":""},null,null,"H",null,{"$f":"F89","v":""},{"$f":"H89","v":0},{"$f":"G89","v":0},-1]
[null,"Tercera partida",null,null,null,null,null,null,null,null,{"$f":"E90","v":""},{"$f":"G90","v":0},{"$f":"H90","v":0},-1]
[null,null,"Ganadores E-F",null,{"$f":"IF(OR(G88=\"\",H88=\"\",G88=H88),\"\",IF(G88>H88,E88,F88))","v":""},{"$f":"IF(OR(G89=\"\",H89=\"\",G89=H89),\"\",IF(G89>H89,E89,F89))","v":""},null,null,"I",null,{"$f":"F90","v":""},{"$f":"H90","v":0},{"$f":"G90","v":0},-1]
[null,null,"Gan G - Per F",null,{"$f":"IF(OR(G90=\"\",H90=\"\",G90=H90),\"\",IF(G90>H90,E90,F90))","v":""},{"$f":"IF(OR(G89=\"\",H89=\"\",G89=H89),\"\",IF(G89<H89,E89,F89))","v":""},null,null,"J",null,{"$f":"E91","v":""},{"$f":"G91","v":0},{"$f":"H91","v":0},-1]
[null,null,"Gan H - Per E",null,{"$f":"IF(OR(G91=\"\",H91=\"\",G91=H91),\"\",IF(G91>H91,E91,F91))","v":""},{"$f":"IF(OR(G88=\"\",H88=\"\",G88=H88),\"\",IF(G88<H88,E88,F88))","v":""},null,null,"K",null,{"$f":"F91","v":""},{"$f":"H91","v":0},{"$f":"G91","v":0},-1]
[null,null,"Perdedores G-H",null,{"$f":"IF(OR(G90=\"\",H90=\"\",G90=H90),\"\",IF(G90<H90,E90,F90))","v":""},{"$f":"IF(OR(G91=\"\",H91=\"\",G91=H91),\"\",IF(G91<H91,E91,F91))","v":""},null,null,"L",null,{"$f":"E93","v":""},{"$f":"G93","v":0},{"$f":"H93","v":0},-1]
[null,"Cuarta partida",null,null,null,null,null,null,null,null,{"$f":"F93","v":""},{"$f":"H93","v":0},{"$f":"G93","v":0},-1]
[null,null,"Ganadores J-K",null,{"$f":"IF(OR(G94=\"\",H94=\"\",G94=H94),\"\",IF(G94>H94,E94,F94))","v":""},{"$f":"IF(OR(G95=\"\",H95=\"\",G95=H95),\"\",IF(G95>H95,E95,F95))","v":""},null,null,"M",null,{"$f":"E94","v":""},{"$f":"G94","v":0},{"$f":"H94","v":0},-1]
[null,null,"Per I - Gan L",null,{"$f":"IF(OR(G93=\"\",H93=\"\",G93=H93),\"\",IF(G93<H93,E93,F93))","v":""},{"$f":"IF(OR(G96=\"\",H96=\"\",G96=H96),\"\",IF(G96>H96,E96,F96))","v":""},null,null,"N",null,{"$f":"F94","v":""},{"$f":"H94","v":0},{"$f":"G94","v":0},-1]
[null,null,"Perdedores J-K",null,{"$f":"IF(OR(G94=\"\",H94=\"\",G94=H94),\"\",IF(G94<H94,E94,F94))","v":""},{"$f":"IF(OR(G95=\"\",H95=\"\",G95=H95),\"\",IF(G95<H95,E95,F95))","v":""},null,null,"O",null,{"$f":"E95","v":""},{"$f":"G95","v":0},{"$f":"H95","v":0},-1]
[null,"Quinta partida Caso A (Per I pierde con Gan L)",null,null,null,null,null,null,null,null,{"$f":"F95","v":""},{"$f":"H95","v":0},{"$f":"G95","v":0},-1]
[null,null,"Gan N - Per M",null,{"$f":"IF(OR(G99=\"\",H99=\"\",G99=H99),\"\",IF(G99<H99,F99,\"\"))","v":""},{"$f":"IF(OR(G99=\"\",H99=\"\",G98=\"\",H98=\"\",G98=H98,G99=H99),\"\",IF(G99>H99,\"\",IF(G98<H98,E98,F98)))","v":""},null,null,null,null,{"$f":"E96","v":""},{"$f":"G96","v":0},{"$f":"H96","v":0},-1]
[null,null,"Gan O - Per N",null,{"$f":"IF(OR(G99=\"\",H99=\"\",G100=\"\",H100=\"\",G99=H99,G100=H100),\"\",IF(G99>H99,\"\",IF(G100>H100,E100,F100)))","v":""},{"$f":"IF(OR(G99=\"\",H99=\"\",G99=H99),\"\",IF(G99<H99,E99,\"\"))","v":""},null,null,null,null,{"$f":"F96","v":""},{"$f":"H96","v":0},{"$f":"G96","v":0},-1]
[null,"Quinta partida Caso B (Per I Gana a Gan L)",null,null,null,null,null,null,null,null,{"$f":"E98","v":""},{"$f":"G98","v":0},{"$f":"H98","v":0},-1]
[null,null,"Gan O - Per M",null,{"$f":"IF(OR(G99=\"\",H99=\"\",G100=\"\",H100=\"\",G99=H99,G100=H100),\"\",IF(G99<H99,\"\",IF(G100>H100,E100,F100)))","v":""},{"$f":"IF(OR(G99=\"\",H99=\"\",G98=\"\",H98=\"\"),\"\",IF(G99<H99,\"\",IF(G98<H98,E98,F98)))","v":""},null,null,null,null,{"$f":"F98","v":""},{"$f":"H98","v":0},{"$f":"G98","v":0},-1]
[null,null,null,null,null,null,null,null,null,null,{"$f":"E99","v":""},{"$f":"G99","v":0},{"$f":"H99","v":0},-1]
[null,null,"Clasificación",null,null,"Ronda",null,"Pase",null,null,{"$f":"F99","v":""},{"$f":"H99","v":0},{"$f":"G99","v":0},-1]
[null,null,"Primero",null,{"$f":"IF(OR(G93=\"\",H93=\"\",G93=H93),\"\",IF(G93>H93,E93,F93))","v":""},"1/8 de Final",null,31,null,null,{"$f":"E100","v":""},{"$f":"G100","v":0},{"$f":"H100","v":0},-1,null,{"$f":"IF(R108=\"\",\"\",RANK(R108,$R$108:$R$115,0))","v":1},{"$f":"K80","v":""},{"$f":"IF(U108=0,ROUND(S108+(T108/100),5),ROUND(S108+((T108/U108)/100),5))+V108","v":-32.999991999999999},{"$f":"SUMIF($K$80:$K$115,$Q108,N$80:N$115)+3","v":-33},{"$f":"SUMIF($K$80:$K$115,$Q108,L$80:L$115)","v":0},0,7.9999999999999996E-6,{"$f":"H108","v":31},{"$f":"E108","v":""}]
[null,null,"Segundo",null,{"$f":"IF(OR(G98=\"\",H98=\"\",G99=\"\",H99=\"\",G98=H98,G99=H99),\"\",VLOOKUP(2,P108:Q115,2,0))","v":""},"1/8 de Final",null,23,null,null,{"$f":"F100","v":""},{"$f":"H100","v":0},{"$f":"G100","v":0},-1,null,2,{"$f":"K81","v":""},{"$f":"IF(U109=0,ROUND(S109+(T109/100),5),ROUND(S109+((T109/U109)/100),5))+V109","v":-32.999993000000003},-33,0,0,6.9999999999999999E-6,{"$f":"H109","v":23},{"$f":"E109","v":""}]
[null,null,"Tercero",null,{"$f":"IF(OR(G99=\"\",H99=\"\",G99=H99),\"\",IF(G99>H99,VLOOKUP(3,P108:Q115,2,0),IF(OR(G102=\"\",H102=\"\",G103=\"\",H103=\"\"),\"\",VLOOKUP(3,P108:Q115,2,0))))","v":""},"1/8 de Final",null,14,null,null,{"$f":"E102","v":""},{"$f":"G102","v":0},{"$f":"H102","v":0},-1,null,3,"",-32.999994000000001,-33,0,0,6.0000000000000002E-6,{"$f":"H110","v":14},{"$f":"E110","v":""}]
[null,null,"Cuarto",null,{"$f":"IF(OR(G102=\"\",H102=\"\",G103=\"\",H103=\"\",G102=H102,G103=H103)*OR(G105=\"\",H105=\"\"),\"\",VLOOKUP(4,P108:Q115,2,0))","v":""},"1/8 de Final",null,42,null,null,{"$f":"F102","v":""},{"$f":"H102","v":0},{"$f":"G102","v":0},-1,null,4,"",-32.999994999999998,-33,0,0,5.0000000000000004E-6,{"$f":"H111","v":42},{"$f":"E111","v":""}]
[null,null,"Quinto",null,{"$f":"IF(OR(G102=\"\",H102=\"\",G103=\"\",H103=\"\",G102=H102,G103=H103)*OR(G105=\"\",H105=\"\"),\"\",VLOOKUP(5,P108:Q115,2,0))","v":""},"17º Puesto ex aequo",null,null,null,null,{"$f":"E103","v":""},{"$f":"G103","v":0},{"$f":"H103","v":0},-1,null,5,"",-32.999996000000003,-33,0,0,3.9999999999999998E-6]
[null,null,"Sexto",null,{"$f":"IF(OR(G99=\"\",H99=\"\",G99=H99),\"\",IF(G99>H99,VLOOKUP(6,P108:Q115,2,0),IF(OR(G102=\"\",H102=\"\",G103=\"\",H103=\"\"),\"\",VLOOKUP(6,P108:Q115,2,0))))","v":""},"21º Puesto ex aequo",null,null,null,null,{"$f":"F103","v":""},{"$f":"H103","v":0},{"$f":"G103","v":0},-1,null,6,"",-32.999997,-33,0,0,3.0000000000000001E-6]
[null,null,"Septimo",null,{"$f":"IF(OR(G98=\"\",H98=\"\",G99=\"\",H99=\"\",G98=H98,G99=H99),\"\",VLOOKUP(7,P108:Q115,2,0))","v":""},"25º Puesto ex aequo",null,null,null,null,{"$f":"E105","v":""},{"$f":"G105","v":0},{"$f":"H105","v":0},-1,null,7,"",-32.999997999999998,-33,0,0,1.9999999999999999E-6]
[null,null,"Octavo",null,{"$f":"IF(OR(G96=\"\",H96=\"\",G96=H96),\"\",IF(G96<H96,E96,F96))","v":""},"29º Puesto ex aequo",null,null,null,null,{"$f":"F105","v":""},{"$f":"H105","v":0},{"$f":"G105","v":0},-1,null,8,"",-32.999999000000003,-33,0,0,9.9999999999999995E-7]
[]
[null,"GRUPO 4",null,null,null,null,null,null,null,null,{"$f":"E120","v":""},{"$f":"G120","v":0},{"$f":"H120","v":0},{"$f":"IF(L117=\"\",0,SUM(IF(L117>M117,1,-1)))","v":-1}]
[null,"Pista",null,"Jugador",{"$f":"Participantes!$C$6&\" 1\"","v":"Deportista 1"},{"$f":"Participantes!$C$6&\" 2\"","v":"Deportista 2"},"Resultado",null,"Pase",null,{"$f":"F120","v":""},{"$f":"H120","v":0},{"$f":"G120","v":0},{"$f":"IF(L118=\"\",0,SUM(IF(L118>M118,1,-1)))","v":-1}]
[null,"Primera partida",null,null,null,null,null,null,null,null,{"$f":"E121","v":""},{"$f":"G121","v":0},{"$f":"H121","v":0},-1]
[null,null,41,42,{"$f":"IFERROR(VLOOKUP(C120,Equipos,4,0),\"\")","v":""},"",null,null,"A",null,{"$f":"F121","v":""},{"$f":"H121","v":0},{"$f":"G121","v":0},-1]
[null,null,43,44,"","",null,null,"B",null,{"$f":"E122","v":""},{"$f":"G122","v":0},{"$f":"H122","v":0},-1]
[null,null,45,46,"","",null,null,"C",null,{"$f":"F122","v":""},{"$f":"H122","v":0},{"$f":"G122","v":0},-1]
[null,null,47,48,"","",null,null,"D",null,{"$f":"E123","v":""},{"$f":"G123","v":0},{"$f":"H123","v":0},-1]
[null,"Segunda partida",null,null,null,null,null,null,null,null,{"$f":"F123","v":""},{"$f":"H123","v":0},{"$f":"G123","v":0},-1]
[null,null,"Ganadores A-B",null,{"$f":"IF(OR(G120=\"\",H120=\"\",G120=H120),\"\",IF(G120>H120,E120,F120))","v":""},{"$f":"IF(OR(G121=\"\",H121=\"\",G121=H121),\"\",IF(G121>H121,E121,F121))","v":""},null,null,"E",null,{"$f":"E125","v":""},{"$f":"G125","v":0},{"$f":"H125","v":0},-1]
[null,null,"Ganadores C-D",null,{"$f":"IF(OR(G122=\"\",H122=\"\",G122=H122),\"\",IF(G122>H122,E122,F122))","v":""},{"$f":"IF(OR(G123=\"\",H123=\"\",G123=H123),\"\",IF(G123>H123,E123,F123))","v":""},null,null,"F",null,{"$f":"F125","v":""},{"$f":"H125","v":0},{"$f":"G125","v":0},-1]
[null,null,"Perdedores A-B",null,{"$f":"IF(OR(G120=\"\",H120=\"\",G120=H120),\"\",IF(G120<H120,E120,F120))","v":""},{"$f":"IF(OR(G121=\"\",H121=\"\",G121=H121),\"\",IF(G121<H121,E121,F121))","v":""},null,null,"G",null,{"$f":"E126","v":""},{"$f":"G126","v":0},{"$f":"H126","v":0},-1]
[null,null,"Perdedores C-D",null,{"$f":"IF(OR(G122=\"\",H122=\"\",G122=H122),\"\",IF(G122<H122,E122,F122))","v":""},{"$f":"IF(OR(G123=\"\",H123=\"\",G123=H123),\"\",IF(G123<H123,E123,F123))","v":""},null,null,"H",null,{"$f":"F126","v":""},{"$f":"H126","v":0},{"$f":"G126","v":0},-1]
[null,"Tercera partida",null,null,null,null,null,null,null,null,{"$f":"E127","v":""},{"$f":"G127","v":0},{"$f":"H127","v":0},-1]
[null,null,"Ganadores E-F",null,{"$f":"IF(OR(G125=\"\",H125=\"\",G125=H125),\"\",IF(G125>H125,E125,F125))","v":""},{"$f":"IF(OR(G126=\"\",H126=\"\",G126=H126),\"\",IF(G126>H126,E126,F126))","v":""},null,null,"I",null,{"$f":"F127","v":""},{"$f":"H127","v":0},{"$f":"G127","v":0},-1]
[null,null,"Gan G - Per F",null,{"$f":"IF(OR(G127=\"\",H127=\"\",G127=H127),\"\",IF(G127>H127,E127,F127))","v":""},{"$f":"IF(OR(G126=\"\",H126=\"\",G126=H126),\"\",IF(G126<H126,E126,F126))","v":""},null,null,"J",null,{"$f":"E128","v":""},{"$f":"G128","v":0},{"$f":"H128","v":0},-1]
[null,null,"Gan H - Per E",null,{"$f":"IF(OR(G128=\"\",H128=\"\",G128=H128),\"\",IF(G128>H128,E128,F128))","v":""},{"$f":"IF(OR(G125=\"\",H125=\"\",G125=H125),\"\",IF(G125<H125,E125,F125))","v":""},null,null,"K",null,{"$f":"F128","v":""},{"$f":"H128","v":0},{"$f":"G128","v":0},-1]
[null,null,"Perdedores G-H",null,{"$f":"IF(OR(G127=\"\",H127=\"\",G127=H127),\"\",IF(G127<H127,E127,F127))","v":""},{"$f":"IF(OR(G128=\"\",H128=\"\",G128=H128),\"\",IF(G128<H128,E128,F128))","v":""},null,null,"L",null,{"$f":"E130","v":""},{"$f":"G130","v":0},{"$f":"H130","v":0},-1]
[null,"Cuarta partida",null,null,null,null,null,null,null,null,{"$f":"F130","v":""},{"$f":"H130","v":0},{"$f":"G130","v":0},-1]
[null,null,"Ganadores J-K",null,{"$f":"IF(OR(G131=\"\",H131=\"\",G131=H131),\"\",IF(G131>H131,E131,F131))","v":""},{"$f":"IF(OR(G132=\"\",H132=\"\",G132=H132),\"\",IF(G132>H132,E132,F132))","v":""},null,null,"M",null,{"$f":"E131","v":""},{"$f":"G131","v":0},{"$f":"H131","v":0},-1]
[null,null,"Per I - Gan L",null,{"$f":"IF(OR(G130=\"\",H130=\"\",G130=H130),\"\",IF(G130<H130,E130,F130))","v":""},{"$f":"IF(OR(G133=\"\",H133=\"\",G133=H133),\"\",IF(G133>H133,E133,F133))","v":""},null,null,"N",null,{"$f":"F131","v":""},{"$f":"H131","v":0},{"$f":"G131","v":0},-1]
[null,null,"Perdedores J-K",null,{"$f":"IF(OR(G131=\"\",H131=\"\",G131=H131),\"\",IF(G131<H131,E131,F131))","v":""},{"$f":"IF(OR(G132=\"\",H132=\"\",G132=H132),\"\",IF(G132<H132,E132,F132))","v":""},null,null,"O",null,{"$f":"E132","v":""},{"$f":"G132","v":0},{"$f":"H132","v":0},-1]
[null,"Quinta partida Caso A (Per I pierde con Gan L)",null,null,null,null,null,null,null,null,{"$f":"F132","v":""},{"$f":"H132","v":0},{"$f":"G132","v":0},-1]
[null,null,"Gan N - Per M",null,{"$f":"IF(OR(G136=\"\",H136=\"\",G136=H136),\"\",IF(G136<H136,F136,\"\"))","v":""},{"$f":"IF(OR(G136=\"\",H136=\"\",G135=\"\",H135=\"\",G135=H135,G136=H136),\"\",IF(G136>H136,\"\",IF(G135<H135,E135,F135)))","v":""},null,null,null,null,{"$f":"E133","v":""},{"$f":"G133","v":0},{"$f":"H133","v":0},-1]
[null,null,"Gan O - Per N",null,{"$f":"IF(OR(G136=\"\",H136=\"\",G137=\"\",H137=\"\",G136=H136,G137=H137),\"\",IF(G136>H136,\"\",IF(G137>H137,E137,F137)))","v":""},{"$f":"IF(OR(G136=\"\",H136=\"\",G136=H136),\"\",IF(G136<H136,E136,\"\"))","v":""},null,null,null,null,{"$f":"F133","v":""},{"$f":"H133","v":0},{"$f":"G133","v":0},-1]
[null,"Quinta partida Caso B (Per I Gana a Gan L)",null,null,null,null,null,null,null,null,{"$f":"E135","v":""},{"$f":"G135","v":0},{"$f":"H135","v":0},-1]
[null,null,"Gan O - Per M",null,{"$f":"IF(OR(G136=\"\",H136=\"\",G137=\"\",H137=\"\",G136=H136,G137=H137),\"\",IF(G136<H136,\"\",IF(G137>H137,E137,F137)))","v":""},{"$f":"IF(OR(G136=\"\",H136=\"\",G135=\"\",H135=\"\"),\"\",IF(G136<H136,\"\",IF(G135<H135,E135,F135)))","v":""},null,null,null,null,{"$f":"F135","v":""},{"$f":"H135","v":0},{"$f":"G135","v":0},-1]
[null,null,null,null,null,null,null,null,null,null,{"$f":"E136","v":""},{"$f":"G136","v":0},{"$f":"H136","v":0},-1]
[null,null,"Clasificación",null,null,"Ronda",null,"Pase",null,null,{"$f":"F136","v":""},{"$f":"H136","v":0},{"$f":"G136","v":0},-1]
[null,null,"Primero",null,{"$f":"IF(OR(G130=\"\",H130=\"\",G130=H130),\"\",IF(G130>H130,E130,F130))","v":""},"1/8 de Final",null,41,null,null,{"$f":"E137","v":""},{"$f":"G137","v":0},{"$f":"H137","v":0},-1,null,{"$f":"IF(R145=\"\",\"\",RANK(R145,$R$145:$R$152,0))","v":1},{"$f":"K117","v":""},{"$f":"IF(U145=0,ROUND(S145+(T145/100),5),ROUND(S145+((T145/U145)/100),5))+V145","v":-32.999991999999999},{"$f":"SUMIF($K$117:$K$152,$Q145,N$117:N$152)+3","v":-33},{"$f":"SUMIF($K$117:$K$152,$Q145,L$117:L$152)","v":0},{"$f":"SUMIF($K$117:$K$152,$Q145,M$117:M$152)","v":0},7.9999999999999996E-6,{"$f":"H145","v":41},{"$f":"E145","v":""}]
[null,null,"Segundo",null,{"$f":"IF(OR(G135=\"\",H135=\"\",G136=\"\",H136=\"\",G135=H135,G136=H136),\"\",VLOOKUP(2,P145:Q152,2,0))","v":""},"1/8 de Final",null,33,null,null,{"$f":"F137","v":""},{"$f":"H137","v":0},{"$f":"G137","v":0},-1,null,{"$f":"IF(R146=\"\",\"\",RANK(R146,$R$145:$R$152,0))","v":2},{"$f":"K118","v":""},{"$f":"IF(U146=0,ROUND(S146+(T146/100),5),ROUND(S146+((T146/U146)/100),5))+V146","v":-32.999993000000003},{"$f":"SUMIF($K$117:$K$152,$Q146,N$117:N$152)+3","v":-33},{"$f":"SUMIF($K$117:$K$152,$Q146,L$117:L$152)","v":0},{"$f":"SUMIF($K$117:$K$152,$Q146,M$117:M$152)","v":0},6.9999999999999999E-6,{"$f":"H146","v":33},{"$f":"E146","v":""}]
[null,null,"Tercero",null,{"$f":"IF(OR(G136=\"\",H136=\"\",G136=H136),\"\",IF(G136>H136,VLOOKUP(3,P145:Q152,2,0),IF(OR(G139=\"\",H139=\"\",G140=\"\",H140=\"\"),\"\",VLOOKUP(3,P145:Q152,2,0))))","v":""},"1/8 de Final",null,24,null,null,{"$f":"E139","v":""},{"$f":"G139","v":0},{"$f":"H139","v":0},-1,null,3,"",-32.999994000000001,-33,0,0,6.0000000000000002E-6,{"$f":"H147","v":24},{"$f":"E147","v":""}]
[null,null,"Cuarto",null,{"$f":"IF(OR(G139=\"\",H139=\"\",G140=\"\",H140=\"\",G139=H139,G140=H140)*OR(G142=\"\",H142=\"\"),\"\",VLOOKUP(4,P145:Q152,2,0))","v":""},"1/8 de Final",null,12,null,null,{"$f":"F139","v":""},{"$f":"H139","v":0},{"$f":"G139","v":0},-1,null,4,"",-32.999994999999998,-33,0,0,5.0000000000000004E-6,{"$f":"H148","v":12},{"$f":"E148","v":""}]
[null,null,"Quinto",null,{"$f":"IF(OR(G139=\"\",H139=\"\",G140=\"\",H140=\"\",G139=H139,G140=H140)*OR(G142=\"\",H142=\"\"),\"\",VLOOKUP(5,P145:Q152,2,0))","v":""},"17º Puesto ex aequo",null,null,null,null,{"$f":"E140","v":""},{"$f":"G140","v":0},{"$f":"H140","v":0},-1,null,5,"",-32.999996000000003,-33,0,0,3.9999999999999998E-6]
[null,null,"Sexto",null,{"$f":"IF(OR(G136=\"\",H136=\"\",G136=H136),\"\",IF(G136>H136,VLOOKUP(6,P145:Q152,2,0),IF(OR(G139=\"\",H139=\"\",G140=\"\",H140=\"\"),\"\",VLOOKUP(6,P145:Q152,2,0))))","v":""},"21º Puesto ex aequo",null,null,null,null,{"$f":"F140","v":""},{"$f":"H140","v":0},{"$f":"G140","v":0},-1,null,6,"",-32.999997,-33,0,0,3.0000000000000001E-6]
[null,null,"Septimo",null,{"$f":"IF(OR(G135=\"\",H135=\"\",G136=\"\",H136=\"\",G135=H135,G136=H136),\"\",VLOOKUP(7,P145:Q152,2,0))","v":""},"25º Puesto ex aequo",null,null,null,null,{"$f":"E142","v":""},{"$f":"G142","v":0},{"$f":"H142","v":0},-1,null,7,"",-32.999997999999998,-33,0,0,1.9999999999999999E-6]
[null,null,"Octavo",null,{"$f":"IF(OR(G133=\"\",H133=\"\",G133=H133),\"\",IF(G133<H133,E133,F133))","v":""},"29º Puesto ex aequo",null,null,null,null,{"$f":"F142","v":""},{"$f":"H142","v":0},{"$f":"G142","v":0},-1,null,8,"",-32.999999000000003,-33,0,0,9.9999999999999995E-7]

{"sheet":"Suizo16","index":4,"n_rows":60,"n_cols":14,"rows_kept":60,"cut":false,"hidden":false,"merged":[[56,2,56,3],[57,2,57,3],[58,2,58,3],[59,2,59,3],[48,2,48,3],[51,2,51,3],[52,2,52,3],[53,2,53,3],[55,2,55,4],[6,6,6,7],[0,1,0,7],[1,1,1,7],[3,1,3,7],[4,2,4,6],[5,1,5,7],[6,2,6,3],[9,2,9,3],[10,2,10,3],[11,2,11,3],[13,2,13,4],[19,1,19,7],[14,2,14,3],[15,2,15,3],[16,2,16,3],[17,2,17,3],[20,6,20,7],[33,1,33,7],[23,2,23,3],[24,2,24,3],[25,2,25,3],[27,2,27,4],[28,2,28,3],[29,2,29,3],[30,2,30,3],[31,2,31,3],[20,2,20,3],[34,6,34,7],[47,1,47,7],[48,6,48,7],[34,2,34,3],[37,2,37,3],[38,2,38,3],[39,2,39,3],[41,2,41,4],[42,2,42,3],[43,2,43,3],[44,2,44,3],[45,2,45,3]]}
[null,{"$f":"Participantes!B1","v":"FASE PREVIA MUNDIAL"},null,null,null,null,null,null,null,null,1,2,3,4]
[null,{"$f":"Participantes!B2","v":"MASCULINO"}]
[]
[null,"1/8 de Final"]
[]
[null,"GRUPO 1"]
[null,"Pista","Número",null,{"$f":"Participantes!$C$6&\" 1\"","v":"Deportista 1"},{"$f":"Participantes!$C$6&\" 2\"","v":"Deportista 2"},"Resultado"]
[null,null,11,12,{"$f":"IFERROR(VLOOKUP(C8,Suizo32,2,0),\"Sin asignar\")","v":""},{"$f":"IFERROR(VLOOKUP(D8,Suizo32,2,0),\"Sin asignar\")","v":""},null,null,null,{"$f":"VLOOKUP(C8,Suizo32!$W$34:$X$148,2,0)","v":""}]
[null,null,13,14,{"$f":"IFERROR(VLOOKUP(C9,Suizo32,2,0),\"Sin asignar\")","v":""},{"$f":"IFERROR(VLOOKUP(D9,Suizo32,2,0),\"Sin asignar\")","v":""},null,null,null,{"$f":"VLOOKUP(C9,Suizo32!$W$34:$X$148,2,0)","v":""}]
[null,null,"Ganadores",null,{"$f":"IF(OR(G8=\"\",H8=\"\",G8=H8),\"\",IF(G8>H8,E8,F8))","v":""},{"$f":"IF(OR(G9=\"\",H9=\"\",G9=H9),\"\",IF(G9>H9,E9,F9))","v":""}]
[null,null,"Perdedores",null,{"$f":"IF(OR(G8=\"\",H8=\"\",G8=H8),\"\",IF(G8<H8,E8,F8))","v":""},{"$f":"IF(OR(G9=\"\",H9=\"\",G9=H9),\"\",IF(G9<H9,E9,F9))","v":""}]
[null,null,"Repesca",null,{"$f":"IF(OR(G10=\"\",H10=\"\",G10=H10),\"\",IF(G10<H10,E10,F10))","v":""},{"$f":"IF(OR(G11=\"\",H11=\"\",G11=H11),\"\",IF(G11>H11,E11,F11))","v":""}]
[]
[null,null,"Clasificación",null,null,"Ronda","Pase"]
[null,null,"Primero",null,{"$f":"IF(OR(G10=\"\",H10=\"\",G10=H10),\"\",IF(G10>H10,E10,F10))","v":""},"1/4 de Final",1,null,{"$f":"G15","v":1},{"$f":"E15","v":""}]
[null,null,"Segundo",null,{"$f":"IF(OR(G12=\"\",H12=\"\",G12=H12),\"\",IF(G12>H12,E12,F12))","v":""},"1/4 de Final",6,null,{"$f":"G16","v":6},{"$f":"E16","v":""}]
[null,null,"Tercero",null,{"$f":"IF(OR(G12=\"\",H12=\"\",G12=H12),\"\",IF(G12<H12,E12,F12))","v":""},"9º Puesto ex aequo"]
[null,null,"Cuarto",null,{"$f":"IF(OR(G11=\"\",H11=\"\",G11=H11),\"\",IF(G11<H11,E11,F11))","v":""},"13º Puesto ex aequo"]
[]
[null,"GRUPO 2"]
[null,"Pista","Número",null,{"$f":"Participantes!$C$6&\" 1\"","v":"Deportista 1"},{"$f":"Participantes!$C$6&\" 2\"","v":"Deportista 2"},"Resultado"]
[null,null,21,22,{"$f":"IFERROR(VLOOKUP(C22,Suizo32,2,0),\"Sin asignar\")","v":""},{"$f":"IFERROR(VLOOKUP(D22,Suizo32,2,0),\"Sin asignar\")","v":""},null,null,null,{"$f":"VLOOKUP(C22,Suizo32!$W$34:$X$148,2,0)","v":""}]
[null,null,23,24,{"$f":"IFERROR(VLOOKUP(C23,Suizo32,2,0),\"Sin asignar\")","v":""},{"$f":"IFERROR(VLOOKUP(D23,Suizo32,2,0),\"Sin asignar\")","v":""},null,null,null,{"$f":"VLOOKUP(C23,Suizo32!$W$34:$X$148,2,0)","v":""}]
[null,null,"Ganadores",null,{"$f":"IF(OR(G22=\"\",H22=\"\",G22=H22),\"\",IF(G22>H22,E22,F22))","v":""},{"$f":"IF(OR(G23=\"\",H23=\"\",G23=H23),\"\",IF(G23>H23,E23,F23))","v":""}]
[null,null,"Perdedores",null,{"$f":"IF(OR(G22=\"\",H22=\"\",G22=H22),\"\",IF(G22<H22,E22,F22))","v":""},{"$f":"IF(OR(G23=\"\",H23=\"\",G23=H23),\"\",IF(G23<H23,E23,F23))","v":""}]
[null,null,"Repesca",null,{"$f":"IF(OR(G24=\"\",H24=\"\",G24=H24),\"\",IF(G24<H24,E24,F24))","v":""},{"$f":"IF(OR(G25=\"\",H25=\"\",G25=H25),\"\",IF(G25>H25,E25,F25))","v":""}]
[]
[null,null,"Clasificación",null,null,"Ronda","Pase"]
[null,null,"Primero",null,{"$f":"IF(OR(G24=\"\",H24=\"\",G24=H24),\"\",IF(G24>H24,E24,F24))","v":""},"1/4 de Final",3,null,{"$f":"G29","v":3},{"$f":"E29","v":""}]
[null,null,"Segundo",null,{"$f":"IF(OR(G26=\"\",H26=\"\",G26=H26),\"\",IF(G26>H26,E26,F26))","v":""},"1/4 de Final",8,null,{"$f":"G30","v":8},{"$f":"E30","v":""}]
[null,null,"Tercero",null,{"$f":"IF(OR(G26=\"\",H26=\"\",G26=H26),\"\",IF(G26<H26,E26,F26))","v":""},"9º Puesto ex aequo"]
[null,null,"Cuarto",null,{"$f":"IF(OR(G25=\"\",H25=\"\",G25=H25),\"\",IF(G25<H25,E25,F25))","v":""},"13º Puesto ex aequo"]
[]
[null,"GRUPO 3"]
[null,"Pista","Número",null,{"$f":"Participantes!$C$6&\" 1\"","v":"Deportista 1"},{"$f":"Participantes!$C$6&\" 2\"","v":"Deportista 2"},"Resultado"]
[null,null,31,32,{"$f":"IFERROR(VLOOKUP(C36,Suizo32,2,0),\"Sin asignar\")","v":""},{"$f":"IFERROR(VLOOKUP(D36,Suizo32,2,0),\"Sin asignar\")","v":""},null,null,null,{"$f":"VLOOKUP(C36,Suizo32!$W$34:$X$148,2,0)","v":""}]
[null,null,33,34,{"$f":"IFERROR(VLOOKUP(C37,Suizo32,2,0),\"Sin asignar\")","v":""},{"$f":"IFERROR(VLOOKUP(D37,Suizo32,2,0),\"Sin asignar\")","v":""},null,null,null,{"$f":"VLOOKUP(C37,Suizo32!$W$34:$X$148,2,0)","v":""}]
[null,null,"Ganadores",null,{"$f":"IF(OR(G36=\"\",H36=\"\",G36=H36),\"\",IF(G36>H36,E36,F36))","v":""},{"$f":"IF(OR(G37=\"\",H37=\"\",G37=H37),\"\",IF(G37>H37,E37,F37))","v":""}]
[null,null,"Perdedores",null,{"$f":"IF(OR(G36=\"\",H36=\"\",G36=H36),\"\",IF(G36<H36,E36,F36))","v":""},{"$f":"IF(OR(G37=\"\",H37=\"\",G37=H37),\"\",IF(G37<H37,E37,F37))","v":""}]
[null,null,"Repesca",null,{"$f":"IF(OR(G38=\"\",H38=\"\",G38=H38),\"\",IF(G38<H38,E38,F38))","v":""},{"$f":"IF(OR(G39=\"\",H39=\"\",G39=H39),\"\",IF(G39>H39,E39,F39))","v":""}]
[]
[null,null,"Clasificación",null,null,"Ronda","Pase"]
[null,null,"Primero",null,{"$f":"IF(OR(G38=\"\",H38=\"\",G38=H38),\"\",IF(G38>H38,E38,F38))","v":""},"1/4 de Final",5,null,{"$f":"G43","v":5},{"$f":"E43","v":""}]
[null,null,"Segundo",null,{"$f":"IF(OR(G40=\"\",H40=\"\",G40=H40),\"\",IF(G40>H40,E40,F40))","v":""},"1/4 de Final",2,null,{"$f":"G44","v":2},{"$f":"E44","v":""}]
[null,null,"Tercero",null,{"$f":"IF(OR(G40=\"\",H40=\"\",G40=H40),\"\",IF(G40<H40,E40,F40))","v":""},"9º Puesto ex aequo"]
[null,null,"Cuarto",null,{"$f":"IF(OR(G39=\"\",H39=\"\",G39=H39),\"\",IF(G39<H39,E39,F39))","v":""},"13º Puesto ex aequo"]
[]
[null,"GRUPO 4"]
[null,"Pista","Número",null,{"$f":"Participantes!$C$6&\" 1\"","v":"Deportista 1"},{"$f":"Participantes!$C$6&\" 2\"","v":"Deportista 2"},"Resultado"]
[null,null,41,42,{"$f":"IFERROR(VLOOKUP(C50,Suizo32,2,0),\"Sin asignar\")","v":""},{"$f":"IFERROR(VLOOKUP(D50,Suizo32,2,0),\"Sin asignar\")","v":""},null,null,null,{"$f":"VLOOKUP(C50,Suizo32!$W$34:$X$148,2,0)","v":""}]
[null,null,43,44,{"$f":"IFERROR(VLOOKUP(C51,Suizo32,2,0),\"Sin asignar\")","v":""},{"$f":"IFERROR(VLOOKUP(D51,Suizo32,2,0),\"Sin asignar\")","v":""},null,null,null,{"$f":"VLOOKUP(C51,Suizo32!$W$34:$X$148,2,0)","v":""}]
[null,null,"Ganadores",null,{"$f":"IF(OR(G50=\"\",H50=\"\",G50=H50),\"\",IF(G50>H50,E50,F50))","v":""},{"$f":"IF(OR(G51=\"\",H51=\"\",G51=H51),\"\",IF(G51>H51,E51,F51))","v":""}]
[null,null,"Perdedores",null,{"$f":"IF(OR(G50=\"\",H50=\"\",G50=H50),\"\",IF(G50<H50,E50,F50))","v":""},{"$f":"IF(OR(G51=\"\",H51=\"\",G51=H51),\"\",IF(G51<H51,E51,F51))","v":""}]
[null,null,"Repesca",null,{"$f":"IF(OR(G52=\"\",H52=\"\",G52=H52),\"\",IF(G52<H52,E52,F52))","v":""},{"$f":"IF(OR(G53=\"\",H53=\"\",G53=H53),\"\",IF(G53>H53,E53,F53))","v":""}]
[]
[null,null,"Clasificación",null,null,"Ronda","Pase"]
[null,null,"Primero",null,{"$f":"IF(OR(G52=\"\",H52=\"\",G52=H52),\"\",IF(G52>H52,E52,F52))","v":""},"1/4 de Final",7,null,{"$f":"G57","v":7},{"$f":"E57","v":""}]
[null,null,"Segundo",null,{"$f":"IF(OR(G54=\"\",H54=\"\",G54=H54),\"\",IF(G54>H54,E54,F54))","v":""},"1/4 de Final",4,null,{"$f":"G58","v":4},{"$f":"E58","v":""}]
[null,null,"Tercero",null,{"$f":"IF(OR(G54=\"\",H54=\"\",G54=H54),\"\",IF(G54<H54,E54,F54))","v":""},"9º Puesto ex aequo"]
[null,null,"Cuarto",null,{"$f":"IF(OR(G53=\"\",H53=\"\",G53=H53),\"\",IF(G53<H53,E53,F53))","v":""},"13º Puesto ex aequo"]

{"sheet":"KO8","index":5,"n_rows":21,"n_cols":10,"rows_kept":21,"cut":false,"hidden":false,"merged":[[20,2,20,3],[0,1,0,8],[1,1,1,8],[3,1,3,8],[11,1,11,7],[13,6,13,7],[17,1,17,7],[19,6,19,7],[4,2,4,6],[5,6,5,7],[5,2,5,3],[13,2,13,3]]}
[null,{"$f":"Participantes!B1","v":"FASE PREVIA MUNDIAL"}]
[null,{"$f":"Participantes!B2","v":"MASCULINO"}]
[]
[null,"1/4 de Final"]
[]
[null,"Pista","Número",null,{"$f":"Participantes!$C$6&\" 1\"","v":"Deportista 1"},{"$f":"Participantes!$C$6&\" 2\"","v":"Deportista 2"},"Resultado",null,"Pase"]
[null,null,1,2,{"$f":"IFERROR(VLOOKUP(C7,Suizo16,2,0),\"Sin asignar\")","v":""},"",null,null,9,{"$f":"IF(OR(G7=\"\",H7=\"\",G7=H7),\"\",IF((G7>H7),E7,F7))","v":""}]
[null,null,3,4,"","",null,null,10,{"$f":"IF(OR(G8=\"\",H8=\"\",G8=H8),\"\",IF((G8>H8),E8,F8))","v":""}]
[null,null,5,6,"","",null,null,11,""]
[null,null,7,8,"","",null,null,12,{"$f":"IF(OR(G10=\"\",H10=\"\",G10=H10),\"\",IF((G10>H10),E10,F10))","v":""}]
[]
[null,"SEMIFINALES"]
[]
[null,"Pista","Número",null,{"$f":"Participantes!$C$6&\" 1\"","v":"Deportista 1"},{"$f":"Participantes!$C$6&\" 2\"","v":"Deportista 2"},"Resultado"]
[null,null,9,10,{"$f":"IFERROR(VLOOKUP(C15,KO8e,2,0),\"Sin asignar\")","v":""},{"$f":"IFERROR(VLOOKUP(D15,KO8e,2,0),\"Sin asignar\")","v":""}]
[null,null,11,12,{"$f":"IFERROR(VLOOKUP(C16,KO8e,2,0),\"Sin asignar\")","v":""},{"$f":"IFERROR(VLOOKUP(D16,KO8e,2,0),\"Sin asignar\")","v":""}]
[]
[null,"FINAL"]
[]
[null,"Pista",null,null,{"$f":"Participantes!$C$6&\" 1\"","v":"Deportista 1"},{"$f":"Participantes!$C$6&\" 2\"","v":"Deportista 2"},"Resultado"]
[null,null,"Ganadores",null,{"$f":"IF(OR(G15=\"\",H15=\"\",G15=H15),\"\",IF((G15>H15),E15,F15))","v":""},{"$f":"IF(OR(G16=\"\",H16=\"\",G16=H16),\"\",IF((G16>H16),E16,F16))","v":""}]

{"sheet":"Clasificación","index":6,"n_rows":38,"n_cols":5,"rows_kept":38,"cut":false,"hidden":false,"merged":[[0,1,0,4],[1,1,1,4],[3,1,3,4]]}
[null,{"$f":"Participantes!B1","v":"FASE PREVIA MUNDIAL"}]
[null,{"$f":"Participantes!B2","v":"MASCULINO"}]
[]
[null,"CLASIFICACION FINAL"]
[]
[null,"PUESTO",null,{"$f":"Participantes!C6","v":"Deportista"},{"$f":"Participantes!D6","v":"Federación"}]
[null,"CAMPEÓN",{"$f":"IF(OR('KO8'!G21=\"\",'KO8'!H21=\"\"),\"\",IF('KO8'!G21>'KO8'!H21,'KO8'!E21,'KO8'!F21))","v":""},{"$f":"IF(C7=\"\",\"\",VLOOKUP(C7,Equipos2,2,0))","v":""},{"$f":"IF(D7=\"\",\"\",VLOOKUP(D7,Equipos3,2,0))","v":""}]
[null,"SUBCAMPEÓN",{"$f":"IF(OR('KO8'!G21=\"\",'KO8'!H21=\"\"),\"\",IF('KO8'!G21>'KO8'!H21,'KO8'!F21,'KO8'!E21))","v":""},"",""]
[null,"TERCEROS",{"$f":"IF(OR('KO8'!G15=\"\",'KO8'!H15=\"\"),\"\",IF('KO8'!G15>'KO8'!H15,'KO8'!F15,'KO8'!E15))","v":""},"",""]
[null,null,{"$f":"IF(OR('KO8'!G16=\"\",'KO8'!H16=\"\"),\"\",IF('KO8'!G16>'KO8'!H16,'KO8'!F16,'KO8'!E16))","v":""},"",""]
[null,"5º",{"$f":"IF(OR('KO8'!G7=\"\",'KO8'!H7=\"\"),\"\",IF('KO8'!G7>'KO8'!H7,'KO8'!F7,'KO8'!E7))","v":""},"",""]
[null,null,{"$f":"IF(OR('KO8'!G8=\"\",'KO8'!H8=\"\"),\"\",IF('KO8'!G8>'KO8'!H8,'KO8'!F8,'KO8'!E8))","v":""},"",""]
[null,null,{"$f":"IF(OR('KO8'!G9=\"\",'KO8'!H9=\"\"),\"\",IF('KO8'!G9>'KO8'!H9,'KO8'!F9,'KO8'!E9))","v":""},"",""]
[null,null,{"$f":"IF(OR('KO8'!G10=\"\",'KO8'!H10=\"\"),\"\",IF('KO8'!G10>'KO8'!H10,'KO8'!F10,'KO8'!E10))","v":""},"",""]
[null,"9º",{"$f":"Suizo16!E17","v":""},"",""]
[null,null,{"$f":"Suizo16!E31","v":""},"",""]
[null,null,{"$f":"Suizo16!E45","v":""},"",""]
[null,null,{"$f":"Suizo16!E59","v":""},"",""]
[null,"13º",{"$f":"Suizo16!E18","v":""},"",""]
[null,null,{"$f":"Suizo16!E32","v":""},"",""]
[null,null,{"$f":"Suizo16!E46","v":""},"",""]
[null,null,{"$f":"Suizo16!E60","v":""},"",""]
[null,"17º",{"$f":"Suizo32!E38","v":""},"",""]
[null,null,{"$f":"Suizo32!E75","v":""},"",""]
[null,null,{"$f":"Suizo32!E112","v":""},"",""]
[null,null,{"$f":"Suizo32!E149","v":""},"",""]
[null,"21º",{"$f":"Suizo32!E39","v":""},"",""]
[null,null,{"$f":"Suizo32!E76","v":""},"",""]
[null,null,{"$f":"Suizo32!E113","v":""},"",""]
[null,null,{"$f":"Suizo32!E150","v":""},"",""]
[null,"25º",{"$f":"Suizo32!E40","v":""},"",""]
[null,null,{"$f":"Suizo32!E77","v":""},"",""]
[null,null,{"$f":"Suizo32!E114","v":""},"",""]
[null,null,{"$f":"Suizo32!E151","v":""},"",""]
[null,"29º",{"$f":"Suizo32!E41","v":""},"",""]
[null,null,{"$f":"Suizo32!E78","v":""},"",""]
[null,null,{"$f":"Suizo32!E115","v":""},"",""]
[null,null,{"$f":"Suizo32!E152","v":""},"",""]

{"sheet":"Actas","index":7,"n_rows":30,"n_cols":4,"rows_kept":30,"cut":false,"hidden":false,"merged":[[17,0,17,4],[0,0,0,4],[1,0,1,4],[3,3,3,4],[5,1,5,2],[8,0,8,4],[9,0,9,4],[11,3,11,4],[13,1,13,2],[16,0,16,4],[2,0,2,2],[2,3,2,4],[10,0,10,2],[10,3,10,4],[29,1,29,2],[19,3,19,4],[21,1,21,2],[24,0,24,4],[25,0,25,4],[18,0,18,2],[18,3,18,4],[26,0,26,2],[26,3,26,4],[27,3,27,4]]}
[{"$f":"Participantes!B1","v":"FASE PREVIA MUNDIAL"}]
[{"$f":"Participantes!B2","v":"MASCULINO"}]
[]
["Pista",{"$f":"Participantes!C6&\" 1\"","v":"Deportista 1"},{"$f":"Participantes!C6&\" 2\"","v":"Deportista 2"},"Resultado"]
[]
[null,"Firma"]
[]
[]
[{"$f":"Participantes!B1","v":"FASE PREVIA MUNDIAL"}]
[{"$f":"Participantes!B2","v":"MASCULINO"}]
[]
["Pista",{"$f":"Participantes!C6&\" 1\"","v":"Deportista 1"},{"$f":"Participantes!C6&\" 2\"","v":"Deportista 2"},"Resultado"]
[]
[null,"Firma"]
[]
[]
[{"$f":"Participantes!B1","v":"FASE PREVIA MUNDIAL"}]
[{"$f":"Participantes!B2","v":"MASCULINO"}]
[]
["Pista",{"$f":"Participantes!C6&\" 1\"","v":"Deportista 1"},{"$f":"Participantes!C6&\" 2\"","v":"Deportista 2"},"Resultado"]
[]
[null,"Firma"]
[]
[]
[{"$f":"Participantes!B1","v":"FASE PREVIA MUNDIAL"}]
[{"$f":"Participantes!B2","v":"MASCULINO"}]
[]
["Pista",{"$f":"Participantes!C6&\" 1\"","v":"Deportista 1"},{"$f":"Participantes!C6&\" 2\"","v":"Deportista 2"},"Resultado"]
[]
[null,"Firma"]

{"sheet":"Manual","index":8,"n_rows":30,"n_cols":4,"rows_kept":30,"cut":false,"hidden":false,"merged":[[9,1,9,4],[10,2,10,4],[1,2,1,4],[3,1,3,4],[4,1,4,4],[5,1,5,4],[6,1,6,4],[7,1,7,4],[8,1,8,4]]}
[]
[null,null,"MANUAL"]
[]
[null,"1º Rellenar la hoja de \"Participación\" La denominación del Campeonato Categoria y el nombre del deportista y la Federación"]
[null,"2º Para rellenar la hoja del sorteo solo se tiene que poner el numero del sorteo en la hoja de \"Participación\"."]
[null,"3º Los números del sorteo no son del 1 al 32, sino que será un numero compuesto por dos cifras ultima indica la posición en el grupo ejemplo y el resto incica el grupo: numero 42 quiere decir que es el grupo 4 posición 2."]
[null,"4º Los emparejamientos están automatizados solo se tiene que añadir los resultados."]
[null,"5º Para imprimir usar la hoja \"Control de Impresión\""]
[null,"6º Las celdas en las que no se tiene que introducir datos están protegidas, para desproteger no se necesita clave."]
[null,"7º Tabla de las federaciones y siglas"]
[]
[null,null,"Federación","Siglas"]
[null,null,"FEDERACIÓN ANDALUZA","AN"]
[null,null,"FEDERACIÓN ARAGONESA","AR"]
[null,null,"FEDERACIÓN ASTURIANA","AS"]
[null,null,"FEDERACIÓN BALEAR","IB"]
[null,null,"FEDERACIÓN CANARIA","CN"]
[null,null,"FEDERACIÓN CÁNTABRA","CB"]
[null,null,"FEDERACIÓN CASTELLANO-LEONESA","CL"]
[null,null,"FEDERACIÓN CASTELLANO-MANCHEGA","CM"]
[null,null,"FEDERACIÓN CATALANA","CT"]
[null,null,"FEDERACIÓN CEUTÍ","CE"]
[null,null,"FEDERACIÓN EXTREMEÑA","EX"]
[null,null,"FEDERACIÓN GALEGA","GA"]
[null,null,"FEDERACIÓN MADRILEÑA","MD"]
[null,null,"FEDERACIÓN MELILLENSE","ML"]
[null,null,"FEDERACIÓN MURCIANA","MC"]
[null,null,"FEDERACIÓN RIOJANA","RI"]
[null,null,"FEDERACIÓN COMUNIDAD VALENCIANA","VC"]
[null,null,"FEDERACIÓN VASCA","PV"]