{"text_format":"1","workbook":"xlsx","n_sheets":10,"sheets":["Control Impresión","Participantes","Sorteo","Suizo32","Puestos","Suizo16","KO8","Clasificación","Actas","Manual"],"not_rendered":{"charts":0,"images":5,"macros":1,"external_links":0,"defined_names":35,"comments":0,"pivot_tables":0},"unopened":[],"bounds":{"document_bytes":16777216,"sheet_cells":100000,"rows_first":2000,"rows_last":500,"rows_between":2000,"halvings":0,"cell_chars":16384,"cell_head_chars":4096},"cells_cut":0,"cells_raw":0,"read":"whole","date_system":"1900"}

{"sheet":"Control Impresión","index":0,"n_rows":16,"n_cols":4,"rows_kept":16,"cut":false,"hidden":false,"merged":[[15,1,15,3],[3,1,6,1],[7,1,12,1],[0,1,0,4],[13,1,14,1],[5,2,6,2],[5,4,6,4],[7,4,9,4],[7,2,9,2],[10,2,11,2],[10,4,11,4],[1,1,1,3],[2,1,2,3]]}
[{"$f":"LOWER(CONCATENATE(Participantes!B1,\" \",Participantes!B2))","v":"campeonato de españa dupletas primera"},"Control de Impresión"]
[null,"Cuaderno FF.AA."]
[null,"Sorteo"]
[null,"Sábado Mañana","Primera Partida","Suizo 32"]
[null,null,"Segunda Partida","Suizo 32"]
[null,null,"Tercera Partida","Suizo 32"]
[null,null,null,"Puestos 25 al 29"]
[null,"Sábado Tarde","Cuarta Partida","Suizo 16"]
[null,null,null,"Semifinal Puestos 25 al 27 y final puestos 25 y 26"]
[null,null,null,"Puestos 17 al 21"]
[null,null,"Quinta Partida","Suizo 16"]
[null,null,null,"Semifinal Puestos 17 al 19 y final puestos 17 y 18"]
[null,null,"Sexta Partida","Suizo 16"]
[null,"Domingo Mañana","Sextima Partida","KO 8"]
[null,null,"Octava Partida","Semifinal y final"]
[null,"Informe"]

{"sheet":"Participantes","index":1,"n_rows":38,"n_cols":7,"rows_kept":38,"cut":false,"hidden":false,"merged":[[0,1,0,3],[1,1,1,3],[3,1,3,3]]}
[null,"CAMPEONATO DE ESPAÑA"]
[null,"DUPLETAS PRIMERA"]
[]
[null,"PARTICIPACIÓN ORDEN ALFABÉTICO"]
[]
[null,"Nº Sorteo","EQUIPO","FEDERACIÓN"]
[null,null,null,null,{"$f":"C7&\" (\"&VLOOKUP(D7,Federaciones,2,0)&\")\"","v":{"$error":"#N/A"}},{"$f":"C7","v":0},13]
[null,null,null,null,{"$error":"#N/A"},{"$f":"C8","v":0},12]
[null,null,null,null,{"$error":"#N/A"},0,11]
[null,null,null,null,{"$error":"#N/A"},0,10]
[null,null,null,null,{"$error":"#N/A"},0,9]
[null,null,null,null,{"$error":"#N/A"},0,8]
[null,null,null,null,{"$error":"#N/A"},0,7]
[null,null,null,null,{"$error":"#N/A"},0,6]
[null,null,null,null,{"$error":"#N/A"},0,5]
[null,null,null,null,{"$error":"#N/A"},0,4]
[null,null,null,null,{"$error":"#N/A"},0,3]
[null,null,null,null,{"$error":"#N/A"},0,2]
[null,null,null,null,{"$error":"#N/A"},0,1]
[null,null,null,null,{"$error":"#N/A"},0,0]
[null,null,null,null,{"$error":"#N/A"},0]
[null,null,null,null,{"$error":"#N/A"},0]
[null,null,null,null,{"$error":"#N/A"},0]
[null,null,null,null,{"$error":"#N/A"},0]
[null,null,null,null,{"$error":"#N/A"},0]
[null,null,null,null,{"$error":"#N/A"},0]
[null,null,null,null,{"$error":"#N/A"},0]
[null,null,null,null,{"$error":"#N/A"},0]
[null,null,null,null,{"$error":"#N/A"},0]
[null,null,null,null,{"$error":"#N/A"},0]
[null,null,null,null,{"$error":"#N/A"},0]
[null,null,null,null,{"$error":"#N/A"},0]
[null,null,null,null,{"$error":"#N/A"},0]
[null,null,null,null,{"$error":"#N/A"},0]
[null,null,null,null,{"$error":"#N/A"},0]
[null,null,null,null,{"$error":"#N/A"},0]
[null,null,null,null,{"$error":"#N/A"},0]
[null,null,null,null,{"$error":"#N/A"},0]

{"sheet":"Sorteo","index":2,"n_rows":60,"n_cols":4,"rows_kept":60,"cut":false,"hidden":false,"merged":[[0,1,0,3],[1,1,1,3],[3,1,3,3],[4,1,4,3],[60,1,60,2],[66,1,66,2],[5,1,5,3],[12,1,12,3],[19,1,19,3],[26,1,26,3],[33,1,33,3],[40,1,40,3],[47,1,47,3],[54,1,54,3]]}
[null,{"$f":"Participantes!B1","v":"CAMPEONATO DE ESPAÑA"}]
[null,{"$f":"Participantes!B2","v":"DUPLETAS PRIMERA"}]
[]
[]
[]
[null,"GRUPO 1"]
[null,"Número",{"$f":"Participantes!$C$6","v":"EQUIPO"},{"$f":"Participantes!$D$6","v":"FEDERACIÓN"}]
[null,{"$f":"Suizo32!C8","v":11},{"$f":"IFERROR(VLOOKUP(B8,Equipos,2,0),\"\")","v":""},{"$f":"IFERROR(VLOOKUP(B8,Equipos,3,0),\"\")","v":""}]
[null,{"$f":"Suizo32!D8","v":12},{"$f":"IFERROR(VLOOKUP(B9,Equipos,2,0),\"\")","v":""},{"$f":"IFERROR(VLOOKUP(B9,Equipos,3,0),\"\")","v":""}]
[null,{"$f":"Suizo32!C9","v":13},{"$f":"IFERROR(VLOOKUP(B10,Equipos,2,0),\"\")","v":""},{"$f":"IFERROR(VLOOKUP(B10,Equipos,3,0),\"\")","v":""}]
[null,{"$f":"Suizo32!D9","v":14},{"$f":"IFERROR(VLOOKUP(B11,Equipos,2,0),\"\")","v":""},{"$f":"IFERROR(VLOOKUP(B11,Equipos,3,0),\"\")","v":""}]
[]
[null,"GRUPO 2"]
[null,"Número",{"$f":"Participantes!$C$6","v":"EQUIPO"},{"$f":"Participantes!$D$6","v":"FEDERACIÓN"}]
[null,{"$f":"Suizo32!C22","v":21},{"$f":"IFERROR(VLOOKUP(B15,Equipos,2,0),\"\")","v":""},{"$f":"IFERROR(VLOOKUP(B15,Equipos,3,0),\"\")","v":""}]
[null,{"$f":"Suizo32!D22","v":22},{"$f":"IFERROR(VLOOKUP(B16,Equipos,2,0),\"\")","v":""},{"$f":"IFERROR(VLOOKUP(B16,Equipos,3,0),\"\")","v":""}]
[null,{"$f":"Suizo32!C23","v":23},{"$f":"IFERROR(VLOOKUP(B17,Equipos,2,0),\"\")","v":""},{"$f":"IFERROR(VLOOKUP(B17,Equipos,3,0),\"\")","v":""}]
[null,{"$f":"Suizo32!D23","v":24},{"$f":"IFERROR(VLOOKUP(B18,Equipos,2,0),\"\")","v":""},{"$f":"IFERROR(VLOOKUP(B18,Equipos,3,0),\"\")","v":""}]
[]
[null,"GRUPO 3"]
[null,"Número",{"$f":"Participantes!$C$6","v":"EQUIPO"},{"$f":"Participantes!$D$6","v":"FEDERACIÓN"}]
[null,{"$f":"Suizo32!C36","v":31},{"$f":"IFERROR(VLOOKUP(B22,Equipos,2,0),\"\")","v":""},{"$f":"IFERROR(VLOOKUP(B22,Equipos,3,0),\"\")","v":""}]
[null,{"$f":"Suizo32!D36","v":32},{"$f":"IFERROR(VLOOKUP(B23,Equipos,2,0),\"\")","v":""},{"$f":"IFERROR(VLOOKUP(B23,Equipos,3,0),\"\")","v":""}]
[null,{"$f":"Suizo32!C37","v":33},{"$f":"IFERROR(VLOOKUP(B24,Equipos,2,0),\"\")","v":""},{"$f":"IFERROR(VLOOKUP(B24,Equipos,3,0),\"\")","v":""}]
[null,{"$f":"Suizo32!D37","v":34},{"$f":"IFERROR(VLOOKUP(B25,Equipos,2,0),\"\")","v":""},{"$f":"IFERROR(VLOOKUP(B25,Equipos,3,0),\"\")","v":""}]
[]
[null,"GRUPO 4"]
[null,"Número",{"$f":"Participantes!$C$6","v":"EQUIPO"},{"$f":"Participantes!$D$6","v":"FEDERACIÓN"}]
[null,{"$f":"Suizo32!C50","v":41},{"$f":"IFERROR(VLOOKUP(B29,Equipos,2,0),\"\")","v":""},{"$f":"IFERROR(VLOOKUP(B29,Equipos,3,0),\"\")","v":""}]
[null,{"$f":"Suizo32!D50","v":42},{"$f":"IFERROR(VLOOKUP(B30,Equipos,2,0),\"\")","v":""},{"$f":"IFERROR(VLOOKUP(B30,Equipos,3,0),\"\")","v":""}]
[null,{"$f":"Suizo32!C51","v":43},{"$f":"IFERROR(VLOOKUP(B31,Equipos,2,0),\"\")","v":""},{"$f":"IFERROR(VLOOKUP(B31,Equipos,3,0),\"\")","v":""}]
[null,{"$f":"Suizo32!D51","v":44},{"$f":"IFERROR(VLOOKUP(B32,Equipos,2,0),\"\")","v":""},{"$f":"IFERROR(VLOOKUP(B32,Equipos,3,0),\"\")","v":""}]
[]
[null,"GRUPO 5"]
[null,"Número",{"$f":"Participantes!$C$6","v":"EQUIPO"},{"$f":"Participantes!$D$6","v":"FEDERACIÓN"}]
[null,{"$f":"Suizo32!C64","v":51},{"$f":"IFERROR(VLOOKUP(B36,Equipos,2,0),\"\")","v":""},{"$f":"IFERROR(VLOOKUP(B36,Equipos,3,0),\"\")","v":""}]
[null,{"$f":"Suizo32!D64","v":52},{"$f":"IFERROR(VLOOKUP(B37,Equipos,2,0),\"\")","v":""},{"$f":"IFERROR(VLOOKUP(B37,Equipos,3,0),\"\")","v":""}]
[null,{"$f":"Suizo32!C65","v":53},{"$f":"IFERROR(VLOOKUP(B38,Equipos,2,0),\"\")","v":""},{"$f":"IFERROR(VLOOKUP(B38,Equipos,3,0),\"\")","v":""}]
[null,{"$f":"Suizo32!D65","v":54},{"$f":"IFERROR(VLOOKUP(B39,Equipos,2,0),\"\")","v":""},{"$f":"IFERROR(VLOOKUP(B39,Equipos,3,0),\"\")","v":""}]
[]
[null,"GRUPO 6"]
[null,"Número",{"$f":"Participantes!$C$6","v":"EQUIPO"},{"$f":"Participantes!$D$6","v":"FEDERACIÓN"}]
[null,61,{"$f":"IFERROR(VLOOKUP(B43,Equipos,2,0),\"\")","v":""},{"$f":"IFERROR(VLOOKUP(B43,Equipos,3,0),\"\")","v":""}]
[null,62,{"$f":"IFERROR(VLOOKUP(B44,Equipos,2,0),\"\")","v":""},{"$f":"IFERROR(VLOOKUP(B44,Equipos,3,0),\"\")","v":""}]
[null,63,{"$f":"IFERROR(VLOOKUP(B45,Equipos,2,0),\"\")","v":""},{"$f":"IFERROR(VLOOKUP(B45,Equipos,3,0),\"\")","v":""}]
[null,64,{"$f":"IFERROR(VLOOKUP(B46,Equipos,2,0),\"\")","v":""},{"$f":"IFERROR(VLOOKUP(B46,Equipos,3,0),\"\")","v":""}]
[]
[null,"GRUPO 7"]
[null,"Número",{"$f":"Participantes!$C$6","v":"EQUIPO"},{"$f":"Participantes!$D$6","v":"FEDERACIÓN"}]
[null,71,{"$f":"IFERROR(VLOOKUP(B50,Equipos,2,0),\"\")","v":""},{"$f":"IFERROR(VLOOKUP(B50,Equipos,3,0),\"\")","v":""}]
[null,72,{"$f":"IFERROR(VLOOKUP(B51,Equipos,2,0),\"\")","v":""},{"$f":"IFERROR(VLOOKUP(B51,Equipos,3,0),\"\")","v":""}]
[null,73,{"$f":"IFERROR(VLOOKUP(B52,Equipos,2,0),\"\")","v":""},{"$f":"IFERROR(VLOOKUP(B52,Equipos,3,0),\"\")","v":""}]
[null,74,{"$f":"IFERROR(VLOOKUP(B53,Equipos,2,0),\"\")","v":""},{"$f":"IFERROR(VLOOKUP(B53,Equipos,3,0),\"\")","v":""}]
[]
[null,"GRUPO 8"]
[null,"Número",{"$f":"Participantes!$C$6","v":"EQUIPO"},{"$f":"Participantes!$D$6","v":"FEDERACIÓN"}]
[null,81,{"$f":"IFERROR(VLOOKUP(B57,Equipos,2,0),\"\")","v":""},{"$f":"IFERROR(VLOOKUP(B57,Equipos,3,0),\"\")","v":""}]
[null,82,{"$f":"IFERROR(VLOOKUP(B58,Equipos,2,0),\"\")","v":""},{"$f":"IFERROR(VLOOKUP(B58,Equipos,3,0),\"\")","v":""}]
[null,83,{"$f":"IFERROR(VLOOKUP(B59,Equipos,2,0),\"\")","v":""},{"$f":"IFERROR(VLOOKUP(B59,Equipos,3,0),\"\")","v":""}]
[null,84,{"$f":"IFERROR(VLOOKUP(B60,Equipos,2,0),\"\")","v":""},{"$f":"IFERROR(VLOOKUP(B60,Equipos,3,0),\"\")","v":""}]

{"sheet":"Suizo32","index":3,"n_rows":116,"n_cols":18,"rows_kept":116,"cut":false,"hidden":false,"merged":[[0,1,0,7],[1,1,1,7],[3,1,3,7],[76,6,76,7],[47,1,47,7],[75,1,75,7],[61,1,61,7],[55,2,55,4],[48,6,48,7],[62,6,62,7],[5,1,5,7],[20,6,20,7],[34,6,34,7],[41,2,41,4],[4,2,4,6],[33,1,33,7],[122,2,122,4],[69,2,69,4],[89,1,89,7],[83,2,83,4],[116,2,116,4],[97,2,97,4],[111,2,111,4],[104,6,104,7],[103,1,103,7],[70,2,70,3],[71,2,71,3],[72,2,72,3],[73,2,73,3],[79,2,79,3],[80,2,80,3],[81,2,81,3],[13,2,13,4],[27,2,27,4],[6,6,6,7],[19,1,19,7],[90,6,90,7],[9,2,9,3],[10,2,10,3],[11,2,11,3],[14,2,14,3],[15,2,15,3],[16,2,16,3],[17,2,17,3],[23,2,23,3],[24,2,24,3],[25,2,25,3],[28,2,28,3],[29,2,29,3],[30,2,30,3],[31,2,31,3],[37,2,37,3],[38,2,38,3],[39,2,39,3],[42,2,42,3],[43,2,43,3],[44,2,44,3],[45,2,45,3],[51,2,51,3],[52,2,52,3],[53,2,53,3],[56,2,56,3],[57,2,57,3],[58,2,58,3],[59,2,59,3],[65,2,65,3],[66,2,66,3],[67,2,67,3],[84,2,84,3],[85,2,85,3],[100,2,100,3],[101,2,101,3],[107,2,107,3],[86,2,86,3],[87,2,87,3],[93,2,93,3],[94,2,94,3],[95,2,95,3],[115,2,115,3],[6,2,6,3],[20,2,20,3],[34,2,34,3],[48,2,48,3],[62,2,62,3],[76,2,76,3],[90,2,90,3],[104,2,104,3],[108,2,108,3],[109,2,109,3],[112,2,112,3],[113,2,113,3],[114,2,114,3],[98,2,98,3],[99,2,99,3]]}
[null,{"$f":"Participantes!B1","v":"CAMPEONATO DE ESPAÑA"},null,null,null,null,null,null,null,null,1,2,3,4,5,6,7,8]
[null,{"$f":"Participantes!B2","v":"DUPLETAS PRIMERA"}]
[]
[null,"1/16 de Final"]
[]
[null,"GRUPO 1"]
[null,"Pista","Número",null,{"$f":"Participantes!$C$6&\" 1\"","v":"EQUIPO 1"},{"$f":"Participantes!$C$6&\" 2\"","v":"EQUIPO 2"},"Resultado"]
[null,1,11,12,{"$f":"IFERROR(VLOOKUP(C8,Equipos,4,0),\"\")","v":""},{"$f":"IFERROR(VLOOKUP(D8,Equipos,4,0),\"\")","v":""}]
[null,2,13,14,{"$f":"IFERROR(VLOOKUP(C9,Equipos,4,0),\"\")","v":""},{"$f":"IFERROR(VLOOKUP(D9,Equipos,4,0),\"\")","v":""}]
[null,3,"Ganadores",null,{"$f":"IF(OR(G8=\"\",H8=\"\",G8=H8),\"\",IF(G8>H8,E8,F8))","v":""},{"$f":"IF(OR(G9=\"\",H9=\"\",G9=H9),\"\",IF(G9>H9,E9,F9))","v":""}]
[null,4,"Perdedores",null,{"$f":"IF(OR(G8=\"\",H8=\"\",G8=H8),\"\",IF(G8<H8,E8,F8))","v":""},{"$f":"IF(OR(G9=\"\",H9=\"\",G9=H9),\"\",IF(G9<H9,E9,F9))","v":""}]
[null,6,"Repesca",null,{"$f":"IF(OR(G10=\"\",H10=\"\",G10=H10),\"\",IF(G10<H10,E10,F10))","v":""},{"$f":"IF(OR(G11=\"\",H11=\"\",G11=H11),\"\",IF(G11>H11,E11,F11))","v":""}]
[]
[null,null,"Clasificación",null,null,"Ronda","Pase"]
[null,null,"Primero",null,{"$f":"IF(OR(G10=\"\",H10=\"\",G10=H10),\"\",IF(G10>H10,E10,F10))","v":""},"1/8 de Final",11,null,{"$f":"G15","v":11},{"$f":"E15","v":""}]
[null,null,"Segundo",null,{"$f":"IF(OR(G12=\"\",H12=\"\",G12=H12),\"\",IF(G12>H12,E12,F12))","v":""},"1/8 de Final",22,null,{"$f":"G16","v":22},{"$f":"E16","v":""}]
[null,null,"Tercero",null,{"$f":"IF(OR(G12=\"\",H12=\"\",G12=H12),\"\",IF(G12<H12,E12,F12))","v":""},"Puestos 17 al 21",51,null,51,{"$f":"E17","v":""}]
[null,null,"Cuarto",null,{"$f":"IF(OR(G11=\"\",H11=\"\",G11=H11),\"\",IF(G11<H11,E11,F11))","v":""},"Puestos 25 al 29",71,null,71,{"$f":"E18","v":""}]
[]
[null,"GRUPO 2"]
[null,"Pista","Número",null,{"$f":"Participantes!$C$6&\" 1\"","v":"EQUIPO 1"},{"$f":"Participantes!$C$6&\" 2\"","v":"EQUIPO 2"},"Resultado"]
[null,3,21,22,{"$f":"IFERROR(VLOOKUP(C22,Equipos,4,0),\"\")","v":""},{"$f":"IFERROR(VLOOKUP(D22,Equipos,4,0),\"\")","v":""}]
[null,4,23,24,{"$f":"IFERROR(VLOOKUP(C23,Equipos,4,0),\"\")","v":""},{"$f":"IFERROR(VLOOKUP(D23,Equipos,4,0),\"\")","v":""}]
[null,1,"Ganadores",null,{"$f":"IF(OR(G22=\"\",H22=\"\",G22=H22),\"\",IF(G22>H22,E22,F22))","v":""},{"$f":"IF(OR(G23=\"\",H23=\"\",G23=H23),\"\",IF(G23>H23,E23,F23))","v":""}]
[null,2,"Perdedores",null,{"$f":"IF(OR(G22=\"\",H22=\"\",G22=H22),\"\",IF(G22<H22,E22,F22))","v":""},{"$f":"IF(OR(G23=\"\",H23=\"\",G23=H23),\"\",IF(G23<H23,E23,F23))","v":""}]
[null,5,"Repesca",null,{"$f":"IF(OR(G24=\"\",H24=\"\",G24=H24),\"\",IF(G24<H24,E24,F24))","v":""},{"$f":"IF(OR(G25=\"\",H25=\"\",G25=H25),\"\",IF(G25>H25,E25,F25))","v":""}]
[]
[null,null,"Clasificación",null,null,"Ronda","Pase"]
[null,null,"Primero",null,{"$f":"IF(OR(G24=\"\",H24=\"\",G24=H24),\"\",IF(G24>H24,E24,F24))","v":""},"1/8 de Final",13,null,{"$f":"G29","v":13},{"$f":"E29","v":""}]
[null,null,"Segundo",null,{"$f":"IF(OR(G26=\"\",H26=\"\",G26=H26),\"\",IF(G26>H26,E26,F26))","v":""},"1/8 de Final",24,null,{"$f":"G30","v":24},{"$f":"E30","v":""}]
[null,null,"Tercero",null,{"$f":"IF(OR(G26=\"\",H26=\"\",G26=H26),\"\",IF(G26<H26,E26,F26))","v":""},"Puestos 17 al 21",52,null,{"$f":"G31","v":52},{"$f":"E31","v":""}]
[null,null,"Cuarto",null,{"$f":"IF(OR(G25=\"\",H25=\"\",G25=H25),\"\",IF(G25<H25,E25,F25))","v":""},"Puestos 25 al 29",72,null,{"$f":"G32","v":72},{"$f":"E32","v":""}]
[]
[null,"GRUPO 3"]
[null,"Pista","Número",null,{"$f":"Participantes!$C$6&\" 1\"","v":"EQUIPO 1"},{"$f":"Participantes!$C$6&\" 2\"","v":"EQUIPO 2"},"Resultado"]
[null,5,31,32,{"$f":"IFERROR(VLOOKUP(C36,Equipos,4,0),\"\")","v":""},{"$f":"IFERROR(VLOOKUP(D36,Equipos,4,0),\"\")","v":""}]
[null,6,33,34,{"$f":"IFERROR(VLOOKUP(C37,Equipos,4,0),\"\")","v":""},{"$f":"IFERROR(VLOOKUP(D37,Equipos,4,0),\"\")","v":""}]
[null,7,"Ganadores",null,{"$f":"IF(OR(G36=\"\",H36=\"\",G36=H36),\"\",IF(G36>H36,E36,F36))","v":""},{"$f":"IF(OR(G37=\"\",H37=\"\",G37=H37),\"\",IF(G37>H37,E37,F37))","v":""}]
[null,8,"Perdedores",null,{"$f":"IF(OR(G36=\"\",H36=\"\",G36=H36),\"\",IF(G36<H36,E36,F36))","v":""},{"$f":"IF(OR(G37=\"\",H37=\"\",G37=H37),\"\",IF(G37<H37,E37,F37))","v":""}]
[null,4,"Repesca",null,{"$f":"IF(OR(G38=\"\",H38=\"\",G38=H38),\"\",IF(G38<H38,E38,F38))","v":""},{"$f":"IF(OR(G39=\"\",H39=\"\",G39=H39),\"\",IF(G39>H39,E39,F39))","v":""}]
[]
[null,null,"Clasificación",null,null,"Ronda","Pase"]
[null,null,"Primero",null,{"$f":"IF(OR(G38=\"\",H38=\"\",G38=H38),\"\",IF(G38>H38,E38,F38))","v":""},"1/8 de Final",21,null,{"$f":"G43","v":21},{"$f":"E43","v":""}]
[null,null,"Segundo",null,{"$f":"IF(OR(G40=\"\",H40=\"\",G40=H40),\"\",IF(G40>H40,E40,F40))","v":""},"1/8 de Final",12,null,{"$f":"G44","v":12},{"$f":"E44","v":""}]
[null,null,"Tercero",null,{"$f":"IF(OR(G40=\"\",H40=\"\",G40=H40),\"\",IF(G40<H40,E40,F40))","v":""},"Puestos 17 al 21",53,null,{"$f":"G45","v":53},{"$f":"E45","v":""}]
[null,null,"Cuarto",null,{"$f":"IF(OR(G39=\"\",H39=\"\",G39=H39),\"\",IF(G39<H39,E39,F39))","v":""},"Puestos 25 al 29",73,null,{"$f":"G46","v":73},{"$f":"E46","v":""}]
[]
[null,"GRUPO 4"]
[null,"Pista","Número",null,{"$f":"Participantes!$C$6&\" 1\"","v":"EQUIPO 1"},{"$f":"Participantes!$C$6&\" 2\"","v":"EQUIPO 2"},"Resultado"]
[null,7,41,42,{"$f":"IFERROR(VLOOKUP(C50,Equipos,4,0),\"\")","v":""},{"$f":"IFERROR(VLOOKUP(D50,Equipos,4,0),\"\")","v":""}]
[null,8,43,44,{"$f":"IFERROR(VLOOKUP(C51,Equipos,4,0),\"\")","v":""},{"$f":"IFERROR(VLOOKUP(D51,Equipos,4,0),\"\")","v":""}]
[null,5,"Ganadores",null,{"$f":"IF(OR(G50=\"\",H50=\"\",G50=H50),\"\",IF(G50>H50,E50,F50))","v":""},{"$f":"IF(OR(G51=\"\",H51=\"\",G51=H51),\"\",IF(G51>H51,E51,F51))","v":""}]
[null,6,"Perdedores",null,{"$f":"IF(OR(G50=\"\",H50=\"\",G50=H50),\"\",IF(G50<H50,E50,F50))","v":""},{"$f":"IF(OR(G51=\"\",H51=\"\",G51=H51),\"\",IF(G51<H51,E51,F51))","v":""}]
[null,3,"Repesca",null,{"$f":"IF(OR(G52=\"\",H52=\"\",G52=H52),\"\",IF(G52<H52,E52,F52))","v":""},{"$f":"IF(OR(G53=\"\",H53=\"\",G53=H53),\"\",IF(G53>H53,E53,F53))","v":""}]
[]
[null,null,"Clasificación",null,null,"Ronda","Pase"]
[null,null,"Primero",null,{"$f":"IF(OR(G52=\"\",H52=\"\",G52=H52),\"\",IF(G52>H52,E52,F52))","v":""},"1/8 de Final",23,null,{"$f":"G57","v":23},{"$f":"E57","v":""}]
[null,null,"Segundo",null,{"$f":"IF(OR(G54=\"\",H54=\"\",G54=H54),\"\",IF(G54>H54,E54,F54))","v":""},"1/8 de Final",14,null,{"$f":"G58","v":14},{"$f":"E58","v":""}]
[null,null,"Tercero",null,{"$f":"IF(OR(G54=\"\",H54=\"\",G54=H54),\"\",IF(G54<H54,E54,F54))","v":""},"Puestos 17 al 21",54,null,{"$f":"G59","v":54},{"$f":"E59","v":""}]
[null,null,"Cuarto",null,{"$f":"IF(OR(G53=\"\",H53=\"\",G53=H53),\"\",IF(G53<H53,E53,F53))","v":""},"Puestos 25 al 29",74,null,{"$f":"G60","v":74},{"$f":"E60","v":""}]
[]
[null,"GRUPO 5"]
[null,"Pista","Número",null,{"$f":"Participantes!$C$6&\" 1\"","v":"EQUIPO 1"},{"$f":"Participantes!$C$6&\" 2\"","v":"EQUIPO 2"},"Resultado"]
[null,9,51,52,{"$f":"IFERROR(VLOOKUP(C64,Equipos,4,0),\"\")","v":""},{"$f":"IFERROR(VLOOKUP(D64,Equipos,4,0),\"\")","v":""}]
[null,10,53,54,{"$f":"IFERROR(VLOOKUP(C65,Equipos,4,0),\"\")","v":""},{"$f":"IFERROR(VLOOKUP(D65,Equipos,4,0),\"\")","v":""}]
[null,11,"Ganadores",null,{"$f":"IF(OR(G64=\"\",H64=\"\",G64=H64),\"\",IF(G64>H64,E64,F64))","v":""},{"$f":"IF(OR(G65=\"\",H65=\"\",G65=H65),\"\",IF(G65>H65,E65,F65))","v":""}]
[null,12,"Perdedores",null,{"$f":"IF(OR(G64=\"\",H64=\"\",G64=H64),\"\",IF(G64<H64,E64,F64))","v":""},{"$f":"IF(OR(G65=\"\",H65=\"\",G65=H65),\"\",IF(G65<H65,E65,F65))","v":""}]
[null,14,"Repesca",null,{"$f":"IF(OR(G66=\"\",H66=\"\",G66=H66),\"\",IF(G66<H66,E66,F66))","v":""},{"$f":"IF(OR(G67=\"\",H67=\"\",G67=H67),\"\",IF(G67>H67,E67,F67))","v":""}]
[]
[null,null,"Clasificación",null,null,"Ronda","Pase"]
[null,null,"Primero",null,{"$f":"IF(OR(G66=\"\",H66=\"\",G66=H66),\"\",IF(G66>H66,E66,F66))","v":""},"1/8 de Final",31,null,{"$f":"G71","v":31},{"$f":"E71","v":""}]
[null,null,"Segundo",null,{"$f":"IF(OR(G68=\"\",H68=\"\",G68=H68),\"\",IF(G68>H68,E68,F68))","v":""},"1/8 de Final",42,null,{"$f":"G72","v":42},{"$f":"E72","v":""}]
[null,null,"Tercero",null,{"$f":"IF(OR(G68=\"\",H68=\"\",G68=H68),\"\",IF(G68<H68,E68,F68))","v":""},"Puestos 17 al 21",55,null,{"$f":"G73","v":55},{"$f":"E73","v":""}]
[null,null,"Cuarto",null,{"$f":"IF(OR(G67=\"\",H67=\"\",G67=H67),\"\",IF(G67<H67,E67,F67))","v":""},"Puestos 25 al 29",75,null,{"$f":"G74","v":75},{"$f":"E74","v":""}]
[]
[null,"GRUPO 6"]
[null,"Pista","Número",null,{"$f":"Participantes!$C$6&\" 1\"","v":"EQUIPO 1"},{"$f":"Participantes!$C$6&\" 2\"","v":"EQUIPO 2"},"Resultado"]
[null,11,61,62,{"$f":"IFERROR(VLOOKUP(C78,Equipos,4,0),\"\")","v":""},{"$f":"IFERROR(VLOOKUP(D78,Equipos,4,0),\"\")","v":""}]
[null,12,63,64,{"$f":"IFERROR(VLOOKUP(C79,Equipos,4,0),\"\")","v":""},{"$f":"IFERROR(VLOOKUP(D79,Equipos,4,0),\"\")","v":""}]
[null,9,"Ganadores",null,{"$f":"IF(OR(G78=\"\",H78=\"\",G78=H78),\"\",IF(G78>H78,E78,F78))","v":""},{"$f":"IF(OR(G79=\"\",H79=\"\",G79=H79),\"\",IF(G79>H79,E79,F79))","v":""}]
[null,10,"Perdedores",null,{"$f":"IF(OR(G78=\"\",H78=\"\",G78=H78),\"\",IF(G78<H78,E78,F78))","v":""},{"$f":"IF(OR(G79=\"\",H79=\"\",G79=H79),\"\",IF(G79<H79,E79,F79))","v":""}]
[null,13,"Repesca",null,{"$f":"IF(OR(G80=\"\",H80=\"\",G80=H80),\"\",IF(G80<H80,E80,F80))","v":""},{"$f":"IF(OR(G81=\"\",H81=\"\",G81=H81),\"\",IF(G81>H81,E81,F81))","v":""}]
[]
[null,null,"Clasificación",null,null,"Ronda","Pase"]
[null,null,"Primero",null,{"$f":"IF(OR(G80=\"\",H80=\"\",G80=H80),\"\",IF(G80>H80,E80,F80))","v":""},"1/8 de Final",33,null,{"$f":"G85","v":33},{"$f":"E85","v":""}]
[null,null,"Segundo",null,{"$f":"IF(OR(G82=\"\",H82=\"\",G82=H82),\"\",IF(G82>H82,E82,F82))","v":""},"1/8 de Final",44,null,{"$f":"G86","v":44},{"$f":"E86","v":""}]
[null,null,"Tercero",null,{"$f":"IF(OR(G82=\"\",H82=\"\",G82=H82),\"\",IF(G82<H82,E82,F82))","v":""},"Puestos 17 al 21",56,null,{"$f":"G87","v":56},{"$f":"E87","v":""}]
[null,null,"Cuarto",null,{"$f":"IF(OR(G81=\"\",H81=\"\",G81=H81),\"\",IF(G81<H81,E81,F81))","v":""},"Puestos 25 al 29",76,null,{"$f":"G88","v":76},{"$f":"E88","v":""}]
[]
[null,"GRUPO 7"]
[null,"Pista","Número",null,{"$f":"Participantes!$C$6&\" 1\"","v":"EQUIPO 1"},{"$f":"Participantes!$C$6&\" 2\"","v":"EQUIPO 2"},"Resultado"]
[null,13,71,72,{"$f":"IFERROR(VLOOKUP(C92,Equipos,4,0),\"\")","v":""},{"$f":"IFERROR(VLOOKUP(D92,Equipos,4,0),\"\")","v":""}]
[null,14,73,74,{"$f":"IFERROR(VLOOKUP(C93,Equipos,4,0),\"\")","v":""},{"$f":"IFERROR(VLOOKUP(D93,Equipos,4,0),\"\")","v":""}]
[null,15,"Ganadores",null,{"$f":"IF(OR(G92=\"\",H92=\"\",G92=H92),\"\",IF(G92>H92,E92,F92))","v":""},{"$f":"IF(OR(G93=\"\",H93=\"\",G93=H93),\"\",IF(G93>H93,E93,F93))","v":""}]
[null,16,"Perdedores",null,{"$f":"IF(OR(G92=\"\",H92=\"\",G92=H92),\"\",IF(G92<H92,E92,F92))","v":""},{"$f":"IF(OR(G93=\"\",H93=\"\",G93=H93),\"\",IF(G93<H93,E93,F93))","v":""}]
[null,12,"Repesca",null,{"$f":"IF(OR(G94=\"\",H94=\"\",G94=H94),\"\",IF(G94<H94,E94,F94))","v":""},{"$f":"IF(OR(G95=\"\",H95=\"\",G95=H95),\"\",IF(G95>H95,E95,F95))","v":""}]
[]
[null,null,"Clasificación",null,null,"Ronda","Pase"]
[null,null,"Primero",null,{"$f":"IF(OR(G94=\"\",H94=\"\",G94=H94),\"\",IF(G94>H94,E94,F94))","v":""},"1/8 de Final",41,null,{"$f":"G99","v":41},{"$f":"E99","v":""}]
[null,null,"Segundo",null,{"$f":"IF(OR(G96=\"\",H96=\"\",G96=H96),\"\",IF(G96>H96,E96,F96))","v":""},"1/8 de Final",32,null,{"$f":"G100","v":32},{"$f":"E100","v":""}]
[null,null,"Tercero",null,{"$f":"IF(OR(G96=\"\",H96=\"\",G96=H96),\"\",IF(G96<H96,E96,F96))","v":""},"Puestos 17 al 21",57,null,{"$f":"G101","v":57},{"$f":"E101","v":""}]
[null,null,"Cuarto",null,{"$f":"IF(OR(G95=\"\",H95=\"\",G95=H95),\"\",IF(G95<H95,E95,F95))","v":""},"Puestos 25 al 29",77,null,{"$f":"G102","v":77},{"$f":"E102","v":""}]
[]
[null,"GRUPO 8"]
[null,"Pista","Número",null,{"$f":"Participantes!$C$6&\" 1\"","v":"EQUIPO 1"},{"$f":"Participantes!$C$6&\" 2\"","v":"EQUIPO 2"},"Resultado"]
[null,15,81,82,{"$f":"IFERROR(VLOOKUP(C106,Equipos,4,0),\"\")","v":""},{"$f":"IFERROR(VLOOKUP(D106,Equipos,4,0),\"\")","v":""}]
[null,16,83,84,{"$f":"IFERROR(VLOOKUP(C107,Equipos,4,0),\"\")","v":""},{"$f":"IFERROR(VLOOKUP(D107,Equipos,4,0),\"\")","v":""}]
[null,13,"Ganadores",null,{"$f":"IF(OR(G106=\"\",H106=\"\",G106=H106),\"\",IF(G106>H106,E106,F106))","v":""},{"$f":"IF(OR(G107=\"\",H107=\"\",G107=H107),\"\",IF(G107>H107,E107,F107))","v":""}]
[null,14,"Perdedores",null,{"$f":"IF(OR(G106=\"\",H106=\"\",G106=H106),\"\",IF(G106<H106,E106,F106))","v":""},{"$f":"IF(OR(G107=\"\",H107=\"\",G107=H107),\"\",IF(G107<H107,E107,F107))","v":""}]
[null,11,"Repesca",null,{"$f":"IF(OR(G108=\"\",H108=\"\",G108=H108),\"\",IF(G108<H108,E108,F108))","v":""},{"$f":"IF(OR(G109=\"\",H109=\"\",G109=H109),\"\",IF(G109>H109,E109,F109))","v":""}]
[]
[null,null,"Clasificación",null,null,"Ronda","Pase"]
[null,null,"Primero",null,{"$f":"IF(OR(G108=\"\",H108=\"\",G108=H108),\"\",IF(G108>H108,E108,F108))","v":""},"1/8 de Final",43,null,{"$f":"G113","v":43},{"$f":"E113","v":""}]
[null,null,"Segundo",null,{"$f":"IF(OR(G110=\"\",H110=\"\",G110=H110),\"\",IF(G110>H110,E110,F110))","v":""},"1/8 de Final",34,null,{"$f":"G114","v":34},{"$f":"E114","v":""}]
[null,null,"Tercero",null,{"$f":"IF(OR(G110=\"\",H110=\"\",G110=H110),\"\",IF(G110<H110,E110,F110))","v":""},"Puestos 17 al 21",58,null,{"$f":"G115","v":58},{"$f":"E115","v":""}]
[null,null,"Cuarto",null,{"$f":"IF(OR(G109=\"\",H109=\"\",G109=H109),\"\",IF(G109<H109,E109,F109))","v":""},"Puestos 25 al 29",78,null,{"$f":"G116","v":78},{"$f":"E116","v":""}]

{"sheet":"Puestos","index":4,"n_rows":40,"n_cols":10,"rows_kept":40,"cut":false,"hidden":false,"merged":[[39,2,39,3],[22,1,22,8],[3,1,3,8],[0,1,0,8],[1,1,1,8],[38,6,38,7],[5,2,5,3],[24,2,24,3],[13,2,13,3],[32,2,32,3],[20,2,20,3],[24,6,24,7],[30,1,30,7],[32,6,32,7],[36,1,36,7],[19,6,19,7],[5,6,5,7],[13,6,13,7],[11,1,11,7],[2,1,2,8],[17,1,17,7]]}
[null,{"$f":"Participantes!B1","v":"CAMPEONATO DE ESPAÑA"}]
[null,{"$f":"Participantes!B2","v":"DUPLETAS PRIMERA"}]
[null,"Puestos del 17 al 29"]
[null,"Puestos 25º al 29º"]
[]
[null,"Pista","Número",null,{"$f":"Participantes!$C$6&\" 1\"","v":"EQUIPO 1"},{"$f":"Participantes!$C$6&\" 2\"","v":"EQUIPO 2"},"Resultado",null,"Pase"]
[null,9,71,72,{"$f":"IFERROR(VLOOKUP(C7,Ronda32,2,0),\"Sin asignar\")","v":""},{"$f":"IFERROR(VLOOKUP(D7,Ronda32,2,0),\"Sin asignar\")","v":""},null,null,81,{"$f":"IF(OR(G7=\"\",H7=\"\",G7=H7),\"\",IF(G7>H7,E7,F7))","v":""}]
[null,10,73,74,"","",null,null,82,{"$f":"IF(OR(G8=\"\",H8=\"\",G8=H8),\"\",IF(G8>H8,E8,F8))","v":""}]
[null,7,75,76,"","",null,null,83,""]
[null,8,77,78,"","",null,null,84,""]
[]
[null,"Puestos 25º al 27º"]
[]
[null,"Pista","Número",null,{"$f":"Participantes!$C$6&\" 1\"","v":"EQUIPO 1"},{"$f":"Participantes!$C$6&\" 2\"","v":"EQUIPO 2"},"Resultado"]
[null,1,81,82,{"$f":"IFERROR(VLOOKUP(C15,Ronda25,2,0),\"Sin asignar\")","v":""},{"$f":"IFERROR(VLOOKUP(D15,Ronda25,2,0),\"Sin asignar\")","v":""}]
[null,16,83,84,{"$f":"IFERROR(VLOOKUP(C16,Ronda25,2,0),\"Sin asignar\")","v":""},{"$f":"IFERROR(VLOOKUP(D16,Ronda25,2,0),\"Sin asignar\")","v":""}]
[]
[null,"Puestos 25º y 26º"]
[]
[null,"Pista",null,null,{"$f":"Participantes!$C$6&\" 1\"","v":"EQUIPO 1"},{"$f":"Participantes!$C$6&\" 2\"","v":"EQUIPO 2"},"Resultado"]
[null,"8-9","Ganadores",null,{"$f":"IF(OR(G15=\"\",H15=\"\",G15=H15),\"\",IF((G15>H15),E15,F15))","v":""},{"$f":"IF(OR(G16=\"\",H16=\"\",G16=H16),\"\",IF((G16>H16),E16,F16))","v":""}]
[]
[null,"Puestos 17º al 21º"]
[]
[null,"Pista","Número",null,{"$f":"Participantes!$C$6&\" 1\"","v":"EQUIPO 1"},{"$f":"Participantes!$C$6&\" 2\"","v":"EQUIPO 2"},"Resultado",null,"Pase"]
[null,9,51,52,{"$f":"IFERROR(VLOOKUP(C26,Ronda32,2,0),\"Sin asignar\")","v":""},"",null,null,61,{"$f":"IF(OR(G26=\"\",H26=\"\",G26=H26),\"\",IF(G26>H26,E26,F26))","v":""}]
[null,10,53,54,"","",null,null,62,""]
[null,7,55,56,"","",null,null,63,""]
[null,8,57,58,"","",null,null,64,""]
[]
[null,"Puestos 17º al 19º"]
[]
[null,"Pista","Número",null,{"$f":"Participantes!$C$6&\" 1\"","v":"EQUIPO 1"},{"$f":"Participantes!$C$6&\" 2\"","v":"EQUIPO 2"},"Resultado"]
[null,1,61,62,{"$f":"IFERROR(VLOOKUP(C34,Ronda17,2,0),\"Sin asignar\")","v":""},{"$f":"IFERROR(VLOOKUP(D34,Ronda17,2,0),\"Sin asignar\")","v":""}]
[null,16,63,64,{"$f":"IFERROR(VLOOKUP(C35,Ronda17,2,0),\"Sin asignar\")","v":""},{"$f":"IFERROR(VLOOKUP(D35,Ronda17,2,0),\"Sin asignar\")","v":""}]
[]
[null,"Puestos 17º al 18º"]
[]
[null,"Pista",null,null,{"$f":"Participantes!$C$6&\" 1\"","v":"EQUIPO 1"},{"$f":"Participantes!$C$6&\" 2\"","v":"EQUIPO 2"},"Resultado"]
[null,"8-9","Ganadores",null,{"$f":"IF(OR(G34=\"\",H34=\"\",G34=H34),\"\",IF((G34>H34),E34,F34))","v":""},{"$f":"IF(OR(G35=\"\",H35=\"\",G35=H35),\"\",IF((G35>H35),E35,F35))","v":""}]

{"sheet":"Suizo16","index":5,"n_rows":60,"n_cols":14,"rows_kept":60,"cut":false,"hidden":false,"merged":[[0,1,0,7],[1,1,1,7],[3,1,3,7],[4,2,4,6],[19,1,19,7],[6,6,6,7],[17,2,17,3],[14,2,14,3],[5,1,5,7],[48,6,48,7],[6,2,6,3],[9,2,9,3],[10,2,10,3],[11,2,11,3],[13,2,13,4],[15,2,15,3],[16,2,16,3],[47,1,47,7],[20,6,20,7],[20,2,20,3],[23,2,23,3],[24,2,24,3],[28,2,28,3],[25,2,25,3],[27,2,27,4],[29,2,29,3],[30,2,30,3],[31,2,31,3],[34,2,34,3],[37,2,37,3],[33,1,33,7],[34,6,34,7],[38,2,38,3],[39,2,39,3],[41,2,41,4],[42,2,42,3],[43,2,43,3],[44,2,44,3],[45,2,45,3],[48,2,48,3],[51,2,51,3],[58,2,58,3],[59,2,59,3],[52,2,52,3],[53,2,53,3],[55,2,55,4],[56,2,56,3],[57,2,57,3]]}
[null,{"$f":"Participantes!B1","v":"CAMPEONATO DE ESPAÑA"},null,null,null,null,null,null,null,null,1,2,3,4]
[null,{"$f":"Participantes!B2","v":"DUPLETAS PRIMERA"}]
[]
[null,"1/8 de Final"]
[]
[null,"GRUPO 1"]
[null,"Pista","Número",null,{"$f":"Participantes!$C$6&\" 1\"","v":"EQUIPO 1"},{"$f":"Participantes!$C$6&\" 2\"","v":"EQUIPO 2"},"Resultado"]
[null,11,11,12,{"$f":"IFERROR(VLOOKUP(C8,Ronda32,2,0),\"Sin asignar\")","v":""},{"$f":"IFERROR(VLOOKUP(D8,Ronda32,2,0),\"Sin asignar\")","v":""}]
[null,12,13,14,{"$f":"IFERROR(VLOOKUP(C9,Ronda32,2,0),\"Sin asignar\")","v":""},{"$f":"IFERROR(VLOOKUP(D9,Ronda32,2,0),\"Sin asignar\")","v":""}]
[null,13,"Ganadores",null,{"$f":"IF(OR(G8=\"\",H8=\"\",G8=H8),\"\",IF(G8>H8,E8,F8))","v":""},{"$f":"IF(OR(G9=\"\",H9=\"\",G9=H9),\"\",IF(G9>H9,E9,F9))","v":""}]
[null,14,"Perdedores",null,{"$f":"IF(OR(G8=\"\",H8=\"\",G8=H8),\"\",IF(G8<H8,E8,F8))","v":""},{"$f":"IF(OR(G9=\"\",H9=\"\",G9=H9),\"\",IF(G9<H9,E9,F9))","v":""}]
[null,15,"Repesca",null,{"$f":"IF(OR(G10=\"\",H10=\"\",G10=H10),\"\",IF(G10<H10,E10,F10))","v":""},{"$f":"IF(OR(G11=\"\",H11=\"\",G11=H11),\"\",IF(G11>H11,E11,F11))","v":""}]
[]
[null,null,"Clasificación",null,null,"Ronda","Pase"]
[null,null,"Primero",null,{"$f":"IF(OR(G10=\"\",H10=\"\",G10=H10),\"\",IF(G10>H10,E10,F10))","v":""},"1/4 de Final",1,null,{"$f":"G15","v":1},{"$f":"E15","v":""}]
[null,null,"Segundo",null,{"$f":"IF(OR(G12=\"\",H12=\"\",G12=H12),\"\",IF(G12>H12,E12,F12))","v":""},"1/4 de Final",8,null,{"$f":"G16","v":8},{"$f":"E16","v":""}]
[null,null,"Tercero",null,{"$f":"IF(OR(G12=\"\",H12=\"\",G12=H12),\"\",IF(G12<H12,E12,F12))","v":""},"9º Puesto ex aequo"]
[null,null,"Cuarto",null,{"$f":"IF(OR(G11=\"\",H11=\"\",G11=H11),\"\",IF(G11<H11,E11,F11))","v":""},"13º Puesto ex aequo"]
[]
[null,"GRUPO 2"]
[null,"Pista","Número",null,{"$f":"Participantes!$C$6&\" 1\"","v":"EQUIPO 1"},{"$f":"Participantes!$C$6&\" 2\"","v":"EQUIPO 2"},"Resultado"]
[null,13,21,22,{"$f":"IFERROR(VLOOKUP(C22,Ronda32,2,0),\"Sin asignar\")","v":""},{"$f":"IFERROR(VLOOKUP(D22,Ronda32,2,0),\"Sin asignar\")","v":""}]
[null,14,23,24,{"$f":"IFERROR(VLOOKUP(C23,Ronda32,2,0),\"Sin asignar\")","v":""},{"$f":"IFERROR(VLOOKUP(D23,Ronda32,2,0),\"Sin asignar\")","v":""}]
[null,11,"Ganadores",{"$f":"IF(OR(G22=\"\",H22=\"\"),\"\",IF(G22>H22,D22,F22))","v":""},{"$f":"IF(OR(G22=\"\",H22=\"\",G22=H22),\"\",IF(G22>H22,E22,F22))","v":""},{"$f":"IF(OR(G23=\"\",H23=\"\",G23=H23),\"\",IF(G23>H23,E23,F23))","v":""}]
[null,12,"Perdedores",{"$f":"IF(OR(G22=\"\",H22=\"\"),\"\",IF(G22<H22,D22,F22))","v":""},{"$f":"IF(OR(G22=\"\",H22=\"\",G22=H22),\"\",IF(G22<H22,E22,F22))","v":""},{"$f":"IF(OR(G23=\"\",H23=\"\",G23=H23),\"\",IF(G23<H23,E23,F23))","v":""}]
[null,10,"Repesca",{"$f":"IF(OR(G24=\"\",H24=\"\"),\"\",IF(G24<H24,D24,F24))","v":""},{"$f":"IF(OR(G24=\"\",H24=\"\",G24=H24),\"\",IF(G24<H24,E24,F24))","v":""},{"$f":"IF(OR(G25=\"\",H25=\"\",G25=H25),\"\",IF(G25>H25,E25,F25))","v":""}]
[]
[null,null,"Clasificación",null,"Posición siguiente eliminatoria","Ronda","Pase"]
[null,null,"Primero",null,{"$f":"IF(OR(G24=\"\",H24=\"\",G24=H24),\"\",IF(G24>H24,E24,F24))","v":""},"1/4 de Final",5,null,{"$f":"G29","v":5},{"$f":"E29","v":""}]
[null,null,"Segundo",null,{"$f":"IF(OR(G26=\"\",H26=\"\",G26=H26),\"\",IF(G26>H26,E26,F26))","v":""},"1/4 de Final",4,null,{"$f":"G30","v":4},{"$f":"E30","v":""}]
[null,null,"Tercero",null,{"$f":"IF(OR(G26=\"\",H26=\"\",G26=H26),\"\",IF(G26<H26,E26,F26))","v":""},"9º Puesto ex aequo"]
[null,null,"Cuarto",null,{"$f":"IF(OR(G25=\"\",H25=\"\",G25=H25),\"\",IF(G25<H25,E25,F25))","v":""},"13º Puesto ex aequo"]
[]
[null,"GRUPO 3"]
[null,"Pista","Número",null,{"$f":"Participantes!$C$6&\" 1\"","v":"EQUIPO 1"},{"$f":"Participantes!$C$6&\" 2\"","v":"EQUIPO 2"},"Resultado"]
[null,3,31,32,{"$f":"IFERROR(VLOOKUP(C36,Ronda32,2,0),\"Sin asignar\")","v":""},{"$f":"IFERROR(VLOOKUP(D36,Ronda32,2,0),\"Sin asignar\")","v":""}]
[null,4,33,34,{"$f":"IFERROR(VLOOKUP(C37,Ronda32,2,0),\"Sin asignar\")","v":""},{"$f":"IFERROR(VLOOKUP(D37,Ronda32,2,0),\"Sin asignar\")","v":""}]
[null,5,"Ganadores",{"$f":"IF(OR(G36=\"\",H36=\"\"),\"\",IF(G36>H36,D36,F36))","v":""},{"$f":"IF(OR(G36=\"\",H36=\"\",G36=H36),\"\",IF(G36>H36,E36,F36))","v":""},{"$f":"IF(OR(G37=\"\",H37=\"\",G37=H37),\"\",IF(G37>H37,E37,F37))","v":""}]
[null,6,"Perdedores",{"$f":"IF(OR(G36=\"\",H36=\"\"),\"\",IF(G36<H36,D36,F36))","v":""},{"$f":"IF(OR(G36=\"\",H36=\"\",G36=H36),\"\",IF(G36<H36,E36,F36))","v":""},{"$f":"IF(OR(G37=\"\",H37=\"\",G37=H37),\"\",IF(G37<H37,E37,F37))","v":""}]
[null,7,"Repesca",{"$f":"IF(OR(G38=\"\",H38=\"\"),\"\",IF(G38<H38,D38,F38))","v":""},{"$f":"IF(OR(G38=\"\",H38=\"\",G38=H38),\"\",IF(G38<H38,E38,F38))","v":""},{"$f":"IF(OR(G39=\"\",H39=\"\",G39=H39),\"\",IF(G39>H39,E39,F39))","v":""}]
[]
[null,null,"Clasificación",null,"Posición siguiente eliminatoria","Ronda","Pase"]
[null,null,"Primero",null,{"$f":"IF(OR(G38=\"\",H38=\"\",G38=H38),\"\",IF(G38>H38,E38,F38))","v":""},"1/4 de Final",3,null,{"$f":"G43","v":3},{"$f":"E43","v":""}]
[null,null,"Segundo",null,{"$f":"IF(OR(G40=\"\",H40=\"\",G40=H40),\"\",IF(G40>H40,E40,F40))","v":""},"1/4 de Final",6,null,{"$f":"G44","v":6},{"$f":"E44","v":""}]
[null,null,"Tercero",null,{"$f":"IF(OR(G40=\"\",H40=\"\",G40=H40),\"\",IF(G40<H40,E40,F40))","v":""},"9º Puesto ex aequo"]
[null,null,"Cuarto",null,{"$f":"IF(OR(G39=\"\",H39=\"\",G39=H39),\"\",IF(G39<H39,E39,F39))","v":""},"13º Puesto ex aequo"]
[]
[null,"GRUPO 4"]
[null,"Pista","Número",null,{"$f":"Participantes!$C$6&\" 1\"","v":"EQUIPO 1"},{"$f":"Participantes!$C$6&\" 2\"","v":"EQUIPO 2"},"Resultado"]
[null,5,41,42,{"$f":"IFERROR(VLOOKUP(C50,Ronda32,2,0),\"Sin asignar\")","v":""},{"$f":"IFERROR(VLOOKUP(D50,Ronda32,2,0),\"Sin asignar\")","v":""}]
[null,6,43,44,{"$f":"IFERROR(VLOOKUP(C51,Ronda32,2,0),\"Sin asignar\")","v":""},{"$f":"IFERROR(VLOOKUP(D51,Ronda32,2,0),\"Sin asignar\")","v":""}]
[null,3,"Ganadores",{"$f":"IF(OR(G50=\"\",H50=\"\"),\"\",IF(G50>H50,D50,F50))","v":""},{"$f":"IF(OR(G50=\"\",H50=\"\",G50=H50),\"\",IF(G50>H50,E50,F50))","v":""},{"$f":"IF(OR(G51=\"\",H51=\"\",G51=H51),\"\",IF(G51>H51,E51,F51))","v":""}]
[null,4,"Perdedores",{"$f":"IF(OR(G50=\"\",H50=\"\"),\"\",IF(G50<H50,D50,F50))","v":""},{"$f":"IF(OR(G50=\"\",H50=\"\",G50=H50),\"\",IF(G50<H50,E50,F50))","v":""},{"$f":"IF(OR(G51=\"\",H51=\"\",G51=H51),\"\",IF(G51<H51,E51,F51))","v":""}]
[null,2,"Repesca",{"$f":"IF(OR(G52=\"\",H52=\"\"),\"\",IF(G52<H52,D52,F52))","v":""},{"$f":"IF(OR(G52=\"\",H52=\"\",G52=H52),\"\",IF(G52<H52,E52,F52))","v":""},{"$f":"IF(OR(G53=\"\",H53=\"\",G53=H53),\"\",IF(G53>H53,E53,F53))","v":""}]
[]
[null,null,"Clasificación",null,"Posición siguiente eliminatoria","Ronda","Pase"]
[null,null,"Primero",null,{"$f":"IF(OR(G52=\"\",H52=\"\",G52=H52),\"\",IF(G52>H52,E52,F52))","v":""},"1/4 de Final",7,null,{"$f":"G57","v":7},{"$f":"E57","v":""}]
[null,null,"Segundo",null,{"$f":"IF(OR(G54=\"\",H54=\"\",G54=H54),\"\",IF(G54>H54,E54,F54))","v":""},"1/4 de Final",2,null,{"$f":"G58","v":2},{"$f":"E58","v":""}]
[null,null,"Tercero",null,{"$f":"IF(OR(G54=\"\",H54=\"\",G54=H54),\"\",IF(G54<H54,E54,F54))","v":""},"9º Puesto ex aequo"]
[null,null,"Cuarto",null,{"$f":"IF(OR(G53=\"\",H53=\"\",G53=H53),\"\",IF(G53<H53,E53,F53))","v":""},"13º Puesto ex aequo"]

{"sheet":"KO8","index":6,"n_rows":21,"n_cols":10,"rows_kept":21,"cut":false,"hidden":false,"merged":[[20,2,20,3],[13,2,13,3],[0,1,0,8],[1,1,1,8],[3,1,3,8],[11,1,11,7],[5,2,5,3],[17,1,17,7],[19,6,19,7],[5,6,5,7],[13,6,13,7]]}
[null,{"$f":"Participantes!B1","v":"CAMPEONATO DE ESPAÑA"}]
[null,{"$f":"Participantes!B2","v":"DUPLETAS PRIMERA"}]
[]
[null,"1/4 de Final"]
[]
[null,"Pista","Número",null,{"$f":"Participantes!$C$6&\" 1\"","v":"EQUIPO 1"},{"$f":"Participantes!$C$6&\" 2\"","v":"EQUIPO 2"},"Resultado",null,"Pase"]
[null,2,1,2,{"$f":"IFERROR(VLOOKUP(C7,Ronda16,2,0),\"Sin asignar\")","v":""},"",null,null,9,{"$f":"IF(OR(G7=\"\",H7=\"\",G7=H7),\"\",IF(G7>H7,E7,F7))","v":""}]
[null,3,3,4,"","",null,null,10,{"$f":"IF(OR(G8=\"\",H8=\"\",G8=H8),\"\",IF(G8>H8,E8,F8))","v":""}]
[null,4,5,6,"","",null,null,11,""]
[null,5,7,8,"","",null,null,12,""]
[]
[null,"SEMIFINALES"]
[]
[null,"Pista","Número",null,{"$f":"Participantes!$C$6&\" 1\"","v":"EQUIPO 1"},{"$f":"Participantes!$C$6&\" 2\"","v":"EQUIPO 2"},"Resultado"]
[null,4,9,10,{"$f":"IFERROR(VLOOKUP(C15,Ronda8,2,0),\"Sin asignar\")","v":""},{"$f":"IFERROR(VLOOKUP(D15,Ronda8,2,0),\"Sin asignar\")","v":""}]
[null,3,11,12,{"$f":"IFERROR(VLOOKUP(C16,Ronda8,2,0),\"Sin asignar\")","v":""},{"$f":"IFERROR(VLOOKUP(D16,Ronda8,2,0),\"Sin asignar\")","v":""}]
[]
[null,"FINAL"]
[]
[null,"Pista",null,null,{"$f":"Participantes!$C$6&\" 1\"","v":"EQUIPO 1"},{"$f":"Participantes!$C$6&\" 2\"","v":"EQUIPO 2"},"Resultado"]
[null,1,"Ganadores",null,{"$f":"IF(OR(G15=\"\",H15=\"\",G15=H15),\"\",IF(G15>H15,E15,F15))","v":""},{"$f":"IF(OR(G16=\"\",H16=\"\",G16=H16),\"\",IF(G16>H16,E16,F16))","v":""}]

{"sheet":"Clasificación","index":7,"n_rows":38,"n_cols":7,"rows_kept":38,"cut":false,"hidden":false,"merged":[[0,1,0,4],[35,1,37,1],[3,1,3,4],[11,1,13,1],[15,1,17,1],[19,1,21,1],[27,1,29,1],[1,1,1,4]]}
[null,{"$f":"Participantes!B1","v":"CAMPEONATO DE ESPAÑA"}]
[null,{"$f":"Participantes!B2","v":"DUPLETAS PRIMERA"}]
[]
[null,"CLASIFICACION FINAL"]
[]
[null,"PUESTO",null,{"$f":"Participantes!C6","v":"EQUIPO"},{"$f":"Participantes!D6","v":"FEDERACIÓN"}]
[null,"CAMPEÓN",{"$f":"IF(OR('KO8'!G21=\"\",'KO8'!H21=\"\"),\"\",IF('KO8'!H21>'KO8'!G21,'KO8'!F21,'KO8'!E21))","v":""},{"$f":"IF(C7=\"\",\"\",VLOOKUP(C7,equipos2,2,0))","v":""},{"$f":"IF(D7=\"\",\"\",VLOOKUP(D7,Equipos3,2,0))","v":""},null,"=BUSCARV(E7;equipos2;3;0)"]
[null,"SUBCAMPEÓN",{"$f":"IF(OR('KO8'!G21=\"\",'KO8'!H21=\"\"),\"\",IF('KO8'!H21<'KO8'!G21,'KO8'!F21,'KO8'!E21))","v":""},"","",{"$f":"IF(OR('KO8'!G22=\"\",'KO8'!H22=\"\"),\"\",IF('KO8'!H22>'KO8'!G22,'KO8'!F22,'KO8'!E22))","v":""}]
[null,"TERCEROS",{"$f":"IF(OR('KO8'!G15=\"\",'KO8'!H15=\"\"),\"\",IF('KO8'!H15<'KO8'!G15,'KO8'!F15,'KO8'!E15))","v":""},"","",{"$f":"IF(OR('KO8'!G23=\"\",'KO8'!H23=\"\"),\"\",IF('KO8'!H23>'KO8'!G23,'KO8'!F23,'KO8'!E23))","v":""}]
[null,null,{"$f":"IF(OR('KO8'!G16=\"\",'KO8'!H16=\"\"),\"\",IF('KO8'!H16<'KO8'!G16,'KO8'!F16,'KO8'!E16))","v":""},"","",{"$f":"IF(OR('KO8'!G24=\"\",'KO8'!H24=\"\"),\"\",IF('KO8'!H24>'KO8'!G24,'KO8'!F24,'KO8'!E24))","v":""}]
[null,"5º",{"$f":"IF(OR('KO8'!G7=\"\",'KO8'!H7=\"\"),\"\",IF('KO8'!H7<'KO8'!G7,'KO8'!F7,'KO8'!E7))","v":""},"","",{"$f":"IF(OR('KO8'!G25=\"\",'KO8'!H25=\"\"),\"\",IF('KO8'!H25>'KO8'!G25,'KO8'!F25,'KO8'!E25))","v":""}]
[null,null,{"$f":"IF(OR('KO8'!G8=\"\",'KO8'!H8=\"\"),\"\",IF('KO8'!H8<'KO8'!G8,'KO8'!F8,'KO8'!E8))","v":""},"","",{"$f":"IF(OR('KO8'!G26=\"\",'KO8'!H26=\"\"),\"\",IF('KO8'!H26>'KO8'!G26,'KO8'!F26,'KO8'!E26))","v":""}]
[null,null,{"$f":"IF(OR('KO8'!G9=\"\",'KO8'!H9=\"\"),\"\",IF('KO8'!H9<'KO8'!G9,'KO8'!F9,'KO8'!E9))","v":""},"","",{"$f":"IF(OR('KO8'!G27=\"\",'KO8'!H27=\"\"),\"\",IF('KO8'!H27>'KO8'!G27,'KO8'!F27,'KO8'!E27))","v":""}]
[null,null,{"$f":"IF(OR('KO8'!G10=\"\",'KO8'!H10=\"\"),\"\",IF('KO8'!H10<'KO8'!G10,'KO8'!F10,'KO8'!E10))","v":""},"","",{"$f":"IF(OR('KO8'!G28=\"\",'KO8'!H28=\"\"),\"\",IF('KO8'!H28>'KO8'!G28,'KO8'!F28,'KO8'!E28))","v":""}]
[null,"9º",{"$f":"IF(Suizo16!E17=\"\",\"\",Suizo16!E17)","v":""},"","",{"$f":"IF(OR('KO8'!G29=\"\",'KO8'!H29=\"\"),\"\",IF('KO8'!H29>'KO8'!G29,'KO8'!F29,'KO8'!E29))","v":""}]
[null,null,{"$f":"IF(Suizo16!E31=\"\",\"\",Suizo16!E31)","v":""},"","",{"$f":"IF(OR('KO8'!G30=\"\",'KO8'!H30=\"\"),\"\",IF('KO8'!H30>'KO8'!G30,'KO8'!F30,'KO8'!E30))","v":""}]
[null,null,{"$f":"IF(Suizo16!E45=\"\",\"\",Suizo16!E45)","v":""},"","",{"$f":"IF(OR('KO8'!G31=\"\",'KO8'!H31=\"\"),\"\",IF('KO8'!H31>'KO8'!G31,'KO8'!F31,'KO8'!E31))","v":""}]
[null,null,{"$f":"IF(Suizo16!E59=\"\",\"\",Suizo16!E59)","v":""},"","",{"$f":"IF(OR('KO8'!G32=\"\",'KO8'!H32=\"\"),\"\",IF('KO8'!H32>'KO8'!G32,'KO8'!F32,'KO8'!E32))","v":""}]
[null,"13º",{"$f":"IF(Suizo16!E18=\"\",\"\",Suizo16!E18)","v":""},"","",{"$f":"IF(OR('KO8'!G33=\"\",'KO8'!H33=\"\"),\"\",IF('KO8'!H33>'KO8'!G33,'KO8'!F33,'KO8'!E33))","v":""}]
[null,null,{"$f":"IF(Suizo16!E32=\"\",\"\",Suizo16!E32)","v":""},"","",{"$f":"IF(OR('KO8'!G34=\"\",'KO8'!H34=\"\"),\"\",IF('KO8'!H34>'KO8'!G34,'KO8'!F34,'KO8'!E34))","v":""}]
[null,null,{"$f":"IF(Suizo16!E46=\"\",\"\",Suizo16!E46)","v":""},"","",{"$f":"IF(OR('KO8'!G35=\"\",'KO8'!H35=\"\"),\"\",IF('KO8'!H35>'KO8'!G35,'KO8'!F35,'KO8'!E35))","v":""}]
[null,null,{"$f":"IF(Suizo16!E60=\"\",\"\",Suizo16!E60)","v":""},"","",{"$f":"IF(OR('KO8'!G36=\"\",'KO8'!H36=\"\"),\"\",IF('KO8'!H36>'KO8'!G36,'KO8'!F36,'KO8'!E36))","v":""}]
[null,"17º",{"$f":"IF(OR(Puestos!G40=\"\",Puestos!H40=\"\"),\"\",IF(Puestos!H40>Puestos!G40,Puestos!F40,Puestos!E40))","v":""},"","",{"$f":"IF(OR('KO8'!G37=\"\",'KO8'!H37=\"\"),\"\",IF('KO8'!H37>'KO8'!G37,'KO8'!F37,'KO8'!E37))","v":""}]
[null,"18º",{"$f":"IF(OR(Puestos!G40=\"\",Puestos!H40=\"\"),\"\",IF(Puestos!H40<Puestos!G40,Puestos!F40,Puestos!E40))","v":""},"","",{"$f":"IF(OR('KO8'!G38=\"\",'KO8'!H38=\"\"),\"\",IF('KO8'!H38>'KO8'!G38,'KO8'!F38,'KO8'!E38))","v":""}]
[null,"19º",{"$f":"IF(OR(Puestos!G34=\"\",Puestos!H34=\"\"),\"\",IF(Puestos!H34<Puestos!G34,Puestos!F34,Puestos!E34))","v":""},"","",{"$f":"IF(OR('KO8'!G39=\"\",'KO8'!H39=\"\"),\"\",IF('KO8'!H39>'KO8'!G39,'KO8'!F39,'KO8'!E39))","v":""}]
[null,null,{"$f":"IF(OR(Puestos!G35=\"\",Puestos!H35=\"\"),\"\",IF(Puestos!H35<Puestos!G35,Puestos!F35,Puestos!E35))","v":""},"","",{"$f":"IF(OR('KO8'!G40=\"\",'KO8'!H40=\"\"),\"\",IF('KO8'!H40>'KO8'!G40,'KO8'!F40,'KO8'!E40))","v":""}]
[null,"21º",{"$f":"IF(OR(Puestos!G26=\"\",Puestos!H26=\"\"),\"\",IF(Puestos!H26<Puestos!G26,Puestos!F26,Puestos!E26))","v":""},"","",{"$f":"IF(OR('KO8'!G41=\"\",'KO8'!H41=\"\"),\"\",IF('KO8'!H41>'KO8'!G41,'KO8'!F41,'KO8'!E41))","v":""}]
[null,null,{"$f":"IF(OR(Puestos!G27=\"\",Puestos!H27=\"\"),\"\",IF(Puestos!H27<Puestos!G27,Puestos!F27,Puestos!E27))","v":""},"","",{"$f":"IF(OR('KO8'!G42=\"\",'KO8'!H42=\"\"),\"\",IF('KO8'!H42>'KO8'!G42,'KO8'!F42,'KO8'!E42))","v":""}]
[null,null,{"$f":"IF(OR(Puestos!G28=\"\",Puestos!H28=\"\"),\"\",IF(Puestos!H28<Puestos!G28,Puestos!F28,Puestos!E28))","v":""},"","",{"$f":"IF(OR('KO8'!G43=\"\",'KO8'!H43=\"\"),\"\",IF('KO8'!H43>'KO8'!G43,'KO8'!F43,'KO8'!E43))","v":""}]
[null,null,{"$f":"IF(OR(Puestos!G29=\"\",Puestos!H29=\"\"),\"\",IF(Puestos!H29<Puestos!G29,Puestos!F29,Puestos!E29))","v":""},"","",{"$f":"IF(OR('KO8'!G44=\"\",'KO8'!H44=\"\"),\"\",IF('KO8'!H44>'KO8'!G44,'KO8'!F44,'KO8'!E44))","v":""}]
[null,"25º",{"$f":"IF(OR(Puestos!G21=\"\",Puestos!H21=\"\"),\"\",IF(Puestos!H21>Puestos!G21,Puestos!F21,Puestos!E21))","v":""},"","",{"$f":"IF(OR('KO8'!G45=\"\",'KO8'!H45=\"\"),\"\",IF('KO8'!H45>'KO8'!G45,'KO8'!F45,'KO8'!E45))","v":""}]
[null,"26º",{"$f":"IF(OR(Puestos!G21=\"\",Puestos!H21=\"\"),\"\",IF(Puestos!H21<Puestos!G21,Puestos!F21,Puestos!E21))","v":""},"","",{"$f":"IF(OR('KO8'!G46=\"\",'KO8'!H46=\"\"),\"\",IF('KO8'!H46>'KO8'!G46,'KO8'!F46,'KO8'!E46))","v":""}]
[null,"27º",{"$f":"IF(OR(Puestos!G15=\"\",Puestos!H15=\"\"),\"\",IF(Puestos!H15<Puestos!G15,Puestos!F15,Puestos!E15))","v":""},"","",{"$f":"IF(OR('KO8'!G47=\"\",'KO8'!H47=\"\"),\"\",IF('KO8'!H47>'KO8'!G47,'KO8'!F47,'KO8'!E47))","v":""}]
[null,null,{"$f":"IF(OR(Puestos!G16=\"\",Puestos!H16=\"\"),\"\",IF(Puestos!H16<Puestos!G16,Puestos!F16,Puestos!E16))","v":""},"","",{"$f":"IF(OR('KO8'!G48=\"\",'KO8'!H48=\"\"),\"\",IF('KO8'!H48>'KO8'!G48,'KO8'!F48,'KO8'!E48))","v":""}]
[null,"29º",{"$f":"IF(OR(Puestos!G7=\"\",Puestos!H7=\"\"),\"\",IF(Puestos!H7<Puestos!G7,Puestos!F7,Puestos!E7))","v":""},"","",{"$f":"IF(OR('KO8'!G49=\"\",'KO8'!H49=\"\"),\"\",IF('KO8'!H49>'KO8'!G49,'KO8'!F49,'KO8'!E49))","v":""}]
[null,null,{"$f":"IF(OR(Puestos!G8=\"\",Puestos!H8=\"\"),\"\",IF(Puestos!H8<Puestos!G8,Puestos!F8,Puestos!E8))","v":""},"","",{"$f":"IF(OR('KO8'!G50=\"\",'KO8'!H50=\"\"),\"\",IF('KO8'!H50>'KO8'!G50,'KO8'!F50,'KO8'!E50))","v":""}]
[null,null,{"$f":"IF(OR(Puestos!G9=\"\",Puestos!H9=\"\"),\"\",IF(Puestos!H9<Puestos!G9,Puestos!F9,Puestos!E9))","v":""},"","",{"$f":"IF(OR('KO8'!G51=\"\",'KO8'!H51=\"\"),\"\",IF('KO8'!H51>'KO8'!G51,'KO8'!F51,'KO8'!E51))","v":""}]
[null,null,{"$f":"IF(OR(Puestos!G10=\"\",Puestos!H10=\"\"),\"\",IF(Puestos!H10<Puestos!G10,Puestos!F10,Puestos!E10))","v":""},"","",{"$f":"IF(OR('KO8'!G52=\"\",'KO8'!H52=\"\"),\"\",IF('KO8'!H52>'KO8'!G52,'KO8'!F52,'KO8'!E52))","v":""}]

{"sheet":"Actas","index":8,"n_rows":30,"n_cols":4,"rows_kept":30,"cut":false,"hidden":false,"merged":[[27,3,27,4],[29,1,29,2],[19,3,19,4],[21,1,21,2],[24,0,24,4],[25,0,25,4],[18,0,18,2],[18,3,18,4],[26,0,26,2],[26,3,26,4],[17,0,17,4],[0,0,0,4],[1,0,1,4],[3,3,3,4],[5,1,5,2],[8,0,8,4],[9,0,9,4],[11,3,11,4],[13,1,13,2],[16,0,16,4],[2,0,2,2],[2,3,2,4],[10,0,10,2],[10,3,10,4]]}
[{"$f":"Participantes!$B$1","v":"CAMPEONATO DE ESPAÑA"}]
[{"$f":"Participantes!$B$2","v":"DUPLETAS PRIMERA"}]
[]
["Pista","EQUIPO 1","EQUIPO 2","Resultado"]
[]
[null,"Firma"]
[]
[]
[{"$f":"Participantes!$B$1","v":"CAMPEONATO DE ESPAÑA"}]
[{"$f":"Participantes!$B$2","v":"DUPLETAS PRIMERA"}]
[]
["Pista","EQUIPO 1","EQUIPO 2","Resultado"]
[]
[null,"Firma"]
[]
[]
[{"$f":"Participantes!$B$1","v":"CAMPEONATO DE ESPAÑA"}]
[{"$f":"Participantes!$B$2","v":"DUPLETAS PRIMERA"}]
[]
["Pista","EQUIPO 1","EQUIPO 2","Resultado"]
[]
[null,"Firma"]
[]
[]
[{"$f":"Participantes!$B$1","v":"CAMPEONATO DE ESPAÑA"}]
[{"$f":"Participantes!$B$2","v":"DUPLETAS PRIMERA"}]
[]
["Pista","EQUIPO 1","EQUIPO 2","Resultado"]
[]
[null,"Firma"]

{"sheet":"Manual","index":9,"n_rows":31,"n_cols":4,"rows_kept":31,"cut":false,"hidden":false,"merged":[[5,1,5,4],[6,1,6,4],[7,1,7,4],[8,1,8,4],[1,1,1,4],[3,1,3,4],[9,1,9,4],[31,1,31,3],[32,1,32,3],[34,1,34,3],[33,1,33,3],[10,1,10,4],[11,1,11,4]]}
[]
[null,"CAMPEONATO DE ESPAÑA"]
[]
[null,"MANUAL"]
[]
[null,"1º En la hoja de \"Participación\" rellenar La denominación del Campeonato, la categoría, el nombre de los Equipos y de las Federaciones que participaran en el Campeonato."]
[null,"2º Para rellenar la hoja del sorteo solo se tiene que poner el numero del sorteo en la hoja de \"Participación\""]
[null,"3º Los números del sorteo no son del 1 al 32, sino que será un numero compuesto por dos cifras la primera indica el grupo y la segunda la posición en el grupo ejemplo: numero 62 quiere decir que es el grupo 6 posición 2."]
[null,"4º Los emparejamientos están automatizados solo se tiene que añadir los resultados."]
[null,"5º Para imprimir usar la hoja \"Control de Impresión\""]
[null,"6º Las celdas en las que no se tiene que introducir datos están protegidas, para desproteger no se necesita clave"]
[null,"7º Tabla de las federaciones y siglas"]
[null,null,"Federación","Siglas"]
[null,null,"FEDERACIÓN ANDALUZA","AN"]
[null,null,"FEDERACIÓN ARAGONESA","AR"]
[null,null,"FEDERACIÓN ASTURIANA","AS"]
[null,null,"FEDERACIÓN BALEAR","IB"]
[null,null,"FEDERACIÓN CANARIA","CN"]
[null,null,"FEDERACIÓN CÁNTABRA","CB"]
[null,null,"FEDERACIÓN CASTELLANO-LEONESA","CL"]
[null,null,"FEDERACIÓN CASTELLANO-MANCHEGA","CM"]
[null,null,"FEDERACIÓN CATALANA","CT"]
[null,null,"FEDERACIÓN CEUTÍ","CE"]
[null,null,"FEDERACIÓN EXTREMEÑA","EX"]
[null,null,"FEDERACIÓN GALEGA","GA"]
[null,null,"FEDERACIÓN MADRILEÑA","MD"]
[null,null,"FEDERACIÓN MELILLENSE","ML"]
[null,null,"FEDERACIÓN MURCIANA","MC"]
[null,null,"FEDERACIÓN RIOJANA","RI"]
[null,null,"FEDERACIÓN COMUNIDAD VALENCIANA","VC"]
[null,null,"FEDERACIÓN VASCA","PV"]